{"text_format":"3","workbook":"xlsx","n_sheets":21,"sheets":["Übersicht Personalkosten gesamt","Stundennachweise Mitarbeiter A","Jahresstd.satz Mitarbeiter A","Stundennachweise Mitarbeiter B","Jahresstd.satz Mitarbeiter B","Stundennachweise Mitarbeiter C","Jahresstd.satz Mitarbeiter C","Stundennachweise Mitarbeiter D","Jahresstd.satz Mitarbeiter D","Stundennachweise Mitarbeiter E","Jahresstd.satz Mitarbeiter E","Stundennachweise Mitarbeiter F","Jahresstd.satz Mitarbeiter F","Stundennachweise Mitarbeiter G","Jahresstd.satz Mitarbeiter G","Stundennachweise Mitarbeiter H","Jahresstd.satz Mitarbeiter H","Stundennachweise Mitarbeiter I","Jahresstd.satz Mitarbeiter I","Stundennachweise Mitarbeiter J","Jahresstd.satz Mitarbeiter J"],"read":"whole","date_system":"1900"}

{"sheet":"Übersicht Personalkosten gesamt","index":0,"n_rows":47,"n_cols":5,"rows_kept":47,"merged":[[5,0,5,4],[6,0,6,4]]}
[{"$nulls":3},"Förderkennzeichen:",{"$f":"IF('Stundennachweise Mitarbeiter A'!AD2=\"\",\"\",'Stundennachweise Mitarbeiter A'!AD2)","v":""}]
["   Zuwendungsempfänger (Firmenstempel)",null,null,"Jahr:",{"$f":"'Stundennachweise Mitarbeiter A'!C13","v":0}]
[]
[]
[]
["Übersicht Personalkosten bei pauschalierter Abrechnung"]
["gemäß Nr. 6 ANBest-P-Kosten (Anlage 3 zum Verwendungsnachweis)"]
[]
[]
["Mitarbeiter      (Name, Vorname, Berufsbezeichung)","Abrechnungs-fähiger Zeitraum von - bis","Jahresstundensatz lt. Anlage 2 \n\n                                                                     EUR","Abgerechnete vorhabenbezogene produktive Jahrsstunden lt. Anlage 2","Abrechnungsfähige Personaleinzelkosten \n\n\nEUR"]
[{"$f":"'Jahresstd.satz Mitarbeiter A'!$E$14","v":""},null,{"$f":"'Jahresstd.satz Mitarbeiter A'!L30","v":""},{"$f":"IF('Jahresstd.satz Mitarbeiter A'!O19=\"\",\"\",'Jahresstd.satz Mitarbeiter A'!O19)","v":{"v":0,"d":"0.00"}},{"$f":"IF(C11=\"\",\"\",C11*D11)","v":""}]
[{"$f":"'Jahresstd.satz Mitarbeiter B'!E14","v":""},null,{"$f":"'Jahresstd.satz Mitarbeiter B'!L30","v":""},{"$f":"IF('Jahresstd.satz Mitarbeiter B'!O19=\"\",\"\",'Jahresstd.satz Mitarbeiter B'!O19)","v":{"v":0,"d":"0.00"}},{"$f":"IF(C12=\"\",\"\",C12*D12)","v":""}]
[{"$f":"'Jahresstd.satz Mitarbeiter C'!E14","v":""},null,{"$f":"'Jahresstd.satz Mitarbeiter C'!L30","v":""},{"$f":"IF('Jahresstd.satz Mitarbeiter C'!O19=\"\",\"\",'Jahresstd.satz Mitarbeiter C'!O19)","v":{"v":0,"d":"0.00"}},""]
[{"$f":"'Jahresstd.satz Mitarbeiter D'!E14","v":""},null,{"$f":"'Jahresstd.satz Mitarbeiter D'!L30","v":""},{"$f":"IF('Jahresstd.satz Mitarbeiter D'!O19=\"\",\"\",'Jahresstd.satz Mitarbeiter D'!O19)","v":{"v":0,"d":"0.00"}},""]
[{"$f":"'Jahresstd.satz Mitarbeiter E'!E14","v":""},null,{"$f":"'Jahresstd.satz Mitarbeiter E'!L30","v":""},{"$f":"IF('Jahresstd.satz Mitarbeiter E'!O19=\"\",\"\",'Jahresstd.satz Mitarbeiter E'!O19)","v":{"v":0,"d":"0.00"}},""]
[{"$f":"'Jahresstd.satz Mitarbeiter F'!E14","v":""},null,{"$f":"'Jahresstd.satz Mitarbeiter F'!L30","v":""},{"$f":"IF('Jahresstd.satz Mitarbeiter F'!O19=\"\",\"\",'Jahresstd.satz Mitarbeiter F'!O19)","v":{"v":0,"d":"0.00"}},""]
[{"$f":"'Jahresstd.satz Mitarbeiter G'!E14","v":""},null,{"$f":"'Jahresstd.satz Mitarbeiter G'!L30","v":""},{"$f":"IF('Jahresstd.satz Mitarbeiter G'!O19=\"\",\"\",'Jahresstd.satz Mitarbeiter G'!O19)","v":{"v":0,"d":"0.00"}},""]
[{"$f":"'Jahresstd.satz Mitarbeiter H'!E14","v":""},null,{"$f":"'Jahresstd.satz Mitarbeiter H'!L30","v":""},{"$f":"IF('Jahresstd.satz Mitarbeiter H'!O19=\"\",\"\",'Jahresstd.satz Mitarbeiter H'!O19)","v":{"v":0,"d":"0.00"}},""]
[{"$f":"'Jahresstd.satz Mitarbeiter I'!E14","v":""},null,{"$f":"'Jahresstd.satz Mitarbeiter I'!L30","v":""},{"$f":"IF('Jahresstd.satz Mitarbeiter I'!O19=\"\",\"\",'Jahresstd.satz Mitarbeiter I'!O19)","v":{"v":0,"d":"0.00"}},""]
[{"$f":"'Jahresstd.satz Mitarbeiter J'!E14","v":""},null,{"$f":"'Jahresstd.satz Mitarbeiter J'!L30","v":""},{"$f":"IF('Jahresstd.satz Mitarbeiter J'!O19=\"\",\"\",'Jahresstd.satz Mitarbeiter J'!O19)","v":{"v":0,"d":"0.00"}},""]
[{"$nulls":4},""]
[{"$nulls":4},""]
[{"$nulls":4},""]
[{"$nulls":4},""]
[{"$nulls":4},""]
[{"$nulls":4},""]
[{"$nulls":4},""]
[{"$nulls":4},""]
[{"$nulls":4},""]
[{"$nulls":4},""]
[{"$nulls":4},""]
[{"$nulls":4},""]
[{"$nulls":4},""]
[{"$nulls":4},""]
[{"$nulls":4},""]
[{"$nulls":4},""]
[{"$nulls":4},""]
[{"$nulls":4},""]
[{"$nulls":4},""]
[{"$nulls":4},""]
[{"$nulls":4},""]
[{"$nulls":4},""]
[{"$nulls":4},""]
[{"$nulls":4},""]
[{"$nulls":3},"Summe der Personaleinzelkosten :      ",{"$f":"SUM(E11:E44)","v":{"v":0,"d":"0.00"}}]
[{"$nulls":3},"Pauschalzuschlag (120 v.H. der Personaleinzelkosten:      ",{"$f":"E45*1.2","v":{"v":0,"d":"0.00"}}]
[{"$nulls":3},"Zuwendungsfähige Personalkosten und mit der Pauschale abgegoltene Kosten:      ",{"$f":"SUM(E45:E46)","v":{"v":0,"d":"0.00"}}]

{"sheet":"Stundennachweise Mitarbeiter A","index":1,"n_rows":432,"n_cols":35,"rows_kept":432,"merged":[[1,0,1,7],[1,29,1,34],[3,0,3,34],[4,0,4,34],[9,0,9,34],[12,11,12,34],[17,0,18,2],[17,34,18,34],[19,0,19,2],[20,0,20,2],[21,0,21,2],[25,0,25,2],[28,10,28,16],[29,10,29,16],[37,0,37,7],[37,29,37,34],[39,0,39,34],[40,0,40,34],[45,0,45,34],[48,11,48,34],[53,0,54,2],[53,34,54,34],[55,0,55,2],[56,0,56,2],[57,0,57,2],[61,0,61,2],[64,10,64,16],[65,10,65,16],[73,0,73,7],[73,29,73,34],[75,0,75,34],[76,0,76,34],[81,0,81,34],[84,11,84,34],[89,0,90,2],[89,34,90,34],[91,0,91,2],[92,0,92,2],[93,0,93,2],[97,0,97,2],[100,10,100,16],[101,10,101,16],[109,0,109,7],[109,29,109,34],[111,0,111,34],[112,0,112,34],[117,0,117,34],[120,11,120,34],[125,0,126,2],[125,34,126,34],[127,0,127,2],[128,0,128,2],[129,0,129,2],[133,0,133,2],[136,10,136,16],[137,10,137,16],[145,0,145,7],[145,29,145,34],[147,0,147,34],[148,0,148,34],[153,0,153,34],[156,11,156,34],[161,0,162,2],[161,34,162,34],[163,0,163,2],[164,0,164,2],[165,0,165,2],[169,0,169,2],[172,10,172,16],[173,10,173,16],[181,0,181,7],[181,29,181,34],[183,0,183,34],[184,0,184,34],[189,0,189,34],[192,11,192,34],[197,0,198,2],[197,34,198,34],[199,0,199,2],[200,0,200,2],[201,0,201,2],[205,0,205,2],[208,10,208,16],[209,10,209,16],[217,0,217,7],[217,29,217,34],[219,0,219,34],[220,0,220,34],[225,0,225,34],[228,11,228,34],[233,0,234,2],[233,34,234,34],[235,0,235,2],[236,0,236,2],[237,0,237,2],[241,0,241,2],[244,10,244,16],[245,10,245,16],[253,0,253,7],[253,29,253,34],[255,0,255,34],[256,0,256,34],[261,0,261,34],[264,11,264,34],[269,0,270,2],[269,34,270,34],[271,0,271,2],[272,0,272,2],[273,0,273,2],[277,0,277,2],[280,10,280,16],[281,10,281,16],[289,0,289,7],[289,29,289,34],[291,0,291,34],[292,0,292,34],[297,0,297,34],[300,11,300,34],[305,0,306,2],[305,34,306,34],[307,0,307,2],[308,0,308,2],[309,0,309,2],[313,0,313,2],[316,10,316,16],[317,10,317,16],[325,0,325,7],[325,29,325,34],[327,0,327,34],[328,0,328,34],[333,0,333,34],[336,11,336,34],[341,0,342,2],[341,34,342,34],[343,0,343,2],[344,0,344,2],[345,0,345,2],[349,0,349,2],[352,10,352,16],[353,10,353,16],[361,0,361,7],[361,29,361,34],[363,0,363,34],[364,0,364,34],[369,0,369,34],[372,11,372,34],[377,0,378,2],[377,34,378,34],[379,0,379,2],[380,0,380,2],[381,0,381,2],[385,0,385,2],[388,10,388,16],[389,10,389,16],[397,0,397,7],[397,29,397,34],[399,0,399,34],[400,0,400,34],[405,0,405,34],[408,11,408,34],[413,0,414,2],[413,34,414,34],[415,0,415,2],[416,0,416,2],[417,0,417,2],[421,0,421,2],[424,10,424,16],[425,10,425,16]]}
[]
[{"$nulls":23},"Förderkennzeichen :"]
["   Zuwendungsempfänger (Firmenstempel)"]
["Stundennachweis"]
["für pauschalierte Abrechnung gemäß Nr. 6 ANBest-P-Kosten (Anlage 1 zum Verwendungsnachweis)"]
[]
["Der Original-Stundennachweis verbleibt beim Zuwendungsempfänger."]
[]
["Vorhabenthema"]
[]
[]
["Monat",null,"Jahr",{"$nulls":8},"Mitarbeiter(in) [Name, Vorname]"]
["Januar"]
[]
["Die zu Lasten des Vorhabens abzurechnenden Personalstunden sind täglich eingenhändig von der betreffenden Person zu erfassen. Nur die produktiven, für das Vorhaben"]
["geleisteten Stundenn sind zuwendungsfähig."]
[]
["Tätigkeiten",null,null,"Arbeitszeiten in Stunden je Kalendertag",{"$nulls":30},"Summe der \nMonats- stunden"]
[{"$nulls":3},1,2,3,4,5,6,7,8,9,10,11,12,13,14,15,16,17,18,19,20,21,22,23,24,25,26,27,28,29,30,31]
["Vorhabenbezogen",{"$nulls":33},{"$f":"SUM(D20:AH20)","v":{"v":0,"d":"0.00"}}]
["Sonstige 1)",{"$nulls":33},{"$f":"SUM(D21:AH21)","v":{"v":0,"d":"0.00"}}]
["Produktive Gesamtstunden",null,null,{"$f":"SUM(D20:D21)","v":{"v":0,"d":"0.00"}},{"$f":"SUM(E20:E21)","v":{"v":0,"d":"0.00"}},{"v":0,"d":"0.00"},{"v":0,"d":"0.00"},{"v":0,"d":"0.00"},{"v":0,"d":"0.00"},{"v":0,"d":"0.00"},{"v":0,"d":"0.00"},{"v":0,"d":"0.00"},{"v":0,"d":"0.00"},{"v":0,"d":"0.00"},{"v":0,"d":"0.00"},{"v":0,"d":"0.00"},{"v":0,"d":"0.00"},{"v":0,"d":"0.00"},{"v":0,"d":"0.00"},{"v":0,"d":"0.00"},{"v":0,"d":"0.00"},{"v":0,"d":"0.00"},{"v":0,"d":"0.00"},{"v":0,"d":"0.00"},{"v":0,"d":"0.00"},{"v":0,"d":"0.00"},{"v":0,"d":"0.00"},{"v":0,"d":"0.00"},{"v":0,"d":"0.00"},{"v":0,"d":"0.00"},{"v":0,"d":"0.00"},{"v":0,"d":"0.00"},{"v":0,"d":"0.00"},{"v":0,"d":"0.00"},{"$f":"SUM(D22:AH22)","v":{"v":0,"d":"0.00"}}]
[]
[]
["nachrichtlich:"]
["Fehlzeiten (z.B. Urlaub, \nKrankheit, Fortbildung)",{"$nulls":33},{"$f":"SUM(D26:AH26)","v":{"v":0,"d":"0.00"}}]
[]
[]
["1)  ggf. Angabe des FKZ. anderer geförderter Projekte:"]
[]
[]
[]
[]
[]
[]
["Unterschrift des Vorgesetzten",{"$nulls":12},"Unterschrift des Mitarbeiters"]
[]
[{"$nulls":23},"Förderkennzeichen :",{"$nulls":5},{"$f":"IF($AD$2=\"\",\"\",$AD$2)","v":""}]
["   Zuwendungsempfänger (Firmenstempel)"]
["Stundennachweis"]
["für pauschalierte Abrechnung gemäß Nr. 6 ANBest-P-Kosten (Anlage 1 zum Verwendungsnachweis)"]
[]
["Der Original-Stundennachweis verbleibt beim Zuwendungsempfänger."]
[]
["Vorhabenthema"]
[{"$f":"IF($A$10=\"\",\"\",$A10)","v":""}]
[]
["Monat",null,"Jahr",{"$nulls":8},"Mitarbeiter(in) [Name, Vorname]"]
["Februar",null,{"$f":"C13","v":0},{"$nulls":8},{"$f":"IF($L$13=\"\",\"\",$L$13)","v":""}]
[]
["Die zu Lasten des Vorhabens abzurechnenden Personalstunden sind täglich eingenhändig von der betreffenden Person zu erfassen. Nur die produktiven, für das Vorhaben"]
["geleisteten Stundenn sind zuwendungsfähig."]
[]
["Tätigkeiten",null,null,"Arbeitszeiten in Stunden je Kalendertag",{"$nulls":30},"Summe der \nMonats- stunden"]
[{"$nulls":3},1,2,3,4,5,6,7,8,9,10,11,12,13,14,15,16,17,18,19,20,21,22,23,24,25,26,27,28,29,30,31]
["Vorhabenbezogen",{"$nulls":33},{"$f":"SUM(D56:AH56)","v":{"v":0,"d":"0.00"}}]
["Sonstige 1)",{"$nulls":33},{"$f":"SUM(D57:AH57)","v":{"v":0,"d":"0.00"}}]
["Produktive Gesamtstunden",null,null,{"$f":"SUM(D56:D57)","v":{"v":0,"d":"0.00"}},{"$f":"SUM(E56:E57)","v":{"v":0,"d":"0.00"}},{"v":0,"d":"0.00"},{"v":0,"d":"0.00"},{"v":0,"d":"0.00"},{"v":0,"d":"0.00"},{"v":0,"d":"0.00"},{"v":0,"d":"0.00"},{"v":0,"d":"0.00"},{"v":0,"d":"0.00"},{"v":0,"d":"0.00"},{"v":0,"d":"0.00"},{"v":0,"d":"0.00"},{"v":0,"d":"0.00"},{"v":0,"d":"0.00"},{"v":0,"d":"0.00"},{"v":0,"d":"0.00"},{"v":0,"d":"0.00"},{"v":0,"d":"0.00"},{"v":0,"d":"0.00"},{"v":0,"d":"0.00"},{"v":0,"d":"0.00"},{"v":0,"d":"0.00"},{"v":0,"d":"0.00"},{"v":0,"d":"0.00"},{"v":0,"d":"0.00"},{"v":0,"d":"0.00"},{"v":0,"d":"0.00"},{"v":0,"d":"0.00"},{"v":0,"d":"0.00"},{"v":0,"d":"0.00"},{"$f":"SUM(D58:AH58)","v":{"v":0,"d":"0.00"}}]
[]
[]
["nachrichtlich:"]
["Fehlzeiten (z.B. Urlaub, \nKrankheit, Fortbildung)",{"$nulls":33},{"$f":"SUM(D62:AH62)","v":{"v":0,"d":"0.00"}}]
[]
[]
["1)  ggf. Angabe des FKZ. anderer geförderter Projekte:"]
[]
[]
[]
[]
[]
[]
["Unterschrift des Vorgesetzten",{"$nulls":12},"Unterschrift des Mitarbeiters"]
[]
[{"$nulls":23},"Förderkennzeichen :",{"$nulls":5},{"$f":"IF($AD$2=\"\",\"\",$AD$2)","v":""}]
["   Zuwendungsempfänger (Firmenstempel)"]
["Stundennachweis"]
["für pauschalierte Abrechnung gemäß Nr. 6 ANBest-P-Kosten (Anlage 1 zum Verwendungsnachweis)"]
[]
["Der Original-Stundennachweis verbleibt beim Zuwendungsempfänger."]
[]
["Vorhabenthema"]
[{"$f":"IF($A$10=\"\",\"\",$A46)","v":""}]
[]
["Monat",null,"Jahr",{"$nulls":8},"Mitarbeiter(in) [Name, Vorname]"]
["März",null,{"$f":"C13","v":0},{"$nulls":8},{"$f":"IF($L$13=\"\",\"\",$L$13)","v":""}]
[]
["Die zu Lasten des Vorhabens abzurechnenden Personalstunden sind täglich eingenhändig von der betreffenden Person zu erfassen. Nur die produktiven, für das Vorhaben"]
["geleisteten Stundenn sind zuwendungsfähig."]
[]
["Tätigkeiten",null,null,"Arbeitszeiten in Stunden je Kalendertag",{"$nulls":30},"Summe der \nMonats- stunden"]
[{"$nulls":3},1,2,3,4,5,6,7,8,9,10,11,12,13,14,15,16,17,18,19,20,21,22,23,24,25,26,27,28,29,30,31]
["Vorhabenbezogen",{"$nulls":33},{"$f":"SUM(D92:AH92)","v":{"v":0,"d":"0.00"}}]
["Sonstige 1)",{"$nulls":33},{"$f":"SUM(D93:AH93)","v":{"v":0,"d":"0.00"}}]
["Produktive Gesamtstunden",null,null,{"$f":"SUM(D92:D93)","v":{"v":0,"d":"0.00"}},{"$f":"SUM(E92:E93)","v":{"v":0,"d":"0.00"}},{"v":0,"d":"0.00"},{"v":0,"d":"0.00"},{"v":0,"d":"0.00"},{"v":0,"d":"0.00"},{"v":0,"d":"0.00"},{"v":0,"d":"0.00"},{"v":0,"d":"0.00"},{"v":0,"d":"0.00"},{"v":0,"d":"0.00"},{"v":0,"d":"0.00"},{"v":0,"d":"0.00"},{"v":0,"d":"0.00"},{"v":0,"d":"0.00"},{"v":0,"d":"0.00"},{"v":0,"d":"0.00"},{"v":0,"d":"0.00"},{"v":0,"d":"0.00"},{"v":0,"d":"0.00"},{"v":0,"d":"0.00"},{"v":0,"d":"0.00"},{"v":0,"d":"0.00"},{"v":0,"d":"0.00"},{"v":0,"d":"0.00"},{"v":0,"d":"0.00"},{"v":0,"d":"0.00"},{"v":0,"d":"0.00"},{"v":0,"d":"0.00"},{"v":0,"d":"0.00"},{"v":0,"d":"0.00"},{"$f":"SUM(D94:AH94)","v":{"v":0,"d":"0.00"}}]
[]
[]
["nachrichtlich:"]
["Fehlzeiten (z.B. Urlaub, \nKrankheit, Fortbildung)",{"$nulls":33},{"$f":"SUM(D98:AH98)","v":{"v":0,"d":"0.00"}}]
[]
[]
["1)  ggf. Angabe des FKZ. anderer geförderter Projekte:"]
[]
[]
[]
[]
[]
[]
["Unterschrift des Vorgesetzten",{"$nulls":12},"Unterschrift des Mitarbeiters"]
[]
[{"$nulls":23},"Förderkennzeichen :",{"$nulls":5},{"$f":"IF($AD$2=\"\",\"\",$AD$2)","v":""}]
["   Zuwendungsempfänger (Firmenstempel)"]
["Stundennachweis"]
["für pauschalierte Abrechnung gemäß Nr. 6 ANBest-P-Kosten (Anlage 1 zum Verwendungsnachweis)"]
[]
["Der Original-Stundennachweis verbleibt beim Zuwendungsempfänger."]
[]
["Vorhabenthema"]
[{"$f":"IF($A$10=\"\",\"\",$A82)","v":""}]
[]
["Monat",null,"Jahr",{"$nulls":8},"Mitarbeiter(in) [Name, Vorname]"]
["April",null,{"$f":"C13","v":0},{"$nulls":8},{"$f":"IF($L$13=\"\",\"\",$L$13)","v":""}]
[]
["Die zu Lasten des Vorhabens abzurechnenden Personalstunden sind täglich eingenhändig von der betreffenden Person zu erfassen. Nur die produktiven, für das Vorhaben"]
["geleisteten Stundenn sind zuwendungsfähig."]
[]
["Tätigkeiten",null,null,"Arbeitszeiten in Stunden je Kalendertag",{"$nulls":30},"Summe der \nMonats- stunden"]
[{"$nulls":3},1,2,3,4,5,6,7,8,9,10,11,12,13,14,15,16,17,18,19,20,21,22,23,24,25,26,27,28,29,30,31]
["Vorhabenbezogen",{"$nulls":33},{"$f":"SUM(D128:AH128)","v":{"v":0,"d":"0.00"}}]
["Sonstige 1)",{"$nulls":33},{"$f":"SUM(D129:AH129)","v":{"v":0,"d":"0.00"}}]
["Produktive Gesamtstunden",null,null,{"$f":"SUM(D128:D129)","v":{"v":0,"d":"0.00"}},{"$f":"SUM(E128:E129)","v":{"v":0,"d":"0.00"}},{"v":0,"d":"0.00"},{"v":0,"d":"0.00"},{"v":0,"d":"0.00"},{"v":0,"d":"0.00"},{"v":0,"d":"0.00"},{"v":0,"d":"0.00"},{"v":0,"d":"0.00"},{"v":0,"d":"0.00"},{"v":0,"d":"0.00"},{"v":0,"d":"0.00"},{"v":0,"d":"0.00"},{"v":0,"d":"0.00"},{"v":0,"d":"0.00"},{"v":0,"d":"0.00"},{"v":0,"d":"0.00"},{"v":0,"d":"0.00"},{"v":0,"d":"0.00"},{"v":0,"d":"0.00"},{"v":0,"d":"0.00"},{"v":0,"d":"0.00"},{"v":0,"d":"0.00"},{"v":0,"d":"0.00"},{"v":0,"d":"0.00"},{"v":0,"d":"0.00"},{"v":0,"d":"0.00"},{"v":0,"d":"0.00"},{"v":0,"d":"0.00"},{"v":0,"d":"0.00"},{"v":0,"d":"0.00"},{"$f":"SUM(D130:AH130)","v":{"v":0,"d":"0.00"}}]
[]
[]
["nachrichtlich:"]
["Fehlzeiten (z.B. Urlaub, \nKrankheit, Fortbildung)",{"$nulls":33},{"$f":"SUM(D134:AH134)","v":{"v":0,"d":"0.00"}}]
[]
[]
["1)  ggf. Angabe des FKZ. anderer geförderter Projekte:"]
[]
[]
[]
[]
[]
[]
["Unterschrift des Vorgesetzten",{"$nulls":12},"Unterschrift des Mitarbeiters"]
[]
[{"$nulls":23},"Förderkennzeichen :",{"$nulls":5},{"$f":"IF($AD$2=\"\",\"\",$AD$2)","v":""}]
["   Zuwendungsempfänger (Firmenstempel)"]
["Stundennachweis"]
["für pauschalierte Abrechnung gemäß Nr. 6 ANBest-P-Kosten (Anlage 1 zum Verwendungsnachweis)"]
[]
["Der Original-Stundennachweis verbleibt beim Zuwendungsempfänger."]
[]
["Vorhabenthema"]
[{"$f":"IF($A$10=\"\",\"\",$A118)","v":""}]
[]
["Monat",null,"Jahr",{"$nulls":8},"Mitarbeiter(in) [Name, Vorname]"]
["Mai",null,{"$f":"C13","v":0},{"$nulls":8},{"$f":"IF($L$13=\"\",\"\",$L$13)","v":""}]
[]
["Die zu Lasten des Vorhabens abzurechnenden Personalstunden sind täglich eingenhändig von der betreffenden Person zu erfassen. Nur die produktiven, für das Vorhaben"]
["geleisteten Stundenn sind zuwendungsfähig."]
[]
["Tätigkeiten",null,null,"Arbeitszeiten in Stunden je Kalendertag",{"$nulls":30},"Summe der \nMonats- stunden"]
[{"$nulls":3},1,2,3,4,5,6,7,8,9,10,11,12,13,14,15,16,17,18,19,20,21,22,23,24,25,26,27,28,29,30,31]
["Vorhabenbezogen",{"$nulls":33},{"$f":"SUM(D164:AH164)","v":{"v":0,"d":"0.00"}}]
["Sonstige 1)",{"$nulls":33},{"$f":"SUM(D165:AH165)","v":{"v":0,"d":"0.00"}}]
["Produktive Gesamtstunden",null,null,{"$f":"SUM(D164:D165)","v":{"v":0,"d":"0.00"}},{"$f":"SUM(E164:E165)","v":{"v":0,"d":"0.00"}},{"v":0,"d":"0.00"},{"v":0,"d":"0.00"},{"v":0,"d":"0.00"},{"v":0,"d":"0.00"},{"v":0,"d":"0.00"},{"v":0,"d":"0.00"},{"v":0,"d":"0.00"},{"v":0,"d":"0.00"},{"v":0,"d":"0.00"},{"v":0,"d":"0.00"},{"v":0,"d":"0.00"},{"v":0,"d":"0.00"},{"v":0,"d":"0.00"},{"v":0,"d":"0.00"},{"v":0,"d":"0.00"},{"v":0,"d":"0.00"},{"v":0,"d":"0.00"},{"v":0,"d":"0.00"},{"v":0,"d":"0.00"},{"v":0,"d":"0.00"},{"v":0,"d":"0.00"},{"v":0,"d":"0.00"},{"v":0,"d":"0.00"},{"v":0,"d":"0.00"},{"v":0,"d":"0.00"},{"v":0,"d":"0.00"},{"v":0,"d":"0.00"},{"v":0,"d":"0.00"},{"v":0,"d":"0.00"},{"$f":"SUM(D166:AH166)","v":{"v":0,"d":"0.00"}}]
[]
[]
["nachrichtlich:"]
["Fehlzeiten (z.B. Urlaub, \nKrankheit, Fortbildung)",{"$nulls":33},{"$f":"SUM(D170:AH170)","v":{"v":0,"d":"0.00"}}]
[]
[]
["1)  ggf. Angabe des FKZ. anderer geförderter Projekte:"]
[]
[]
[]
[]
[]
[]
["Unterschrift des Vorgesetzten",{"$nulls":12},"Unterschrift des Mitarbeiters"]
[]
[{"$nulls":23},"Förderkennzeichen :",{"$nulls":5},{"$f":"IF($AD$2=\"\",\"\",$AD$2)","v":""}]
["   Zuwendungsempfänger (Firmenstempel)"]
["Stundennachweis"]
["für pauschalierte Abrechnung gemäß Nr. 6 ANBest-P-Kosten (Anlage 1 zum Verwendungsnachweis)"]
[]
["Der Original-Stundennachweis verbleibt beim Zuwendungsempfänger."]
[]
["Vorhabenthema"]
[{"$f":"IF($A$10=\"\",\"\",$A154)","v":""}]
[]
["Monat",null,"Jahr",{"$nulls":8},"Mitarbeiter(in) [Name, Vorname]"]
["Juni",null,{"$f":"C13","v":0},{"$nulls":8},{"$f":"IF($L$13=\"\",\"\",$L$13)","v":""}]
[]
["Die zu Lasten des Vorhabens abzurechnenden Personalstunden sind täglich eingenhändig von der betreffenden Person zu erfassen. Nur die produktiven, für das Vorhaben"]
["geleisteten Stundenn sind zuwendungsfähig."]
[]
["Tätigkeiten",null,null,"Arbeitszeiten in Stunden je Kalendertag",{"$nulls":30},"Summe der \nMonats- stunden"]
[{"$nulls":3},1,2,3,4,5,6,7,8,9,10,11,12,13,14,15,16,17,18,19,20,21,22,23,24,25,26,27,28,29,30,31]
["Vorhabenbezogen",{"$nulls":33},{"$f":"SUM(D200:AH200)","v":{"v":0,"d":"0.00"}}]
["Sonstige 1)",{"$nulls":33},{"$f":"SUM(D201:AH201)","v":{"v":0,"d":"0.00"}}]
["Produktive Gesamtstunden",null,null,{"$f":"SUM(D200:D201)","v":{"v":0,"d":"0.00"}},{"$f":"SUM(E200:E201)","v":{"v":0,"d":"0.00"}},{"v":0,"d":"0.00"},{"v":0,"d":"0.00"},{"v":0,"d":"0.00"},{"v":0,"d":"0.00"},{"v":0,"d":"0.00"},{"v":0,"d":"0.00"},{"v":0,"d":"0.00"},{"v":0,"d":"0.00"},{"v":0,"d":"0.00"},{"v":0,"d":"0.00"},{"v":0,"d":"0.00"},{"v":0,"d":"0.00"},{"v":0,"d":"0.00"},{"v":0,"d":"0.00"},{"v":0,"d":"0.00"},{"v":0,"d":"0.00"},{"v":0,"d":"0.00"},{"v":0,"d":"0.00"},{"v":0,"d":"0.00"},{"v":0,"d":"0.00"},{"v":0,"d":"0.00"},{"v":0,"d":"0.00"},{"v":0,"d":"0.00"},{"v":0,"d":"0.00"},{"v":0,"d":"0.00"},{"v":0,"d":"0.00"},{"v":0,"d":"0.00"},{"v":0,"d":"0.00"},{"v":0,"d":"0.00"},{"$f":"SUM(D202:AH202)","v":{"v":0,"d":"0.00"}}]
[]
[]
["nachrichtlich:"]
["Fehlzeiten (z.B. Urlaub, \nKrankheit, Fortbildung)",{"$nulls":33},{"$f":"SUM(D206:AH206)","v":{"v":0,"d":"0.00"}}]
[]
[]
["1)  ggf. Angabe des FKZ. anderer geförderter Projekte:"]
[]
[]
[]
[]
[]
[]
["Unterschrift des Vorgesetzten",{"$nulls":12},"Unterschrift des Mitarbeiters"]
[]
[{"$nulls":23},"Förderkennzeichen :",{"$nulls":5},{"$f":"IF($AD$2=\"\",\"\",$AD$2)","v":""}]
["   Zuwendungsempfänger (Firmenstempel)"]
["Stundennachweis"]
["für pauschalierte Abrechnung gemäß Nr. 6 ANBest-P-Kosten (Anlage 1 zum Verwendungsnachweis)"]
[]
["Der Original-Stundennachweis verbleibt beim Zuwendungsempfänger."]
[]
["Vorhabenthema"]
[{"$f":"IF($A$10=\"\",\"\",$A190)","v":""}]
[]
["Monat",null,"Jahr",{"$nulls":8},"Mitarbeiter(in) [Name, Vorname]"]
["Juli",null,{"$f":"C13","v":0},{"$nulls":8},{"$f":"IF($L$13=\"\",\"\",$L$13)","v":""}]
[]
["Die zu Lasten des Vorhabens abzurechnenden Personalstunden sind täglich eingenhändig von der betreffenden Person zu erfassen. Nur die produktiven, für das Vorhaben"]
["geleisteten Stundenn sind zuwendungsfähig."]
[]
["Tätigkeiten",null,null,"Arbeitszeiten in Stunden je Kalendertag",{"$nulls":30},"Summe der \nMonats- stunden"]
[{"$nulls":3},1,2,3,4,5,6,7,8,9,10,11,12,13,14,15,16,17,18,19,20,21,22,23,24,25,26,27,28,29,30,31]
["Vorhabenbezogen",{"$nulls":33},{"$f":"SUM(D236:AH236)","v":{"v":0,"d":"0.00"}}]
["Sonstige 1)",{"$nulls":33},{"$f":"SUM(D237:AH237)","v":{"v":0,"d":"0.00"}}]
["Produktive Gesamtstunden",null,null,{"$f":"SUM(D236:D237)","v":{"v":0,"d":"0.00"}},{"$f":"SUM(E236:E237)","v":{"v":0,"d":"0.00"}},{"v":0,"d":"0.00"},{"v":0,"d":"0.00"},{"v":0,"d":"0.00"},{"v":0,"d":"0.00"},{"v":0,"d":"0.00"},{"v":0,"d":"0.00"},{"v":0,"d":"0.00"},{"v":0,"d":"0.00"},{"v":0,"d":"0.00"},{"v":0,"d":"0.00"},{"v":0,"d":"0.00"},{"v":0,"d":"0.00"},{"v":0,"d":"0.00"},{"v":0,"d":"0.00"},{"v":0,"d":"0.00"},{"v":0,"d":"0.00"},{"v":0,"d":"0.00"},{"v":0,"d":"0.00"},{"v":0,"d":"0.00"},{"v":0,"d":"0.00"},{"v":0,"d":"0.00"},{"v":0,"d":"0.00"},{"v":0,"d":"0.00"},{"v":0,"d":"0.00"},{"v":0,"d":"0.00"},{"v":0,"d":"0.00"},{"v":0,"d":"0.00"},{"v":0,"d":"0.00"},{"v":0,"d":"0.00"},{"$f":"SUM(D238:AH238)","v":{"v":0,"d":"0.00"}}]
[]
[]
["nachrichtlich:"]
["Fehlzeiten (z.B. Urlaub, \nKrankheit, Fortbildung)",{"$nulls":33},{"$f":"SUM(D242:AH242)","v":{"v":0,"d":"0.00"}}]
[]
[]
["1)  ggf. Angabe des FKZ. anderer geförderter Projekte:"]
[]
[]
[]
[]
[]
[]
["Unterschrift des Vorgesetzten",{"$nulls":12},"Unterschrift des Mitarbeiters"]
[]
[{"$nulls":23},"Förderkennzeichen :",{"$nulls":5},{"$f":"IF($AD$2=\"\",\"\",$AD$2)","v":""}]
["   Zuwendungsempfänger (Firmenstempel)"]
["Stundennachweis"]
["für pauschalierte Abrechnung gemäß Nr. 6 ANBest-P-Kosten (Anlage 1 zum Verwendungsnachweis)"]
[]
["Der Original-Stundennachweis verbleibt beim Zuwendungsempfänger."]
[]
["Vorhabenthema"]
[{"$f":"IF($A$10=\"\",\"\",$A226)","v":""}]
[]
["Monat",null,"Jahr",{"$nulls":8},"Mitarbeiter(in) [Name, Vorname]"]
["August",null,{"$f":"C13","v":0},{"$nulls":8},{"$f":"IF($L$13=\"\",\"\",$L$13)","v":""}]
[]
["Die zu Lasten des Vorhabens abzurechnenden Personalstunden sind täglich eingenhändig von der betreffenden Person zu erfassen. Nur die produktiven, für das Vorhaben"]
["geleisteten Stundenn sind zuwendungsfähig."]
[]
["Tätigkeiten",null,null,"Arbeitszeiten in Stunden je Kalendertag",{"$nulls":30},"Summe der \nMonats- stunden"]
[{"$nulls":3},1,2,3,4,5,6,7,8,9,10,11,12,13,14,15,16,17,18,19,20,21,22,23,24,25,26,27,28,29,30,31]
["Vorhabenbezogen",{"$nulls":33},{"$f":"SUM(D272:AH272)","v":{"v":0,"d":"0.00"}}]
["Sonstige 1)",{"$nulls":33},{"$f":"SUM(D273:AH273)","v":{"v":0,"d":"0.00"}}]
["Produktive Gesamtstunden",null,null,{"$f":"SUM(D272:D273)","v":{"v":0,"d":"0.00"}},{"$f":"SUM(E272:E273)","v":{"v":0,"d":"0.00"}},{"v":0,"d":"0.00"},{"v":0,"d":"0.00"},{"v":0,"d":"0.00"},{"v":0,"d":"0.00"},{"v":0,"d":"0.00"},{"v":0,"d":"0.00"},{"v":0,"d":"0.00"},{"v":0,"d":"0.00"},{"v":0,"d":"0.00"},{"v":0,"d":"0.00"},{"v":0,"d":"0.00"},{"v":0,"d":"0.00"},{"v":0,"d":"0.00"},{"v":0,"d":"0.00"},{"v":0,"d":"0.00"},{"v":0,"d":"0.00"},{"v":0,"d":"0.00"},{"v":0,"d":"0.00"},{"v":0,"d":"0.00"},{"v":0,"d":"0.00"},{"v":0,"d":"0.00"},{"v":0,"d":"0.00"},{"v":0,"d":"0.00"},{"v":0,"d":"0.00"},{"v":0,"d":"0.00"},{"v":0,"d":"0.00"},{"v":0,"d":"0.00"},{"v":0,"d":"0.00"},{"v":0,"d":"0.00"},{"$f":"SUM(D274:AH274)","v":{"v":0,"d":"0.00"}}]
[]
[]
["nachrichtlich:"]
["Fehlzeiten (z.B. Urlaub, \nKrankheit, Fortbildung)",{"$nulls":33},{"$f":"SUM(D278:AH278)","v":{"v":0,"d":"0.00"}}]
[]
[]
["1)  ggf. Angabe des FKZ. anderer geförderter Projekte:"]
[]
[]
[]
[]
[]
[]
["Unterschrift des Vorgesetzten",{"$nulls":12},"Unterschrift des Mitarbeiters"]
[]
[{"$nulls":23},"Förderkennzeichen :",{"$nulls":5},{"$f":"IF($AD$2=\"\",\"\",$AD$2)","v":""}]
["   Zuwendungsempfänger (Firmenstempel)"]
["Stundennachweis"]
["für pauschalierte Abrechnung gemäß Nr. 6 ANBest-P-Kosten (Anlage 1 zum Verwendungsnachweis)"]
[]
["Der Original-Stundennachweis verbleibt beim Zuwendungsempfänger."]
[]
["Vorhabenthema"]
[{"$f":"IF($A$10=\"\",\"\",$A262)","v":""}]
[]
["Monat",null,"Jahr",{"$nulls":8},"Mitarbeiter(in) [Name, Vorname]"]
["September",null,{"$f":"C13","v":0},{"$nulls":8},{"$f":"IF($L$13=\"\",\"\",$L$13)","v":""}]
[]
["Die zu Lasten des Vorhabens abzurechnenden Personalstunden sind täglich eingenhändig von der betreffenden Person zu erfassen. Nur die produktiven, für das Vorhaben"]
["geleisteten Stundenn sind zuwendungsfähig."]
[]
["Tätigkeiten",null,null,"Arbeitszeiten in Stunden je Kalendertag",{"$nulls":30},"Summe der \nMonats- stunden"]
[{"$nulls":3},1,2,3,4,5,6,7,8,9,10,11,12,13,14,15,16,17,18,19,20,21,22,23,24,25,26,27,28,29,30,31]
["Vorhabenbezogen",{"$nulls":33},{"$f":"SUM(D308:AH308)","v":{"v":0,"d":"0.00"}}]
["Sonstige 1)",{"$nulls":33},{"$f":"SUM(D309:AH309)","v":{"v":0,"d":"0.00"}}]
["Produktive Gesamtstunden",null,null,{"$f":"SUM(D308:D309)","v":{"v":0,"d":"0.00"}},{"$f":"SUM(E308:E309)","v":{"v":0,"d":"0.00"}},{"v":0,"d":"0.00"},{"v":0,"d":"0.00"},{"v":0,"d":"0.00"},{"v":0,"d":"0.00"},{"v":0,"d":"0.00"},{"v":0,"d":"0.00"},{"v":0,"d":"0.00"},{"v":0,"d":"0.00"},{"v":0,"d":"0.00"},{"v":0,"d":"0.00"},{"v":0,"d":"0.00"},{"v":0,"d":"0.00"},{"v":0,"d":"0.00"},{"v":0,"d":"0.00"},{"v":0,"d":"0.00"},{"v":0,"d":"0.00"},{"v":0,"d":"0.00"},{"v":0,"d":"0.00"},{"v":0,"d":"0.00"},{"v":0,"d":"0.00"},{"v":0,"d":"0.00"},{"v":0,"d":"0.00"},{"v":0,"d":"0.00"},{"v":0,"d":"0.00"},{"v":0,"d":"0.00"},{"v":0,"d":"0.00"},{"v":0,"d":"0.00"},{"v":0,"d":"0.00"},{"v":0,"d":"0.00"},{"$f":"SUM(D310:AH310)","v":{"v":0,"d":"0.00"}}]
[]
[]
["nachrichtlich:"]
["Fehlzeiten (z.B. Urlaub, \nKrankheit, Fortbildung)",{"$nulls":33},{"$f":"SUM(D314:AH314)","v":{"v":0,"d":"0.00"}}]
[]
[]
["1)  ggf. Angabe des FKZ. anderer geförderter Projekte:"]
[]
[]
[]
[]
[]
[]
["Unterschrift des Vorgesetzten",{"$nulls":12},"Unterschrift des Mitarbeiters"]
[]
[{"$nulls":23},"Förderkennzeichen :",{"$nulls":5},{"$f":"IF($AD$2=\"\",\"\",$AD$2)","v":""}]
["   Zuwendungsempfänger (Firmenstempel)"]
["Stundennachweis"]
["für pauschalierte Abrechnung gemäß Nr. 6 ANBest-P-Kosten (Anlage 1 zum Verwendungsnachweis)"]
[]
["Der Original-Stundennachweis verbleibt beim Zuwendungsempfänger."]
[]
["Vorhabenthema"]
[{"$f":"IF($A$10=\"\",\"\",$A298)","v":""}]
[]
["Monat",null,"Jahr",{"$nulls":8},"Mitarbeiter(in) [Name, Vorname]"]
["Oktober",null,{"$f":"C13","v":0},{"$nulls":8},{"$f":"IF($L$13=\"\",\"\",$L$13)","v":""}]
[]
["Die zu Lasten des Vorhabens abzurechnenden Personalstunden sind täglich eingenhändig von der betreffenden Person zu erfassen. Nur die produktiven, für das Vorhaben"]
["geleisteten Stundenn sind zuwendungsfähig."]
[]
["Tätigkeiten",null,null,"Arbeitszeiten in Stunden je Kalendertag",{"$nulls":30},"Summe der \nMonats- stunden"]
[{"$nulls":3},1,2,3,4,5,6,7,8,9,10,11,12,13,14,15,16,17,18,19,20,21,22,23,24,25,26,27,28,29,30,31]
["Vorhabenbezogen",{"$nulls":33},{"$f":"SUM(D344:AH344)","v":{"v":0,"d":"0.00"}}]
["Sonstige 1)",{"$nulls":33},{"$f":"SUM(D345:AH345)","v":{"v":0,"d":"0.00"}}]
["Produktive Gesamtstunden",null,null,{"$f":"SUM(D344:D345)","v":{"v":0,"d":"0.00"}},{"$f":"SUM(E344:E345)","v":{"v":0,"d":"0.00"}},{"v":0,"d":"0.00"},{"v":0,"d":"0.00"},{"v":0,"d":"0.00"},{"v":0,"d":"0.00"},{"v":0,"d":"0.00"},{"v":0,"d":"0.00"},{"v":0,"d":"0.00"},{"v":0,"d":"0.00"},{"v":0,"d":"0.00"},{"v":0,"d":"0.00"},{"v":0,"d":"0.00"},{"v":0,"d":"0.00"},{"v":0,"d":"0.00"},{"v":0,"d":"0.00"},{"v":0,"d":"0.00"},{"v":0,"d":"0.00"},{"v":0,"d":"0.00"},{"v":0,"d":"0.00"},{"v":0,"d":"0.00"},{"v":0,"d":"0.00"},{"v":0,"d":"0.00"},{"v":0,"d":"0.00"},{"v":0,"d":"0.00"},{"v":0,"d":"0.00"},{"v":0,"d":"0.00"},{"v":0,"d":"0.00"},{"v":0,"d":"0.00"},{"v":0,"d":"0.00"},{"v":0,"d":"0.00"},{"$f":"SUM(D346:AH346)","v":{"v":0,"d":"0.00"}}]
[]
[]
["nachrichtlich:"]
["Fehlzeiten (z.B. Urlaub, \nKrankheit, Fortbildung)",{"$nulls":33},{"$f":"SUM(D350:AH350)","v":{"v":0,"d":"0.00"}}]
[]
[]
["1)  ggf. Angabe des FKZ. anderer geförderter Projekte:"]
[]
[]
[]
[]
[]
[]
["Unterschrift des Vorgesetzten",{"$nulls":12},"Unterschrift des Mitarbeiters"]
[]
[{"$nulls":23},"Förderkennzeichen :",{"$nulls":5},{"$f":"IF($AD$2=\"\",\"\",$AD$2)","v":""}]
["   Zuwendungsempfänger (Firmenstempel)"]
["Stundennachweis"]
["für pauschalierte Abrechnung gemäß Nr. 6 ANBest-P-Kosten (Anlage 1 zum Verwendungsnachweis)"]
[]
["Der Original-Stundennachweis verbleibt beim Zuwendungsempfänger."]
[]
["Vorhabenthema"]
[{"$f":"IF($A$10=\"\",\"\",$A334)","v":""}]
[]
["Monat",null,"Jahr",{"$nulls":8},"Mitarbeiter(in) [Name, Vorname]"]
["November",null,{"$f":"C13","v":0},{"$nulls":8},{"$f":"IF($L$13=\"\",\"\",$L$13)","v":""}]
[]
["Die zu Lasten des Vorhabens abzurechnenden Personalstunden sind täglich eingenhändig von der betreffenden Person zu erfassen. Nur die produktiven, für das Vorhaben"]
["geleisteten Stundenn sind zuwendungsfähig."]
[]
["Tätigkeiten",null,null,"Arbeitszeiten in Stunden je Kalendertag",{"$nulls":30},"Summe der \nMonats- stunden"]
[{"$nulls":3},1,2,3,4,5,6,7,8,9,10,11,12,13,14,15,16,17,18,19,20,21,22,23,24,25,26,27,28,29,30,31]
["Vorhabenbezogen",{"$nulls":33},{"$f":"SUM(D380:AH380)","v":{"v":0,"d":"0.00"}}]
["Sonstige 1)",{"$nulls":33},{"$f":"SUM(D381:AH381)","v":{"v":0,"d":"0.00"}}]
["Produktive Gesamtstunden",null,null,{"$f":"SUM(D380:D381)","v":{"v":0,"d":"0.00"}},{"$f":"SUM(E380:E381)","v":{"v":0,"d":"0.00"}},{"v":0,"d":"0.00"},{"v":0,"d":"0.00"},{"v":0,"d":"0.00"},{"v":0,"d":"0.00"},{"v":0,"d":"0.00"},{"v":0,"d":"0.00"},{"v":0,"d":"0.00"},{"v":0,"d":"0.00"},{"v":0,"d":"0.00"},{"v":0,"d":"0.00"},{"v":0,"d":"0.00"},{"v":0,"d":"0.00"},{"v":0,"d":"0.00"},{"v":0,"d":"0.00"},{"v":0,"d":"0.00"},{"v":0,"d":"0.00"},{"v":0,"d":"0.00"},{"v":0,"d":"0.00"},{"v":0,"d":"0.00"},{"v":0,"d":"0.00"},{"v":0,"d":"0.00"},{"v":0,"d":"0.00"},{"v":0,"d":"0.00"},{"v":0,"d":"0.00"},{"v":0,"d":"0.00"},{"v":0,"d":"0.00"},{"v":0,"d":"0.00"},{"v":0,"d":"0.00"},{"v":0,"d":"0.00"},{"$f":"SUM(D382:AH382)","v":{"v":0,"d":"0.00"}}]
[]
[]
["nachrichtlich:"]
["Fehlzeiten (z.B. Urlaub, \nKrankheit, Fortbildung)",{"$nulls":33},{"$f":"SUM(D386:AH386)","v":{"v":0,"d":"0.00"}}]
[]
[]
["1)  ggf. Angabe des FKZ. anderer geförderter Projekte:"]
[]
[]
[]
[]
[]
[]
["Unterschrift des Vorgesetzten",{"$nulls":12},"Unterschrift des Mitarbeiters"]
[]
[{"$nulls":23},"Förderkennzeichen :",{"$nulls":5},{"$f":"IF($AD$2=\"\",\"\",$AD$2)","v":""}]
["   Zuwendungsempfänger (Firmenstempel)"]
["Stundennachweis"]
["für pauschalierte Abrechnung gemäß Nr. 6 ANBest-P-Kosten (Anlage 1 zum Verwendungsnachweis)"]
[]
["Der Original-Stundennachweis verbleibt beim Zuwendungsempfänger."]
[]
["Vorhabenthema"]
[{"$f":"IF($A$10=\"\",\"\",$A370)","v":""}]
[]
["Monat",null,"Jahr",{"$nulls":8},"Mitarbeiter(in) [Name, Vorname]"]
["Dezember",null,{"$f":"C13","v":0},{"$nulls":8},{"$f":"IF($L$13=\"\",\"\",$L$13)","v":""}]
[]
["Die zu Lasten des Vorhabens abzurechnenden Personalstunden sind täglich eingenhändig von der betreffenden Person zu erfassen. Nur die produktiven, für das Vorhaben"]
["geleisteten Stundenn sind zuwendungsfähig."]
[]
["Tätigkeiten",null,null,"Arbeitszeiten in Stunden je Kalendertag",{"$nulls":30},"Summe der \nMonats- stunden"]
[{"$nulls":3},1,2,3,4,5,6,7,8,9,10,11,12,13,14,15,16,17,18,19,20,21,22,23,24,25,26,27,28,29,30,31]
["Vorhabenbezogen",{"$nulls":33},{"$f":"SUM(D416:AH416)","v":{"v":0,"d":"0.00"}}]
["Sonstige 1)",{"$nulls":33},{"$f":"SUM(D417:AH417)","v":{"v":0,"d":"0.00"}}]
["Produktive Gesamtstunden",null,null,{"$f":"SUM(D416:D417)","v":0},{"$f":"SUM(E416:E417)","v":{"v":0,"d":"0.00"}},{"v":0,"d":"0.00"},{"v":0,"d":"0.00"},{"v":0,"d":"0.00"},{"v":0,"d":"0.00"},{"v":0,"d":"0.00"},{"v":0,"d":"0.00"},{"v":0,"d":"0.00"},{"v":0,"d":"0.00"},{"v":0,"d":"0.00"},{"v":0,"d":"0.00"},{"v":0,"d":"0.00"},{"v":0,"d":"0.00"},{"v":0,"d":"0.00"},{"v":0,"d":"0.00"},{"v":0,"d":"0.00"},{"v":0,"d":"0.00"},{"v":0,"d":"0.00"},{"v":0,"d":"0.00"},{"v":0,"d":"0.00"},{"v":0,"d":"0.00"},{"v":0,"d":"0.00"},{"v":0,"d":"0.00"},{"v":0,"d":"0.00"},{"v":0,"d":"0.00"},{"v":0,"d":"0.00"},{"v":0,"d":"0.00"},{"v":0,"d":"0.00"},{"v":0,"d":"0.00"},{"v":0,"d":"0.00"},{"$f":"SUM(D418:AH418)","v":{"v":0,"d":"0.00"}}]
[]
[]
["nachrichtlich:"]
["Fehlzeiten (z.B. Urlaub, \nKrankheit, Fortbildung)",{"$nulls":33},{"$f":"SUM(D422:AH422)","v":{"v":0,"d":"0.00"}}]
[]
[]
["1)  ggf. Angabe des FKZ. anderer geförderter Projekte:"]
[]
[]
[]
[]
[]
[]
["Unterschrift des Vorgesetzten",{"$nulls":12},"Unterschrift des Mitarbeiters"]

{"sheet":"Jahresstd.satz Mitarbeiter A","index":2,"n_rows":38,"n_cols":15,"rows_kept":38,"merged":[[1,0,1,3],[1,8,1,10],[1,11,1,14],[5,0,5,14],[6,0,6,14],[10,0,10,14],[13,4,13,14],[16,0,17,1],[16,14,17,14],[18,0,18,1],[19,0,19,1],[20,0,20,1],[28,11,28,13],[29,6,29,8],[29,9,30,10],[29,11,30,13],[30,6,30,8]]}
[]
[{"$nulls":8},"Förderkennzeichen:       ",null,null,{"$f":"IF('Stundennachweise Mitarbeiter A'!AD2=0,\"\",'Stundennachweise Mitarbeiter A'!AD2)","v":""}]
["   Zuwendungsempfänger (Firmenstempel)"]
[]
[]
["Ermittlung des Jahresstundensatzes"]
["bei pauschalierter Abrechnung gemäß Nr. 6 ANBest-P-Kosten (Anlage 2 zum Verwendungsnachweis)"]
[]
[]
["Vorhabenthema"]
[{"$f":"IF('Stundennachweise Mitarbeiter A'!A10:AI10=\"\",\"\",'Stundennachweise Mitarbeiter A'!A10:AI10)","v":""}]
[]
["Jahr",{"$nulls":3},"Mitarbeiter(in) [Name, Vorname]"]
[{"$f":"IF('Stundennachweise Mitarbeiter A'!C13=\"\",\"\",'Stundennachweise Mitarbeiter A'!C13)","v":""},{"$nulls":3},{"$f":"IF('Stundennachweise Mitarbeiter A'!L13=\"\",\"\",'Stundennachweise Mitarbeiter A'!L13)","v":""}]
[]
["1. Jahresstunden lt. monatlichen Stundennachweisen"]
["Tätigkeiten",null,"Arbeitszeit in Stunden je Monat:",{"$nulls":11},"Summe der Jahresstunden"]
[null,null,"Januar","Februar","März","April","Mai","Juni","Juli","August","Sept.","Oktober","Nov.","Dez."]
["Vorhabenbezogen",null,{"$f":"'Stundennachweise Mitarbeiter A'!AI20","v":{"v":0,"d":"0.00"}},{"$f":"'Stundennachweise Mitarbeiter A'!AI56","v":{"v":0,"d":"0.00"}},{"$f":"'Stundennachweise Mitarbeiter A'!AI92","v":{"v":0,"d":"0.00"}},{"$f":"'Stundennachweise Mitarbeiter A'!AI128","v":{"v":0,"d":"0.00"}},{"$f":"'Stundennachweise Mitarbeiter A'!AI164","v":{"v":0,"d":"0.00"}},{"$f":"'Stundennachweise Mitarbeiter A'!AI200","v":{"v":0,"d":"0.00"}},{"$f":"'Stundennachweise Mitarbeiter A'!AI236","v":{"v":0,"d":"0.00"}},{"$f":"'Stundennachweise Mitarbeiter A'!AI272","v":{"v":0,"d":"0.00"}},{"$f":"'Stundennachweise Mitarbeiter A'!AI308","v":{"v":0,"d":"0.00"}},{"$f":"'Stundennachweise Mitarbeiter A'!AI344","v":{"v":0,"d":"0.00"}},{"$f":"'Stundennachweise Mitarbeiter A'!AI380","v":{"v":0,"d":"0.00"}},{"$f":"'Stundennachweise Mitarbeiter A'!AI416","v":{"v":0,"d":"0.00"}},{"$f":"SUM(C19:N19)","v":{"v":0,"d":"0.00"}}]
["Sonstige",null,{"$f":"'Stundennachweise Mitarbeiter A'!AI21","v":{"v":0,"d":"0.00"}},{"$f":"'Stundennachweise Mitarbeiter A'!AI57","v":{"v":0,"d":"0.00"}},{"$f":"'Stundennachweise Mitarbeiter A'!AI93","v":{"v":0,"d":"0.00"}},{"$f":"'Stundennachweise Mitarbeiter A'!AI129","v":{"v":0,"d":"0.00"}},{"$f":"'Stundennachweise Mitarbeiter A'!AI165","v":{"v":0,"d":"0.00"}},{"$f":"'Stundennachweise Mitarbeiter A'!AI201","v":{"v":0,"d":"0.00"}},{"$f":"'Stundennachweise Mitarbeiter A'!AI237","v":{"v":0,"d":"0.00"}},{"$f":"'Stundennachweise Mitarbeiter A'!AI273","v":{"v":0,"d":"0.00"}},{"$f":"'Stundennachweise Mitarbeiter A'!AI309","v":{"v":0,"d":"0.00"}},{"$f":"'Stundennachweise Mitarbeiter A'!AI345","v":{"v":0,"d":"0.00"}},{"$f":"'Stundennachweise Mitarbeiter A'!AI381","v":{"v":0,"d":"0.00"}},{"$f":"'Stundennachweise Mitarbeiter A'!AI417","v":{"v":0,"d":"0.00"}},{"$f":"SUM(C20:N20)","v":{"v":0,"d":"0.00"}}]
["Produktive Gesamtstunden",null,{"$f":"'Stundennachweise Mitarbeiter A'!AI22","v":{"v":0,"d":"0.00"}},{"$f":"'Stundennachweise Mitarbeiter A'!AI58","v":{"v":0,"d":"0.00"}},{"$f":"'Stundennachweise Mitarbeiter A'!AI94","v":{"v":0,"d":"0.00"}},{"$f":"'Stundennachweise Mitarbeiter A'!AI130","v":{"v":0,"d":"0.00"}},{"$f":"'Stundennachweise Mitarbeiter A'!AI166","v":{"v":0,"d":"0.00"}},{"$f":"'Stundennachweise Mitarbeiter A'!AI202","v":{"v":0,"d":"0.00"}},{"$f":"'Stundennachweise Mitarbeiter A'!AI238","v":{"v":0,"d":"0.00"}},{"$f":"'Stundennachweise Mitarbeiter A'!AI274","v":{"v":0,"d":"0.00"}},{"$f":"'Stundennachweise Mitarbeiter A'!AI310","v":{"v":0,"d":"0.00"}},{"$f":"'Stundennachweise Mitarbeiter A'!AI346","v":{"v":0,"d":"0.00"}},{"$f":"'Stundennachweise Mitarbeiter A'!AI382","v":{"v":0,"d":"0.00"}},{"$f":"'Stundennachweise Mitarbeiter A'!AI418","v":{"v":0,"d":"0.00"}},{"$f":"SUM(C21:N21)","v":{"v":0,"d":"0.00"}}]
[]
["nachrichtlich:"]
["Fehlzeiten (z.B. Urlaub, Krankheit, Fortbildung)",null,{"$f":"'Stundennachweise Mitarbeiter A'!AI26","v":{"v":0,"d":"0.00"}},{"$f":"'Stundennachweise Mitarbeiter A'!AI62","v":{"v":0,"d":"0.00"}},{"$f":"'Stundennachweise Mitarbeiter A'!AI98","v":{"v":0,"d":"0.00"}},{"$f":"'Stundennachweise Mitarbeiter A'!AI134","v":{"v":0,"d":"0.00"}},{"$f":"'Stundennachweise Mitarbeiter A'!AI170","v":{"v":0,"d":"0.00"}},{"$f":"'Stundennachweise Mitarbeiter A'!AI206","v":{"v":0,"d":"0.00"}},{"$f":"'Stundennachweise Mitarbeiter A'!AI242","v":{"v":0,"d":"0.00"}},{"$f":"'Stundennachweise Mitarbeiter A'!AI278","v":{"v":0,"d":"0.00"}},{"$f":"'Stundennachweise Mitarbeiter A'!AI314","v":{"v":0,"d":"0.00"}},{"$f":"'Stundennachweise Mitarbeiter A'!AI350","v":{"v":0,"d":"0.00"}},{"$f":"'Stundennachweise Mitarbeiter A'!AI386","v":{"v":0,"d":"0.00"}},{"$f":"'Stundennachweise Mitarbeiter A'!AI422","v":{"v":0,"d":"0.00"}},{"$f":"SUM(C24:N24)","v":{"v":0,"d":"0.00"}}]
[]
[]
["2. Berechnung des Jahresstundensatzes"]
[]
[{"$nulls":11},"Jahresstundensatz"]
["Bruttojahreslohn/ -gehalt 1)",{"$nulls":8},"=",null,{"$f":"IF(G30=\"\",\"\",G30/G31)","v":""}]
["Jahresarbeitsstunden lt. Tarifvertrag/Betriebsvereinbarung/Arbeitsvertrag 2)"]
[]
[]
[]
[]
["1)   Personalkosten i.S. der Nr. 6.1.3 ANBest-P-Kosten"]
[]
["2)   Bei tatsächlich mehr geleisteten produktiven Gesamtstunden (vorhabenbezogene und sonstige) gelten diese Gesamtsunden als Divisor"]

{"sheet":"Stundennachweise Mitarbeiter B","index":3,"n_rows":432,"n_cols":35,"rows_kept":432,"merged":[[1,0,1,7],[1,29,1,34],[3,0,3,34],[4,0,4,34],[9,0,9,34],[12,11,12,34],[17,0,18,2],[17,34,18,34],[19,0,19,2],[20,0,20,2],[21,0,21,2],[25,0,25,2],[28,10,28,16],[29,10,29,16],[37,0,37,7],[37,29,37,34],[39,0,39,34],[40,0,40,34],[45,0,45,34],[48,11,48,34],[53,0,54,2],[53,34,54,34],[55,0,55,2],[56,0,56,2],[57,0,57,2],[61,0,61,2],[64,10,64,16],[65,10,65,16],[73,0,73,7],[73,29,73,34],[75,0,75,34],[76,0,76,34],[81,0,81,34],[84,11,84,34],[89,0,90,2],[89,34,90,34],[91,0,91,2],[92,0,92,2],[93,0,93,2],[97,0,97,2],[100,10,100,16],[101,10,101,16],[109,0,109,7],[109,29,109,34],[111,0,111,34],[112,0,112,34],[117,0,117,34],[120,11,120,34],[125,0,126,2],[125,34,126,34],[127,0,127,2],[128,0,128,2],[129,0,129,2],[133,0,133,2],[136,10,136,16],[137,10,137,16],[145,0,145,7],[145,29,145,34],[147,0,147,34],[148,0,148,34],[153,0,153,34],[156,11,156,34],[161,0,162,2],[161,34,162,34],[163,0,163,2],[164,0,164,2],[165,0,165,2],[169,0,169,2],[172,10,172,16],[173,10,173,16],[181,0,181,7],[181,29,181,34],[183,0,183,34],[184,0,184,34],[189,0,189,34],[192,11,192,34],[197,0,198,2],[197,34,198,34],[199,0,199,2],[200,0,200,2],[201,0,201,2],[205,0,205,2],[208,10,208,16],[209,10,209,16],[217,0,217,7],[217,29,217,34],[219,0,219,34],[220,0,220,34],[225,0,225,34],[228,11,228,34],[233,0,234,2],[233,34,234,34],[235,0,235,2],[236,0,236,2],[237,0,237,2],[241,0,241,2],[244,10,244,16],[245,10,245,16],[253,0,253,7],[253,29,253,34],[255,0,255,34],[256,0,256,34],[261,0,261,34],[264,11,264,34],[269,0,270,2],[269,34,270,34],[271,0,271,2],[272,0,272,2],[273,0,273,2],[277,0,277,2],[280,10,280,16],[281,10,281,16],[289,0,289,7],[289,29,289,34],[291,0,291,34],[292,0,292,34],[297,0,297,34],[300,11,300,34],[305,0,306,2],[305,34,306,34],[307,0,307,2],[308,0,308,2],[309,0,309,2],[313,0,313,2],[316,10,316,16],[317,10,317,16],[325,0,325,7],[325,29,325,34],[327,0,327,34],[328,0,328,34],[333,0,333,34],[336,11,336,34],[341,0,342,2],[341,34,342,34],[343,0,343,2],[344,0,344,2],[345,0,345,2],[349,0,349,2],[352,10,352,16],[353,10,353,16],[361,0,361,7],[361,29,361,34],[363,0,363,34],[364,0,364,34],[369,0,369,34],[372,11,372,34],[377,0,378,2],[377,34,378,34],[379,0,379,2],[380,0,380,2],[381,0,381,2],[385,0,385,2],[388,10,388,16],[389,10,389,16],[397,0,397,7],[397,29,397,34],[399,0,399,34],[400,0,400,34],[405,0,405,34],[408,11,408,34],[413,0,414,2],[413,34,414,34],[415,0,415,2],[416,0,416,2],[417,0,417,2],[421,0,421,2],[424,10,424,16],[425,10,425,16]]}
[]
[{"$nulls":23},"Förderkennzeichen :"]
["   Zuwendungsempfänger (Firmenstempel)"]
["Stundennachweis"]
["für pauschalierte Abrechnung gemäß Nr. 6 ANBest-P-Kosten (Anlage 1 zum Verwendungsnachweis)"]
[]
["Der Original-Stundennachweis verbleibt beim Zuwendungsempfänger."]
[]
["Vorhabenthema"]
[]
[]
["Monat",null,"Jahr",{"$nulls":8},"Mitarbeiter(in) [Name, Vorname]"]
["Januar"]
[]
["Die zu Lasten des Vorhabens abzurechnenden Personalstunden sind täglich eingenhändig von der betreffenden Person zu erfassen. Nur die produktiven, für das Vorhaben"]
["geleisteten Stundenn sind zuwendungsfähig."]
[]
["Tätigkeiten",null,null,"Arbeitszeiten in Stunden je Kalendertag",{"$nulls":30},"Summe der \nMonats- stunden"]
[{"$nulls":3},1,2,3,4,5,6,7,8,9,10,11,12,13,14,15,16,17,18,19,20,21,22,23,24,25,26,27,28,29,30,31]
["Vorhabenbezogen",{"$nulls":33},{"$f":"SUM(D20:AH20)","v":{"v":0,"d":"0.00"}}]
["Sonstige 1)",{"$nulls":33},{"$f":"SUM(D21:AH21)","v":{"v":0,"d":"0.00"}}]
["Produktive Gesamtstunden",null,null,{"$f":"SUM(D20:D21)","v":{"v":0,"d":"0.00"}},{"$f":"SUM(E20:E21)","v":{"v":0,"d":"0.00"}},{"v":0,"d":"0.00"},{"v":0,"d":"0.00"},{"v":0,"d":"0.00"},{"v":0,"d":"0.00"},{"v":0,"d":"0.00"},{"v":0,"d":"0.00"},{"v":0,"d":"0.00"},{"v":0,"d":"0.00"},{"v":0,"d":"0.00"},{"v":0,"d":"0.00"},{"v":0,"d":"0.00"},{"v":0,"d":"0.00"},{"v":0,"d":"0.00"},{"v":0,"d":"0.00"},{"v":0,"d":"0.00"},{"v":0,"d":"0.00"},{"v":0,"d":"0.00"},{"v":0,"d":"0.00"},{"v":0,"d":"0.00"},{"v":0,"d":"0.00"},{"v":0,"d":"0.00"},{"v":0,"d":"0.00"},{"v":0,"d":"0.00"},{"v":0,"d":"0.00"},{"v":0,"d":"0.00"},{"v":0,"d":"0.00"},{"v":0,"d":"0.00"},{"v":0,"d":"0.00"},{"v":0,"d":"0.00"},{"$f":"SUM(D22:AH22)","v":{"v":0,"d":"0.00"}}]
[]
[]
["nachrichtlich:"]
["Fehlzeiten (z.B. Urlaub, \nKrankheit, Fortbildung)",{"$nulls":33},{"$f":"SUM(D26:AH26)","v":{"v":0,"d":"0.00"}}]
[]
[]
["1)  ggf. Angabe des FKZ. anderer geförderter Projekte:"]
[]
[]
[]
[]
[]
[]
["Unterschrift des Vorgesetzten",{"$nulls":12},"Unterschrift des Mitarbeiters"]
[]
[{"$nulls":23},"Förderkennzeichen :",{"$nulls":5},{"$f":"IF($AD$2=\"\",\"\",$AD$2)","v":""}]
["   Zuwendungsempfänger (Firmenstempel)"]
["Stundennachweis"]
["für pauschalierte Abrechnung gemäß Nr. 6 ANBest-P-Kosten (Anlage 1 zum Verwendungsnachweis)"]
[]
["Der Original-Stundennachweis verbleibt beim Zuwendungsempfänger."]
[]
["Vorhabenthema"]
[{"$f":"IF($A$10=\"\",\"\",$A10)","v":""}]
[]
["Monat",null,"Jahr",{"$nulls":8},"Mitarbeiter(in) [Name, Vorname]"]
["Februar",null,{"$f":"C13","v":0},{"$nulls":8},{"$f":"IF($L$13=\"\",\"\",$L$13)","v":""}]
[]
["Die zu Lasten des Vorhabens abzurechnenden Personalstunden sind täglich eingenhändig von der betreffenden Person zu erfassen. Nur die produktiven, für das Vorhaben"]
["geleisteten Stundenn sind zuwendungsfähig."]
[]
["Tätigkeiten",null,null,"Arbeitszeiten in Stunden je Kalendertag",{"$nulls":30},"Summe der \nMonats- stunden"]
[{"$nulls":3},1,2,3,4,5,6,7,8,9,10,11,12,13,14,15,16,17,18,19,20,21,22,23,24,25,26,27,28,29,30,31]
["Vorhabenbezogen",{"$nulls":33},{"$f":"SUM(D56:AH56)","v":{"v":0,"d":"0.00"}}]
["Sonstige 1)",{"$nulls":33},{"$f":"SUM(D57:AH57)","v":{"v":0,"d":"0.00"}}]
["Produktive Gesamtstunden",null,null,{"$f":"SUM(D56:D57)","v":{"v":0,"d":"0.00"}},{"$f":"SUM(E56:E57)","v":{"v":0,"d":"0.00"}},{"v":0,"d":"0.00"},{"v":0,"d":"0.00"},{"v":0,"d":"0.00"},{"v":0,"d":"0.00"},{"v":0,"d":"0.00"},{"v":0,"d":"0.00"},{"v":0,"d":"0.00"},{"v":0,"d":"0.00"},{"v":0,"d":"0.00"},{"v":0,"d":"0.00"},{"v":0,"d":"0.00"},{"v":0,"d":"0.00"},{"v":0,"d":"0.00"},{"v":0,"d":"0.00"},{"v":0,"d":"0.00"},{"v":0,"d":"0.00"},{"v":0,"d":"0.00"},{"v":0,"d":"0.00"},{"v":0,"d":"0.00"},{"v":0,"d":"0.00"},{"v":0,"d":"0.00"},{"v":0,"d":"0.00"},{"v":0,"d":"0.00"},{"v":0,"d":"0.00"},{"v":0,"d":"0.00"},{"v":0,"d":"0.00"},{"v":0,"d":"0.00"},{"v":0,"d":"0.00"},{"v":0,"d":"0.00"},{"$f":"SUM(D58:AH58)","v":{"v":0,"d":"0.00"}}]
[]
[]
["nachrichtlich:"]
["Fehlzeiten (z.B. Urlaub, \nKrankheit, Fortbildung)",{"$nulls":33},{"$f":"SUM(D62:AH62)","v":{"v":0,"d":"0.00"}}]
[]
[]
["1)  ggf. Angabe des FKZ. anderer geförderter Projekte:"]
[]
[]
[]
[]
[]
[]
["Unterschrift des Vorgesetzten",{"$nulls":12},"Unterschrift des Mitarbeiters"]
[]
[{"$nulls":23},"Förderkennzeichen :",{"$nulls":5},{"$f":"IF($AD$2=\"\",\"\",$AD$2)","v":""}]
["   Zuwendungsempfänger (Firmenstempel)"]
["Stundennachweis"]
["für pauschalierte Abrechnung gemäß Nr. 6 ANBest-P-Kosten (Anlage 1 zum Verwendungsnachweis)"]
[]
["Der Original-Stundennachweis verbleibt beim Zuwendungsempfänger."]
[]
["Vorhabenthema"]
[{"$f":"IF($A$10=\"\",\"\",$A46)","v":""}]
[]
["Monat",null,"Jahr",{"$nulls":8},"Mitarbeiter(in) [Name, Vorname]"]
["März",null,{"$f":"C13","v":0},{"$nulls":8},{"$f":"IF($L$13=\"\",\"\",$L$13)","v":""}]
[]
["Die zu Lasten des Vorhabens abzurechnenden Personalstunden sind täglich eingenhändig von der betreffenden Person zu erfassen. Nur die produktiven, für das Vorhaben"]
["geleisteten Stundenn sind zuwendungsfähig."]
[]
["Tätigkeiten",null,null,"Arbeitszeiten in Stunden je Kalendertag",{"$nulls":30},"Summe der \nMonats- stunden"]
[{"$nulls":3},1,2,3,4,5,6,7,8,9,10,11,12,13,14,15,16,17,18,19,20,21,22,23,24,25,26,27,28,29,30,31]
["Vorhabenbezogen",{"$nulls":33},{"$f":"SUM(D92:AH92)","v":{"v":0,"d":"0.00"}}]
["Sonstige 1)",{"$nulls":33},{"$f":"SUM(D93:AH93)","v":{"v":0,"d":"0.00"}}]
["Produktive Gesamtstunden",null,null,{"$f":"SUM(D92:D93)","v":{"v":0,"d":"0.00"}},{"$f":"SUM(E92:E93)","v":{"v":0,"d":"0.00"}},{"v":0,"d":"0.00"},{"v":0,"d":"0.00"},{"v":0,"d":"0.00"},{"v":0,"d":"0.00"},{"v":0,"d":"0.00"},{"v":0,"d":"0.00"},{"v":0,"d":"0.00"},{"v":0,"d":"0.00"},{"v":0,"d":"0.00"},{"v":0,"d":"0.00"},{"v":0,"d":"0.00"},{"v":0,"d":"0.00"},{"v":0,"d":"0.00"},{"v":0,"d":"0.00"},{"v":0,"d":"0.00"},{"v":0,"d":"0.00"},{"v":0,"d":"0.00"},{"v":0,"d":"0.00"},{"v":0,"d":"0.00"},{"v":0,"d":"0.00"},{"v":0,"d":"0.00"},{"v":0,"d":"0.00"},{"v":0,"d":"0.00"},{"v":0,"d":"0.00"},{"v":0,"d":"0.00"},{"v":0,"d":"0.00"},{"v":0,"d":"0.00"},{"v":0,"d":"0.00"},{"v":0,"d":"0.00"},{"$f":"SUM(D94:AH94)","v":{"v":0,"d":"0.00"}}]
[]
[]
["nachrichtlich:"]
["Fehlzeiten (z.B. Urlaub, \nKrankheit, Fortbildung)",{"$nulls":33},{"$f":"SUM(D98:AH98)","v":{"v":0,"d":"0.00"}}]
[]
[]
["1)  ggf. Angabe des FKZ. anderer geförderter Projekte:"]
[]
[]
[]
[]
[]
[]
["Unterschrift des Vorgesetzten",{"$nulls":12},"Unterschrift des Mitarbeiters"]
[]
[{"$nulls":23},"Förderkennzeichen :",{"$nulls":5},{"$f":"IF($AD$2=\"\",\"\",$AD$2)","v":""}]
["   Zuwendungsempfänger (Firmenstempel)"]
["Stundennachweis"]
["für pauschalierte Abrechnung gemäß Nr. 6 ANBest-P-Kosten (Anlage 1 zum Verwendungsnachweis)"]
[]
["Der Original-Stundennachweis verbleibt beim Zuwendungsempfänger."]
[]
["Vorhabenthema"]
[{"$f":"IF($A$10=\"\",\"\",$A82)","v":""}]
[]
["Monat",null,"Jahr",{"$nulls":8},"Mitarbeiter(in) [Name, Vorname]"]
["April",null,{"$f":"C13","v":0},{"$nulls":8},{"$f":"IF($L$13=\"\",\"\",$L$13)","v":""}]
[]
["Die zu Lasten des Vorhabens abzurechnenden Personalstunden sind täglich eingenhändig von der betreffenden Person zu erfassen. Nur die produktiven, für das Vorhaben"]
["geleisteten Stundenn sind zuwendungsfähig."]
[]
["Tätigkeiten",null,null,"Arbeitszeiten in Stunden je Kalendertag",{"$nulls":30},"Summe der \nMonats- stunden"]
[{"$nulls":3},1,2,3,4,5,6,7,8,9,10,11,12,13,14,15,16,17,18,19,20,21,22,23,24,25,26,27,28,29,30,31]
["Vorhabenbezogen",{"$nulls":33},{"$f":"SUM(D128:AH128)","v":{"v":0,"d":"0.00"}}]
["Sonstige 1)",{"$nulls":33},{"$f":"SUM(D129:AH129)","v":{"v":0,"d":"0.00"}}]
["Produktive Gesamtstunden",null,null,{"$f":"SUM(D128:D129)","v":{"v":0,"d":"0.00"}},{"$f":"SUM(E128:E129)","v":{"v":0,"d":"0.00"}},{"v":0,"d":"0.00"},{"v":0,"d":"0.00"},{"v":0,"d":"0.00"},{"v":0,"d":"0.00"},{"v":0,"d":"0.00"},{"v":0,"d":"0.00"},{"v":0,"d":"0.00"},{"v":0,"d":"0.00"},{"v":0,"d":"0.00"},{"v":0,"d":"0.00"},{"v":0,"d":"0.00"},{"v":0,"d":"0.00"},{"v":0,"d":"0.00"},{"v":0,"d":"0.00"},{"v":0,"d":"0.00"},{"v":0,"d":"0.00"},{"v":0,"d":"0.00"},{"v":0,"d":"0.00"},{"v":0,"d":"0.00"},{"v":0,"d":"0.00"},{"v":0,"d":"0.00"},{"v":0,"d":"0.00"},{"v":0,"d":"0.00"},{"v":0,"d":"0.00"},{"v":0,"d":"0.00"},{"v":0,"d":"0.00"},{"v":0,"d":"0.00"},{"v":0,"d":"0.00"},{"v":0,"d":"0.00"},{"$f":"SUM(D130:AH130)","v":{"v":0,"d":"0.00"}}]
[]
[]
["nachrichtlich:"]
["Fehlzeiten (z.B. Urlaub, \nKrankheit, Fortbildung)",{"$nulls":33},{"$f":"SUM(D134:AH134)","v":{"v":0,"d":"0.00"}}]
[]
[]
["1)  ggf. Angabe des FKZ. anderer geförderter Projekte:"]
[]
[]
[]
[]
[]
[]
["Unterschrift des Vorgesetzten",{"$nulls":12},"Unterschrift des Mitarbeiters"]
[]
[{"$nulls":23},"Förderkennzeichen :",{"$nulls":5},{"$f":"IF($AD$2=\"\",\"\",$AD$2)","v":""}]
["   Zuwendungsempfänger (Firmenstempel)"]
["Stundennachweis"]
["für pauschalierte Abrechnung gemäß Nr. 6 ANBest-P-Kosten (Anlage 1 zum Verwendungsnachweis)"]
[]
["Der Original-Stundennachweis verbleibt beim Zuwendungsempfänger."]
[]
["Vorhabenthema"]
[{"$f":"IF($A$10=\"\",\"\",$A118)","v":""}]
[]
["Monat",null,"Jahr",{"$nulls":8},"Mitarbeiter(in) [Name, Vorname]"]
["Mai",null,{"$f":"C13","v":0},{"$nulls":8},{"$f":"IF($L$13=\"\",\"\",$L$13)","v":""}]
[]
["Die zu Lasten des Vorhabens abzurechnenden Personalstunden sind täglich eingenhändig von der betreffenden Person zu erfassen. Nur die produktiven, für das Vorhaben"]
["geleisteten Stundenn sind zuwendungsfähig."]
[]
["Tätigkeiten",null,null,"Arbeitszeiten in Stunden je Kalendertag",{"$nulls":30},"Summe der \nMonats- stunden"]
[{"$nulls":3},1,2,3,4,5,6,7,8,9,10,11,12,13,14,15,16,17,18,19,20,21,22,23,24,25,26,27,28,29,30,31]
["Vorhabenbezogen",{"$nulls":33},{"$f":"SUM(D164:AH164)","v":{"v":0,"d":"0.00"}}]
["Sonstige 1)",{"$nulls":33},{"$f":"SUM(D165:AH165)","v":{"v":0,"d":"0.00"}}]
["Produktive Gesamtstunden",null,null,{"$f":"SUM(D164:D165)","v":{"v":0,"d":"0.00"}},{"$f":"SUM(E164:E165)","v":{"v":0,"d":"0.00"}},{"v":0,"d":"0.00"},{"v":0,"d":"0.00"},{"v":0,"d":"0.00"},{"v":0,"d":"0.00"},{"v":0,"d":"0.00"},{"v":0,"d":"0.00"},{"v":0,"d":"0.00"},{"v":0,"d":"0.00"},{"v":0,"d":"0.00"},{"v":0,"d":"0.00"},{"v":0,"d":"0.00"},{"v":0,"d":"0.00"},{"v":0,"d":"0.00"},{"v":0,"d":"0.00"},{"v":0,"d":"0.00"},{"v":0,"d":"0.00"},{"v":0,"d":"0.00"},{"v":0,"d":"0.00"},{"v":0,"d":"0.00"},{"v":0,"d":"0.00"},{"v":0,"d":"0.00"},{"v":0,"d":"0.00"},{"v":0,"d":"0.00"},{"v":0,"d":"0.00"},{"v":0,"d":"0.00"},{"v":0,"d":"0.00"},{"v":0,"d":"0.00"},{"v":0,"d":"0.00"},{"v":0,"d":"0.00"},{"$f":"SUM(D166:AH166)","v":{"v":0,"d":"0.00"}}]
[]
[]
["nachrichtlich:"]
["Fehlzeiten (z.B. Urlaub, \nKrankheit, Fortbildung)",{"$nulls":33},{"$f":"SUM(D170:AH170)","v":{"v":0,"d":"0.00"}}]
[]
[]
["1)  ggf. Angabe des FKZ. anderer geförderter Projekte:"]
[]
[]
[]
[]
[]
[]
["Unterschrift des Vorgesetzten",{"$nulls":12},"Unterschrift des Mitarbeiters"]
[]
[{"$nulls":23},"Förderkennzeichen :",{"$nulls":5},{"$f":"IF($AD$2=\"\",\"\",$AD$2)","v":""}]
["   Zuwendungsempfänger (Firmenstempel)"]
["Stundennachweis"]
["für pauschalierte Abrechnung gemäß Nr. 6 ANBest-P-Kosten (Anlage 1 zum Verwendungsnachweis)"]
[]
["Der Original-Stundennachweis verbleibt beim Zuwendungsempfänger."]
[]
["Vorhabenthema"]
[{"$f":"IF($A$10=\"\",\"\",$A154)","v":""}]
[]
["Monat",null,"Jahr",{"$nulls":8},"Mitarbeiter(in) [Name, Vorname]"]
["Juni",null,{"$f":"C13","v":0},{"$nulls":8},{"$f":"IF($L$13=\"\",\"\",$L$13)","v":""}]
[]
["Die zu Lasten des Vorhabens abzurechnenden Personalstunden sind täglich eingenhändig von der betreffenden Person zu erfassen. Nur die produktiven, für das Vorhaben"]
["geleisteten Stundenn sind zuwendungsfähig."]
[]
["Tätigkeiten",null,null,"Arbeitszeiten in Stunden je Kalendertag",{"$nulls":30},"Summe der \nMonats- stunden"]
[{"$nulls":3},1,2,3,4,5,6,7,8,9,10,11,12,13,14,15,16,17,18,19,20,21,22,23,24,25,26,27,28,29,30,31]
["Vorhabenbezogen",{"$nulls":33},{"$f":"SUM(D200:AH200)","v":{"v":0,"d":"0.00"}}]
["Sonstige 1)",{"$nulls":33},{"$f":"SUM(D201:AH201)","v":{"v":0,"d":"0.00"}}]
["Produktive Gesamtstunden",null,null,{"$f":"SUM(D200:D201)","v":{"v":0,"d":"0.00"}},{"$f":"SUM(E200:E201)","v":{"v":0,"d":"0.00"}},{"v":0,"d":"0.00"},{"v":0,"d":"0.00"},{"v":0,"d":"0.00"},{"v":0,"d":"0.00"},{"v":0,"d":"0.00"},{"v":0,"d":"0.00"},{"v":0,"d":"0.00"},{"v":0,"d":"0.00"},{"v":0,"d":"0.00"},{"v":0,"d":"0.00"},{"v":0,"d":"0.00"},{"v":0,"d":"0.00"},{"v":0,"d":"0.00"},{"v":0,"d":"0.00"},{"v":0,"d":"0.00"},{"v":0,"d":"0.00"},{"v":0,"d":"0.00"},{"v":0,"d":"0.00"},{"v":0,"d":"0.00"},{"v":0,"d":"0.00"},{"v":0,"d":"0.00"},{"v":0,"d":"0.00"},{"v":0,"d":"0.00"},{"v":0,"d":"0.00"},{"v":0,"d":"0.00"},{"v":0,"d":"0.00"},{"v":0,"d":"0.00"},{"v":0,"d":"0.00"},{"v":0,"d":"0.00"},{"$f":"SUM(D202:AH202)","v":{"v":0,"d":"0.00"}}]
[]
[]
["nachrichtlich:"]
["Fehlzeiten (z.B. Urlaub, \nKrankheit, Fortbildung)",{"$nulls":33},{"$f":"SUM(D206:AH206)","v":{"v":0,"d":"0.00"}}]
[]
[]
["1)  ggf. Angabe des FKZ. anderer geförderter Projekte:"]
[]
[]
[]
[]
[]
[]
["Unterschrift des Vorgesetzten",{"$nulls":12},"Unterschrift des Mitarbeiters"]
[]
[{"$nulls":23},"Förderkennzeichen :",{"$nulls":5},{"$f":"IF($AD$2=\"\",\"\",$AD$2)","v":""}]
["   Zuwendungsempfänger (Firmenstempel)"]
["Stundennachweis"]
["für pauschalierte Abrechnung gemäß Nr. 6 ANBest-P-Kosten (Anlage 1 zum Verwendungsnachweis)"]
[]
["Der Original-Stundennachweis verbleibt beim Zuwendungsempfänger."]
[]
["Vorhabenthema"]
[{"$f":"IF($A$10=\"\",\"\",$A190)","v":""}]
[]
["Monat",null,"Jahr",{"$nulls":8},"Mitarbeiter(in) [Name, Vorname]"]
["Juli",null,{"$f":"C13","v":0},{"$nulls":8},{"$f":"IF($L$13=\"\",\"\",$L$13)","v":""}]
[]
["Die zu Lasten des Vorhabens abzurechnenden Personalstunden sind täglich eingenhändig von der betreffenden Person zu erfassen. Nur die produktiven, für das Vorhaben"]
["geleisteten Stundenn sind zuwendungsfähig."]
[]
["Tätigkeiten",null,null,"Arbeitszeiten in Stunden je Kalendertag",{"$nulls":30},"Summe der \nMonats- stunden"]
[{"$nulls":3},1,2,3,4,5,6,7,8,9,10,11,12,13,14,15,16,17,18,19,20,21,22,23,24,25,26,27,28,29,30,31]
["Vorhabenbezogen",{"$nulls":33},{"$f":"SUM(D236:AH236)","v":{"v":0,"d":"0.00"}}]
["Sonstige 1)",{"$nulls":33},{"$f":"SUM(D237:AH237)","v":{"v":0,"d":"0.00"}}]
["Produktive Gesamtstunden",null,null,{"$f":"SUM(D236:D237)","v":{"v":0,"d":"0.00"}},{"$f":"SUM(E236:E237)","v":{"v":0,"d":"0.00"}},{"v":0,"d":"0.00"},{"v":0,"d":"0.00"},{"v":0,"d":"0.00"},{"v":0,"d":"0.00"},{"v":0,"d":"0.00"},{"v":0,"d":"0.00"},{"v":0,"d":"0.00"},{"v":0,"d":"0.00"},{"v":0,"d":"0.00"},{"v":0,"d":"0.00"},{"v":0,"d":"0.00"},{"v":0,"d":"0.00"},{"v":0,"d":"0.00"},{"v":0,"d":"0.00"},{"v":0,"d":"0.00"},{"v":0,"d":"0.00"},{"v":0,"d":"0.00"},{"v":0,"d":"0.00"},{"v":0,"d":"0.00"},{"v":0,"d":"0.00"},{"v":0,"d":"0.00"},{"v":0,"d":"0.00"},{"v":0,"d":"0.00"},{"v":0,"d":"0.00"},{"v":0,"d":"0.00"},{"v":0,"d":"0.00"},{"v":0,"d":"0.00"},{"v":0,"d":"0.00"},{"v":0,"d":"0.00"},{"$f":"SUM(D238:AH238)","v":{"v":0,"d":"0.00"}}]
[]
[]
["nachrichtlich:"]
["Fehlzeiten (z.B. Urlaub, \nKrankheit, Fortbildung)",{"$nulls":33},{"$f":"SUM(D242:AH242)","v":{"v":0,"d":"0.00"}}]
[]
[]
["1)  ggf. Angabe des FKZ. anderer geförderter Projekte:"]
[]
[]
[]
[]
[]
[]
["Unterschrift des Vorgesetzten",{"$nulls":12},"Unterschrift des Mitarbeiters"]
[]
[{"$nulls":23},"Förderkennzeichen :",{"$nulls":5},{"$f":"IF($AD$2=\"\",\"\",$AD$2)","v":""}]
["   Zuwendungsempfänger (Firmenstempel)"]
["Stundennachweis"]
["für pauschalierte Abrechnung gemäß Nr. 6 ANBest-P-Kosten (Anlage 1 zum Verwendungsnachweis)"]
[]
["Der Original-Stundennachweis verbleibt beim Zuwendungsempfänger."]
[]
["Vorhabenthema"]
[{"$f":"IF($A$10=\"\",\"\",$A226)","v":""}]
[]
["Monat",null,"Jahr",{"$nulls":8},"Mitarbeiter(in) [Name, Vorname]"]
["August",null,{"$f":"C13","v":0},{"$nulls":8},{"$f":"IF($L$13=\"\",\"\",$L$13)","v":""}]
[]
["Die zu Lasten des Vorhabens abzurechnenden Personalstunden sind täglich eingenhändig von der betreffenden Person zu erfassen. Nur die produktiven, für das Vorhaben"]
["geleisteten Stundenn sind zuwendungsfähig."]
[]
["Tätigkeiten",null,null,"Arbeitszeiten in Stunden je Kalendertag",{"$nulls":30},"Summe der \nMonats- stunden"]
[{"$nulls":3},1,2,3,4,5,6,7,8,9,10,11,12,13,14,15,16,17,18,19,20,21,22,23,24,25,26,27,28,29,30,31]
["Vorhabenbezogen",{"$nulls":33},{"$f":"SUM(D272:AH272)","v":{"v":0,"d":"0.00"}}]
["Sonstige 1)",{"$nulls":33},{"$f":"SUM(D273:AH273)","v":{"v":0,"d":"0.00"}}]
["Produktive Gesamtstunden",null,null,{"$f":"SUM(D272:D273)","v":{"v":0,"d":"0.00"}},{"$f":"SUM(E272:E273)","v":{"v":0,"d":"0.00"}},{"v":0,"d":"0.00"},{"v":0,"d":"0.00"},{"v":0,"d":"0.00"},{"v":0,"d":"0.00"},{"v":0,"d":"0.00"},{"v":0,"d":"0.00"},{"v":0,"d":"0.00"},{"v":0,"d":"0.00"},{"v":0,"d":"0.00"},{"v":0,"d":"0.00"},{"v":0,"d":"0.00"},{"v":0,"d":"0.00"},{"v":0,"d":"0.00"},{"v":0,"d":"0.00"},{"v":0,"d":"0.00"},{"v":0,"d":"0.00"},{"v":0,"d":"0.00"},{"v":0,"d":"0.00"},{"v":0,"d":"0.00"},{"v":0,"d":"0.00"},{"v":0,"d":"0.00"},{"v":0,"d":"0.00"},{"v":0,"d":"0.00"},{"v":0,"d":"0.00"},{"v":0,"d":"0.00"},{"v":0,"d":"0.00"},{"v":0,"d":"0.00"},{"v":0,"d":"0.00"},{"v":0,"d":"0.00"},{"$f":"SUM(D274:AH274)","v":{"v":0,"d":"0.00"}}]
[]
[]
["nachrichtlich:"]
["Fehlzeiten (z.B. Urlaub, \nKrankheit, Fortbildung)",{"$nulls":33},{"$f":"SUM(D278:AH278)","v":{"v":0,"d":"0.00"}}]
[]
[]
["1)  ggf. Angabe des FKZ. anderer geförderter Projekte:"]
[]
[]
[]
[]
[]
[]
["Unterschrift des Vorgesetzten",{"$nulls":12},"Unterschrift des Mitarbeiters"]
[]
[{"$nulls":23},"Förderkennzeichen :",{"$nulls":5},{"$f":"IF($AD$2=\"\",\"\",$AD$2)","v":""}]
["   Zuwendungsempfänger (Firmenstempel)"]
["Stundennachweis"]
["für pauschalierte Abrechnung gemäß Nr. 6 ANBest-P-Kosten (Anlage 1 zum Verwendungsnachweis)"]
[]
["Der Original-Stundennachweis verbleibt beim Zuwendungsempfänger."]
[]
["Vorhabenthema"]
[{"$f":"IF($A$10=\"\",\"\",$A262)","v":""}]
[]
["Monat",null,"Jahr",{"$nulls":8},"Mitarbeiter(in) [Name, Vorname]"]
["September",null,{"$f":"C13","v":0},{"$nulls":8},{"$f":"IF($L$13=\"\",\"\",$L$13)","v":""}]
[]
["Die zu Lasten des Vorhabens abzurechnenden Personalstunden sind täglich eingenhändig von der betreffenden Person zu erfassen. Nur die produktiven, für das Vorhaben"]
["geleisteten Stundenn sind zuwendungsfähig."]
[]
["Tätigkeiten",null,null,"Arbeitszeiten in Stunden je Kalendertag",{"$nulls":30},"Summe der \nMonats- stunden"]
[{"$nulls":3},1,2,3,4,5,6,7,8,9,10,11,12,13,14,15,16,17,18,19,20,21,22,23,24,25,26,27,28,29,30,31]
["Vorhabenbezogen",{"$nulls":33},{"$f":"SUM(D308:AH308)","v":{"v":0,"d":"0.00"}}]
["Sonstige 1)",{"$nulls":33},{"$f":"SUM(D309:AH309)","v":{"v":0,"d":"0.00"}}]
["Produktive Gesamtstunden",null,null,{"$f":"SUM(D308:D309)","v":{"v":0,"d":"0.00"}},{"$f":"SUM(E308:E309)","v":{"v":0,"d":"0.00"}},{"v":0,"d":"0.00"},{"v":0,"d":"0.00"},{"v":0,"d":"0.00"},{"v":0,"d":"0.00"},{"v":0,"d":"0.00"},{"v":0,"d":"0.00"},{"v":0,"d":"0.00"},{"v":0,"d":"0.00"},{"v":0,"d":"0.00"},{"v":0,"d":"0.00"},{"v":0,"d":"0.00"},{"v":0,"d":"0.00"},{"v":0,"d":"0.00"},{"v":0,"d":"0.00"},{"v":0,"d":"0.00"},{"v":0,"d":"0.00"},{"v":0,"d":"0.00"},{"v":0,"d":"0.00"},{"v":0,"d":"0.00"},{"v":0,"d":"0.00"},{"v":0,"d":"0.00"},{"v":0,"d":"0.00"},{"v":0,"d":"0.00"},{"v":0,"d":"0.00"},{"v":0,"d":"0.00"},{"v":0,"d":"0.00"},{"v":0,"d":"0.00"},{"v":0,"d":"0.00"},{"v":0,"d":"0.00"},{"$f":"SUM(D310:AH310)","v":{"v":0,"d":"0.00"}}]
[]
[]
["nachrichtlich:"]
["Fehlzeiten (z.B. Urlaub, \nKrankheit, Fortbildung)",{"$nulls":33},{"$f":"SUM(D314:AH314)","v":{"v":0,"d":"0.00"}}]
[]
[]
["1)  ggf. Angabe des FKZ. anderer geförderter Projekte:"]
[]
[]
[]
[]
[]
[]
["Unterschrift des Vorgesetzten",{"$nulls":12},"Unterschrift des Mitarbeiters"]
[]
[{"$nulls":23},"Förderkennzeichen :",{"$nulls":5},{"$f":"IF($AD$2=\"\",\"\",$AD$2)","v":""}]
["   Zuwendungsempfänger (Firmenstempel)"]
["Stundennachweis"]
["für pauschalierte Abrechnung gemäß Nr. 6 ANBest-P-Kosten (Anlage 1 zum Verwendungsnachweis)"]
[]
["Der Original-Stundennachweis verbleibt beim Zuwendungsempfänger."]
[]
["Vorhabenthema"]
[{"$f":"IF($A$10=\"\",\"\",$A298)","v":""}]
[]
["Monat",null,"Jahr",{"$nulls":8},"Mitarbeiter(in) [Name, Vorname]"]
["Oktober",null,{"$f":"C13","v":0},{"$nulls":8},{"$f":"IF($L$13=\"\",\"\",$L$13)","v":""}]
[]
["Die zu Lasten des Vorhabens abzurechnenden Personalstunden sind täglich eingenhändig von der betreffenden Person zu erfassen. Nur die produktiven, für das Vorhaben"]
["geleisteten Stundenn sind zuwendungsfähig."]
[]
["Tätigkeiten",null,null,"Arbeitszeiten in Stunden je Kalendertag",{"$nulls":30},"Summe der \nMonats- stunden"]
[{"$nulls":3},1,2,3,4,5,6,7,8,9,10,11,12,13,14,15,16,17,18,19,20,21,22,23,24,25,26,27,28,29,30,31]
["Vorhabenbezogen",{"$nulls":33},{"$f":"SUM(D344:AH344)","v":{"v":0,"d":"0.00"}}]
["Sonstige 1)",{"$nulls":33},{"$f":"SUM(D345:AH345)","v":{"v":0,"d":"0.00"}}]
["Produktive Gesamtstunden",null,null,{"$f":"SUM(D344:D345)","v":{"v":0,"d":"0.00"}},{"$f":"SUM(E344:E345)","v":{"v":0,"d":"0.00"}},{"v":0,"d":"0.00"},{"v":0,"d":"0.00"},{"v":0,"d":"0.00"},{"v":0,"d":"0.00"},{"v":0,"d":"0.00"},{"v":0,"d":"0.00"},{"v":0,"d":"0.00"},{"v":0,"d":"0.00"},{"v":0,"d":"0.00"},{"v":0,"d":"0.00"},{"v":0,"d":"0.00"},{"v":0,"d":"0.00"},{"v":0,"d":"0.00"},{"v":0,"d":"0.00"},{"v":0,"d":"0.00"},{"v":0,"d":"0.00"},{"v":0,"d":"0.00"},{"v":0,"d":"0.00"},{"v":0,"d":"0.00"},{"v":0,"d":"0.00"},{"v":0,"d":"0.00"},{"v":0,"d":"0.00"},{"v":0,"d":"0.00"},{"v":0,"d":"0.00"},{"v":0,"d":"0.00"},{"v":0,"d":"0.00"},{"v":0,"d":"0.00"},{"v":0,"d":"0.00"},{"v":0,"d":"0.00"},{"$f":"SUM(D346:AH346)","v":{"v":0,"d":"0.00"}}]
[]
[]
["nachrichtlich:"]
["Fehlzeiten (z.B. Urlaub, \nKrankheit, Fortbildung)",{"$nulls":33},{"$f":"SUM(D350:AH350)","v":{"v":0,"d":"0.00"}}]
[]
[]
["1)  ggf. Angabe des FKZ. anderer geförderter Projekte:"]
[]
[]
[]
[]
[]
[]
["Unterschrift des Vorgesetzten",{"$nulls":12},"Unterschrift des Mitarbeiters"]
[]
[{"$nulls":23},"Förderkennzeichen :",{"$nulls":5},{"$f":"IF($AD$2=\"\",\"\",$AD$2)","v":""}]
["   Zuwendungsempfänger (Firmenstempel)"]
["Stundennachweis"]
["für pauschalierte Abrechnung gemäß Nr. 6 ANBest-P-Kosten (Anlage 1 zum Verwendungsnachweis)"]
[]
["Der Original-Stundennachweis verbleibt beim Zuwendungsempfänger."]
[]
["Vorhabenthema"]
[{"$f":"IF($A$10=\"\",\"\",$A334)","v":""}]
[]
["Monat",null,"Jahr",{"$nulls":8},"Mitarbeiter(in) [Name, Vorname]"]
["November",null,{"$f":"C13","v":0},{"$nulls":8},{"$f":"IF($L$13=\"\",\"\",$L$13)","v":""}]
[]
["Die zu Lasten des Vorhabens abzurechnenden Personalstunden sind täglich eingenhändig von der betreffenden Person zu erfassen. Nur die produktiven, für das Vorhaben"]
["geleisteten Stundenn sind zuwendungsfähig."]
[]
["Tätigkeiten",null,null,"Arbeitszeiten in Stunden je Kalendertag",{"$nulls":30},"Summe der \nMonats- stunden"]
[{"$nulls":3},1,2,3,4,5,6,7,8,9,10,11,12,13,14,15,16,17,18,19,20,21,22,23,24,25,26,27,28,29,30,31]
["Vorhabenbezogen",{"$nulls":33},{"$f":"SUM(D380:AH380)","v":{"v":0,"d":"0.00"}}]
["Sonstige 1)",{"$nulls":33},{"$f":"SUM(D381:AH381)","v":{"v":0,"d":"0.00"}}]
["Produktive Gesamtstunden",null,null,{"$f":"SUM(D380:D381)","v":{"v":0,"d":"0.00"}},{"$f":"SUM(E380:E381)","v":{"v":0,"d":"0.00"}},{"v":0,"d":"0.00"},{"v":0,"d":"0.00"},{"v":0,"d":"0.00"},{"v":0,"d":"0.00"},{"v":0,"d":"0.00"},{"v":0,"d":"0.00"},{"v":0,"d":"0.00"},{"v":0,"d":"0.00"},{"v":0,"d":"0.00"},{"v":0,"d":"0.00"},{"v":0,"d":"0.00"},{"v":0,"d":"0.00"},{"v":0,"d":"0.00"},{"v":0,"d":"0.00"},{"v":0,"d":"0.00"},{"v":0,"d":"0.00"},{"v":0,"d":"0.00"},{"v":0,"d":"0.00"},{"v":0,"d":"0.00"},{"v":0,"d":"0.00"},{"v":0,"d":"0.00"},{"v":0,"d":"0.00"},{"v":0,"d":"0.00"},{"v":0,"d":"0.00"},{"v":0,"d":"0.00"},{"v":0,"d":"0.00"},{"v":0,"d":"0.00"},{"v":0,"d":"0.00"},{"v":0,"d":"0.00"},{"$f":"SUM(D382:AH382)","v":{"v":0,"d":"0.00"}}]
[]
[]
["nachrichtlich:"]
["Fehlzeiten (z.B. Urlaub, \nKrankheit, Fortbildung)",{"$nulls":33},{"$f":"SUM(D386:AH386)","v":{"v":0,"d":"0.00"}}]
[]
[]
["1)  ggf. Angabe des FKZ. anderer geförderter Projekte:"]
[]
[]
[]
[]
[]
[]
["Unterschrift des Vorgesetzten",{"$nulls":12},"Unterschrift des Mitarbeiters"]
[]
[{"$nulls":23},"Förderkennzeichen :",{"$nulls":5},{"$f":"IF($AD$2=\"\",\"\",$AD$2)","v":""}]
["   Zuwendungsempfänger (Firmenstempel)"]
["Stundennachweis"]
["für pauschalierte Abrechnung gemäß Nr. 6 ANBest-P-Kosten (Anlage 1 zum Verwendungsnachweis)"]
[]
["Der Original-Stundennachweis verbleibt beim Zuwendungsempfänger."]
[]
["Vorhabenthema"]
[{"$f":"IF($A$10=\"\",\"\",$A370)","v":""}]
[]
["Monat",null,"Jahr",{"$nulls":8},"Mitarbeiter(in) [Name, Vorname]"]
["Dezember",null,{"$f":"C13","v":0},{"$nulls":8},{"$f":"IF($L$13=\"\",\"\",$L$13)","v":""}]
[]
["Die zu Lasten des Vorhabens abzurechnenden Personalstunden sind täglich eingenhändig von der betreffenden Person zu erfassen. Nur die produktiven, für das Vorhaben"]
["geleisteten Stundenn sind zuwendungsfähig."]
[]
["Tätigkeiten",null,null,"Arbeitszeiten in Stunden je Kalendertag",{"$nulls":30},"Summe der \nMonats- stunden"]
[{"$nulls":3},1,2,3,4,5,6,7,8,9,10,11,12,13,14,15,16,17,18,19,20,21,22,23,24,25,26,27,28,29,30,31]
["Vorhabenbezogen",{"$nulls":33},{"$f":"SUM(D416:AH416)","v":{"v":0,"d":"0.00"}}]
["Sonstige 1)",{"$nulls":33},{"$f":"SUM(D417:AH417)","v":{"v":0,"d":"0.00"}}]
["Produktive Gesamtstunden",null,null,{"$f":"SUM(D416:D417)","v":0},{"$f":"SUM(E416:E417)","v":{"v":0,"d":"0.00"}},{"v":0,"d":"0.00"},{"v":0,"d":"0.00"},{"v":0,"d":"0.00"},{"v":0,"d":"0.00"},{"v":0,"d":"0.00"},{"v":0,"d":"0.00"},{"v":0,"d":"0.00"},{"v":0,"d":"0.00"},{"v":0,"d":"0.00"},{"v":0,"d":"0.00"},{"v":0,"d":"0.00"},{"v":0,"d":"0.00"},{"v":0,"d":"0.00"},{"v":0,"d":"0.00"},{"v":0,"d":"0.00"},{"v":0,"d":"0.00"},{"v":0,"d":"0.00"},{"v":0,"d":"0.00"},{"v":0,"d":"0.00"},{"v":0,"d":"0.00"},{"v":0,"d":"0.00"},{"v":0,"d":"0.00"},{"v":0,"d":"0.00"},{"v":0,"d":"0.00"},{"v":0,"d":"0.00"},{"v":0,"d":"0.00"},{"v":0,"d":"0.00"},{"v":0,"d":"0.00"},{"v":0,"d":"0.00"},{"$f":"SUM(D418:AH418)","v":{"v":0,"d":"0.00"}}]
[]
[]
["nachrichtlich:"]
["Fehlzeiten (z.B. Urlaub, \nKrankheit, Fortbildung)",{"$nulls":33},{"$f":"SUM(D422:AH422)","v":{"v":0,"d":"0.00"}}]
[]
[]
["1)  ggf. Angabe des FKZ. anderer geförderter Projekte:"]
[]
[]
[]
[]
[]
[]
["Unterschrift des Vorgesetzten",{"$nulls":12},"Unterschrift des Mitarbeiters"]

{"sheet":"Jahresstd.satz Mitarbeiter B","index":4,"n_rows":38,"n_cols":15,"rows_kept":38,"merged":[[1,0,1,3],[1,8,1,10],[1,11,1,14],[5,0,5,14],[6,0,6,14],[10,0,10,14],[13,4,13,14],[16,0,17,1],[16,14,17,14],[18,0,18,1],[19,0,19,1],[20,0,20,1],[28,11,28,13],[29,6,29,8],[29,9,30,10],[29,11,30,13],[30,6,30,8]]}
[]
[{"$nulls":8},"Förderkennzeichen:       ",null,null,{"$f":"IF('Stundennachweise Mitarbeiter B'!AD2=0,\"\",'Stundennachweise Mitarbeiter B'!AD2)","v":""}]
["   Zuwendungsempfänger (Firmenstempel)"]
[]
[]
["Ermittlung des Jahresstundensatzes"]
["bei pauschalierter Abrechnung gemäß Nr. 6 ANBest-P-Kosten (Anlage 2 zum Verwendungsnachweis)"]
[]
[]
["Vorhabenthema"]
[{"$f":"IF('Stundennachweise Mitarbeiter B'!A10:AI10=\"\",\"\",'Stundennachweise Mitarbeiter B'!A10:AI10)","v":""}]
[]
["Jahr",{"$nulls":3},"Mitarbeiter(in) [Name, Vorname]"]
[{"$f":"IF('Stundennachweise Mitarbeiter B'!C13=\"\",\"\",'Stundennachweise Mitarbeiter B'!C13)","v":""},{"$nulls":3},{"$f":"IF('Stundennachweise Mitarbeiter B'!L13=\"\",\"\",'Stundennachweise Mitarbeiter B'!L13)","v":""}]
[]
["1. Jahresstunden lt. monatlichen Stundennachweisen"]
["Tätigkeiten",null,"Arbeitszeit in Stunden je Monat:",{"$nulls":11},"Summe der Jahresstunden"]
[null,null,"Januar","Februar","März","April","Mai","Juni","Juli","August","Sept.","Oktober","Nov.","Dez."]
["Vorhabenbezogen",null,{"$f":"'Stundennachweise Mitarbeiter B'!AI20","v":{"v":0,"d":"0.00"}},{"$f":"'Stundennachweise Mitarbeiter B'!AI56","v":{"v":0,"d":"0.00"}},{"$f":"'Stundennachweise Mitarbeiter B'!AI92","v":{"v":0,"d":"0.00"}},{"$f":"'Stundennachweise Mitarbeiter B'!AI128","v":{"v":0,"d":"0.00"}},{"$f":"'Stundennachweise Mitarbeiter B'!AI164","v":{"v":0,"d":"0.00"}},{"$f":"'Stundennachweise Mitarbeiter B'!AI200","v":{"v":0,"d":"0.00"}},{"$f":"'Stundennachweise Mitarbeiter B'!AI236","v":{"v":0,"d":"0.00"}},{"$f":"'Stundennachweise Mitarbeiter B'!AI272","v":{"v":0,"d":"0.00"}},{"$f":"'Stundennachweise Mitarbeiter B'!AI308","v":{"v":0,"d":"0.00"}},{"$f":"'Stundennachweise Mitarbeiter B'!AI344","v":{"v":0,"d":"0.00"}},{"$f":"'Stundennachweise Mitarbeiter B'!AI380","v":{"v":0,"d":"0.00"}},{"$f":"'Stundennachweise Mitarbeiter B'!AI416","v":{"v":0,"d":"0.00"}},{"$f":"SUM(C19:N19)","v":{"v":0,"d":"0.00"}}]
["Sonstige",null,{"$f":"'Stundennachweise Mitarbeiter B'!AI21","v":{"v":0,"d":"0.00"}},{"$f":"'Stundennachweise Mitarbeiter B'!AI57","v":{"v":0,"d":"0.00"}},{"$f":"'Stundennachweise Mitarbeiter B'!AI93","v":{"v":0,"d":"0.00"}},{"$f":"'Stundennachweise Mitarbeiter B'!AI129","v":{"v":0,"d":"0.00"}},{"$f":"'Stundennachweise Mitarbeiter B'!AI165","v":{"v":0,"d":"0.00"}},{"$f":"'Stundennachweise Mitarbeiter B'!AI201","v":{"v":0,"d":"0.00"}},{"$f":"'Stundennachweise Mitarbeiter B'!AI237","v":{"v":0,"d":"0.00"}},{"$f":"'Stundennachweise Mitarbeiter B'!AI273","v":{"v":0,"d":"0.00"}},{"$f":"'Stundennachweise Mitarbeiter B'!AI309","v":{"v":0,"d":"0.00"}},{"$f":"'Stundennachweise Mitarbeiter B'!AI345","v":{"v":0,"d":"0.00"}},{"$f":"'Stundennachweise Mitarbeiter B'!AI381","v":{"v":0,"d":"0.00"}},{"$f":"'Stundennachweise Mitarbeiter B'!AI417","v":{"v":0,"d":"0.00"}},{"$f":"SUM(C20:N20)","v":{"v":0,"d":"0.00"}}]
["Produktive Gesamtstunden",null,{"$f":"'Stundennachweise Mitarbeiter B'!AI22","v":{"v":0,"d":"0.00"}},{"$f":"'Stundennachweise Mitarbeiter B'!AI58","v":{"v":0,"d":"0.00"}},{"$f":"'Stundennachweise Mitarbeiter B'!AI94","v":{"v":0,"d":"0.00"}},{"$f":"'Stundennachweise Mitarbeiter B'!AI130","v":{"v":0,"d":"0.00"}},{"$f":"'Stundennachweise Mitarbeiter B'!AI166","v":{"v":0,"d":"0.00"}},{"$f":"'Stundennachweise Mitarbeiter B'!AI202","v":{"v":0,"d":"0.00"}},{"$f":"'Stundennachweise Mitarbeiter B'!AI238","v":{"v":0,"d":"0.00"}},{"$f":"'Stundennachweise Mitarbeiter B'!AI274","v":{"v":0,"d":"0.00"}},{"$f":"'Stundennachweise Mitarbeiter B'!AI310","v":{"v":0,"d":"0.00"}},{"$f":"'Stundennachweise Mitarbeiter B'!AI346","v":{"v":0,"d":"0.00"}},{"$f":"'Stundennachweise Mitarbeiter B'!AI382","v":{"v":0,"d":"0.00"}},{"$f":"'Stundennachweise Mitarbeiter B'!AI418","v":{"v":0,"d":"0.00"}},{"$f":"SUM(C21:N21)","v":{"v":0,"d":"0.00"}}]
[]
["nachrichtlich:"]
["Fehlzeiten (z.B. Urlaub, Krankheit, Fortbildung)",null,{"$f":"'Stundennachweise Mitarbeiter B'!AI26","v":{"v":0,"d":"0.00"}},{"$f":"'Stundennachweise Mitarbeiter B'!AI62","v":{"v":0,"d":"0.00"}},{"$f":"'Stundennachweise Mitarbeiter B'!AI98","v":{"v":0,"d":"0.00"}},{"$f":"'Stundennachweise Mitarbeiter B'!AI134","v":{"v":0,"d":"0.00"}},{"$f":"'Stundennachweise Mitarbeiter B'!AI170","v":{"v":0,"d":"0.00"}},{"$f":"'Stundennachweise Mitarbeiter B'!AI206","v":{"v":0,"d":"0.00"}},{"$f":"'Stundennachweise Mitarbeiter B'!AI242","v":{"v":0,"d":"0.00"}},{"$f":"'Stundennachweise Mitarbeiter B'!AI278","v":{"v":0,"d":"0.00"}},{"$f":"'Stundennachweise Mitarbeiter B'!AI314","v":{"v":0,"d":"0.00"}},{"$f":"'Stundennachweise Mitarbeiter B'!AI350","v":{"v":0,"d":"0.00"}},{"$f":"'Stundennachweise Mitarbeiter B'!AI386","v":{"v":0,"d":"0.00"}},{"$f":"'Stundennachweise Mitarbeiter B'!AI422","v":{"v":0,"d":"0.00"}},{"$f":"SUM(C24:N24)","v":{"v":0,"d":"0.00"}}]
[]
[]
["2. Berechnung des Jahresstundensatzes"]
[]
[{"$nulls":11},"Jahresstundensatz"]
["Bruttojahreslohn/ -gehalt 1)",{"$nulls":8},"=",null,{"$f":"IF(G30=\"\",\"\",G30/G31)","v":""}]
["Jahresarbeitsstunden lt. Tarifvertrag/Betriebsvereinbarung/Arbeitsvertrag 2)"]
[]
[]
[]
[]
["1)   Personalkosten i.S. der Nr. 6.1.3 ANBest-P-Kosten"]
[]
["2)   Bei tatsächlich mehr geleisteten produktiven Gesamtstunden (vorhabenbezogene und sonstige) gelten diese Gesamtsunden als Divisor"]

{"sheet":"Stundennachweise Mitarbeiter C","index":5,"n_rows":432,"n_cols":35,"rows_kept":432,"merged":[[1,0,1,7],[1,29,1,34],[3,0,3,34],[4,0,4,34],[9,0,9,34],[12,11,12,34],[17,0,18,2],[17,34,18,34],[19,0,19,2],[20,0,20,2],[21,0,21,2],[25,0,25,2],[28,10,28,16],[29,10,29,16],[37,0,37,7],[37,29,37,34],[39,0,39,34],[40,0,40,34],[45,0,45,34],[48,11,48,34],[53,0,54,2],[53,34,54,34],[55,0,55,2],[56,0,56,2],[57,0,57,2],[61,0,61,2],[64,10,64,16],[65,10,65,16],[73,0,73,7],[73,29,73,34],[75,0,75,34],[76,0,76,34],[81,0,81,34],[84,11,84,34],[89,0,90,2],[89,34,90,34],[91,0,91,2],[92,0,92,2],[93,0,93,2],[97,0,97,2],[100,10,100,16],[101,10,101,16],[109,0,109,7],[109,29,109,34],[111,0,111,34],[112,0,112,34],[117,0,117,34],[120,11,120,34],[125,0,126,2],[125,34,126,34],[127,0,127,2],[128,0,128,2],[129,0,129,2],[133,0,133,2],[136,10,136,16],[137,10,137,16],[145,0,145,7],[145,29,145,34],[147,0,147,34],[148,0,148,34],[153,0,153,34],[156,11,156,34],[161,0,162,2],[161,34,162,34],[163,0,163,2],[164,0,164,2],[165,0,165,2],[169,0,169,2],[172,10,172,16],[173,10,173,16],[181,0,181,7],[181,29,181,34],[183,0,183,34],[184,0,184,34],[189,0,189,34],[192,11,192,34],[197,0,198,2],[197,34,198,34],[199,0,199,2],[200,0,200,2],[201,0,201,2],[205,0,205,2],[208,10,208,16],[209,10,209,16],[217,0,217,7],[217,29,217,34],[219,0,219,34],[220,0,220,34],[225,0,225,34],[228,11,228,34],[233,0,234,2],[233,34,234,34],[235,0,235,2],[236,0,236,2],[237,0,237,2],[241,0,241,2],[244,10,244,16],[245,10,245,16],[253,0,253,7],[253,29,253,34],[255,0,255,34],[256,0,256,34],[261,0,261,34],[264,11,264,34],[269,0,270,2],[269,34,270,34],[271,0,271,2],[272,0,272,2],[273,0,273,2],[277,0,277,2],[280,10,280,16],[281,10,281,16],[289,0,289,7],[289,29,289,34],[291,0,291,34],[292,0,292,34],[297,0,297,34],[300,11,300,34],[305,0,306,2],[305,34,306,34],[307,0,307,2],[308,0,308,2],[309,0,309,2],[313,0,313,2],[316,10,316,16],[317,10,317,16],[325,0,325,7],[325,29,325,34],[327,0,327,34],[328,0,328,34],[333,0,333,34],[336,11,336,34],[341,0,342,2],[341,34,342,34],[343,0,343,2],[344,0,344,2],[345,0,345,2],[349,0,349,2],[352,10,352,16],[353,10,353,16],[361,0,361,7],[361,29,361,34],[363,0,363,34],[364,0,364,34],[369,0,369,34],[372,11,372,34],[377,0,378,2],[377,34,378,34],[379,0,379,2],[380,0,380,2],[381,0,381,2],[385,0,385,2],[388,10,388,16],[389,10,389,16],[397,0,397,7],[397,29,397,34],[399,0,399,34],[400,0,400,34],[405,0,405,34],[408,11,408,34],[413,0,414,2],[413,34,414,34],[415,0,415,2],[416,0,416,2],[417,0,417,2],[421,0,421,2],[424,10,424,16],[425,10,425,16]]}
[]
[{"$nulls":23},"Förderkennzeichen :"]
["   Zuwendungsempfänger (Firmenstempel)"]
["Stundennachweis"]
["für pauschalierte Abrechnung gemäß Nr. 6 ANBest-P-Kosten (Anlage 1 zum Verwendungsnachweis)"]
[]
["Der Original-Stundennachweis verbleibt beim Zuwendungsempfänger."]
[]
["Vorhabenthema"]
[]
[]
["Monat",null,"Jahr",{"$nulls":8},"Mitarbeiter(in) [Name, Vorname]"]
["Januar"]
[]
["Die zu Lasten des Vorhabens abzurechnenden Personalstunden sind täglich eingenhändig von der betreffenden Person zu erfassen. Nur die produktiven, für das Vorhaben"]
["geleisteten Stundenn sind zuwendungsfähig."]
[]
["Tätigkeiten",null,null,"Arbeitszeiten in Stunden je Kalendertag",{"$nulls":30},"Summe der \nMonats- stunden"]
[{"$nulls":3},1,2,3,4,5,6,7,8,9,10,11,12,13,14,15,16,17,18,19,20,21,22,23,24,25,26,27,28,29,30,31]
["Vorhabenbezogen",{"$nulls":33},{"$f":"SUM(D20:AH20)","v":{"v":0,"d":"0.00"}}]
["Sonstige 1)",{"$nulls":33},{"$f":"SUM(D21:AH21)","v":{"v":0,"d":"0.00"}}]
["Produktive Gesamtstunden",null,null,{"$f":"SUM(D20:D21)","v":{"v":0,"d":"0.00"}},{"$f":"SUM(E20:E21)","v":{"v":0,"d":"0.00"}},{"v":0,"d":"0.00"},{"v":0,"d":"0.00"},{"v":0,"d":"0.00"},{"v":0,"d":"0.00"},{"v":0,"d":"0.00"},{"v":0,"d":"0.00"},{"v":0,"d":"0.00"},{"v":0,"d":"0.00"},{"v":0,"d":"0.00"},{"v":0,"d":"0.00"},{"v":0,"d":"0.00"},{"v":0,"d":"0.00"},{"v":0,"d":"0.00"},{"v":0,"d":"0.00"},{"v":0,"d":"0.00"},{"v":0,"d":"0.00"},{"v":0,"d":"0.00"},{"v":0,"d":"0.00"},{"v":0,"d":"0.00"},{"v":0,"d":"0.00"},{"v":0,"d":"0.00"},{"v":0,"d":"0.00"},{"v":0,"d":"0.00"},{"v":0,"d":"0.00"},{"v":0,"d":"0.00"},{"v":0,"d":"0.00"},{"v":0,"d":"0.00"},{"v":0,"d":"0.00"},{"v":0,"d":"0.00"},{"$f":"SUM(D22:AH22)","v":{"v":0,"d":"0.00"}}]
[]
[]
["nachrichtlich:"]
["Fehlzeiten (z.B. Urlaub, \nKrankheit, Fortbildung)",{"$nulls":33},{"$f":"SUM(D26:AH26)","v":{"v":0,"d":"0.00"}}]
[]
[]
["1)  ggf. Angabe des FKZ. anderer geförderter Projekte:"]
[]
[]
[]
[]
[]
[]
["Unterschrift des Vorgesetzten",{"$nulls":12},"Unterschrift des Mitarbeiters"]
[]
[{"$nulls":23},"Förderkennzeichen :",{"$nulls":5},{"$f":"IF($AD$2=\"\",\"\",$AD$2)","v":""}]
["   Zuwendungsempfänger (Firmenstempel)"]
["Stundennachweis"]
["für pauschalierte Abrechnung gemäß Nr. 6 ANBest-P-Kosten (Anlage 1 zum Verwendungsnachweis)"]
[]
["Der Original-Stundennachweis verbleibt beim Zuwendungsempfänger."]
[]
["Vorhabenthema"]
[{"$f":"IF($A$10=\"\",\"\",$A10)","v":""}]
[]
["Monat",null,"Jahr",{"$nulls":8},"Mitarbeiter(in) [Name, Vorname]"]
["Februar",null,{"$f":"C13","v":0},{"$nulls":8},{"$f":"IF($L$13=\"\",\"\",$L$13)","v":""}]
[]
["Die zu Lasten des Vorhabens abzurechnenden Personalstunden sind täglich eingenhändig von der betreffenden Person zu erfassen. Nur die produktiven, für das Vorhaben"]
["geleisteten Stundenn sind zuwendungsfähig."]
[]
["Tätigkeiten",null,null,"Arbeitszeiten in Stunden je Kalendertag",{"$nulls":30},"Summe der \nMonats- stunden"]
[{"$nulls":3},1,2,3,4,5,6,7,8,9,10,11,12,13,14,15,16,17,18,19,20,21,22,23,24,25,26,27,28,29,30,31]
["Vorhabenbezogen",{"$nulls":33},{"$f":"SUM(D56:AH56)","v":{"v":0,"d":"0.00"}}]
["Sonstige 1)",{"$nulls":33},{"$f":"SUM(D57:AH57)","v":{"v":0,"d":"0.00"}}]
["Produktive Gesamtstunden",null,null,{"$f":"SUM(D56:D57)","v":{"v":0,"d":"0.00"}},{"$f":"SUM(E56:E57)","v":{"v":0,"d":"0.00"}},{"v":0,"d":"0.00"},{"v":0,"d":"0.00"},{"v":0,"d":"0.00"},{"v":0,"d":"0.00"},{"v":0,"d":"0.00"},{"v":0,"d":"0.00"},{"v":0,"d":"0.00"},{"v":0,"d":"0.00"},{"v":0,"d":"0.00"},{"v":0,"d":"0.00"},{"v":0,"d":"0.00"},{"v":0,"d":"0.00"},{"v":0,"d":"0.00"},{"v":0,"d":"0.00"},{"v":0,"d":"0.00"},{"v":0,"d":"0.00"},{"v":0,"d":"0.00"},{"v":0,"d":"0.00"},{"v":0,"d":"0.00"},{"v":0,"d":"0.00"},{"v":0,"d":"0.00"},{"v":0,"d":"0.00"},{"v":0,"d":"0.00"},{"v":0,"d":"0.00"},{"v":0,"d":"0.00"},{"v":0,"d":"0.00"},{"v":0,"d":"0.00"},{"v":0,"d":"0.00"},{"v":0,"d":"0.00"},{"$f":"SUM(D58:AH58)","v":{"v":0,"d":"0.00"}}]
[]
[]
["nachrichtlich:"]
["Fehlzeiten (z.B. Urlaub, \nKrankheit, Fortbildung)",{"$nulls":33},{"$f":"SUM(D62:AH62)","v":{"v":0,"d":"0.00"}}]
[]
[]
["1)  ggf. Angabe des FKZ. anderer geförderter Projekte:"]
[]
[]
[]
[]
[]
[]
["Unterschrift des Vorgesetzten",{"$nulls":12},"Unterschrift des Mitarbeiters"]
[]
[{"$nulls":23},"Förderkennzeichen :",{"$nulls":5},{"$f":"IF($AD$2=\"\",\"\",$AD$2)","v":""}]
["   Zuwendungsempfänger (Firmenstempel)"]
["Stundennachweis"]
["für pauschalierte Abrechnung gemäß Nr. 6 ANBest-P-Kosten (Anlage 1 zum Verwendungsnachweis)"]
[]
["Der Original-Stundennachweis verbleibt beim Zuwendungsempfänger."]
[]
["Vorhabenthema"]
[{"$f":"IF($A$10=\"\",\"\",$A46)","v":""}]
[]
["Monat",null,"Jahr",{"$nulls":8},"Mitarbeiter(in) [Name, Vorname]"]
["März",null,{"$f":"C13","v":0},{"$nulls":8},{"$f":"IF($L$13=\"\",\"\",$L$13)","v":""}]
[]
["Die zu Lasten des Vorhabens abzurechnenden Personalstunden sind täglich eingenhändig von der betreffenden Person zu erfassen. Nur die produktiven, für das Vorhaben"]
["geleisteten Stundenn sind zuwendungsfähig."]
[]
["Tätigkeiten",null,null,"Arbeitszeiten in Stunden je Kalendertag",{"$nulls":30},"Summe der \nMonats- stunden"]
[{"$nulls":3},1,2,3,4,5,6,7,8,9,10,11,12,13,14,15,16,17,18,19,20,21,22,23,24,25,26,27,28,29,30,31]
["Vorhabenbezogen",{"$nulls":33},{"$f":"SUM(D92:AH92)","v":{"v":0,"d":"0.00"}}]
["Sonstige 1)",{"$nulls":33},{"$f":"SUM(D93:AH93)","v":{"v":0,"d":"0.00"}}]
["Produktive Gesamtstunden",null,null,{"$f":"SUM(D92:D93)","v":{"v":0,"d":"0.00"}},{"$f":"SUM(E92:E93)","v":{"v":0,"d":"0.00"}},{"v":0,"d":"0.00"},{"v":0,"d":"0.00"},{"v":0,"d":"0.00"},{"v":0,"d":"0.00"},{"v":0,"d":"0.00"},{"v":0,"d":"0.00"},{"v":0,"d":"0.00"},{"v":0,"d":"0.00"},{"v":0,"d":"0.00"},{"v":0,"d":"0.00"},{"v":0,"d":"0.00"},{"v":0,"d":"0.00"},{"v":0,"d":"0.00"},{"v":0,"d":"0.00"},{"v":0,"d":"0.00"},{"v":0,"d":"0.00"},{"v":0,"d":"0.00"},{"v":0,"d":"0.00"},{"v":0,"d":"0.00"},{"v":0,"d":"0.00"},{"v":0,"d":"0.00"},{"v":0,"d":"0.00"},{"v":0,"d":"0.00"},{"v":0,"d":"0.00"},{"v":0,"d":"0.00"},{"v":0,"d":"0.00"},{"v":0,"d":"0.00"},{"v":0,"d":"0.00"},{"v":0,"d":"0.00"},{"$f":"SUM(D94:AH94)","v":{"v":0,"d":"0.00"}}]
[]
[]
["nachrichtlich:"]
["Fehlzeiten (z.B. Urlaub, \nKrankheit, Fortbildung)",{"$nulls":33},{"$f":"SUM(D98:AH98)","v":{"v":0,"d":"0.00"}}]
[]
[]
["1)  ggf. Angabe des FKZ. anderer geförderter Projekte:"]
[]
[]
[]
[]
[]
[]
["Unterschrift des Vorgesetzten",{"$nulls":12},"Unterschrift des Mitarbeiters"]
[]
[{"$nulls":23},"Förderkennzeichen :",{"$nulls":5},{"$f":"IF($AD$2=\"\",\"\",$AD$2)","v":""}]
["   Zuwendungsempfänger (Firmenstempel)"]
["Stundennachweis"]
["für pauschalierte Abrechnung gemäß Nr. 6 ANBest-P-Kosten (Anlage 1 zum Verwendungsnachweis)"]
[]
["Der Original-Stundennachweis verbleibt beim Zuwendungsempfänger."]
[]
["Vorhabenthema"]
[{"$f":"IF($A$10=\"\",\"\",$A82)","v":""}]
[]
["Monat",null,"Jahr",{"$nulls":8},"Mitarbeiter(in) [Name, Vorname]"]
["April",null,{"$f":"C13","v":0},{"$nulls":8},{"$f":"IF($L$13=\"\",\"\",$L$13)","v":""}]
[]
["Die zu Lasten des Vorhabens abzurechnenden Personalstunden sind täglich eingenhändig von der betreffenden Person zu erfassen. Nur die produktiven, für das Vorhaben"]
["geleisteten Stundenn sind zuwendungsfähig."]
[]
["Tätigkeiten",null,null,"Arbeitszeiten in Stunden je Kalendertag",{"$nulls":30},"Summe der \nMonats- stunden"]
[{"$nulls":3},1,2,3,4,5,6,7,8,9,10,11,12,13,14,15,16,17,18,19,20,21,22,23,24,25,26,27,28,29,30,31]
["Vorhabenbezogen",{"$nulls":33},{"$f":"SUM(D128:AH128)","v":{"v":0,"d":"0.00"}}]
["Sonstige 1)",{"$nulls":33},{"$f":"SUM(D129:AH129)","v":{"v":0,"d":"0.00"}}]
["Produktive Gesamtstunden",null,null,{"$f":"SUM(D128:D129)","v":{"v":0,"d":"0.00"}},{"$f":"SUM(E128:E129)","v":{"v":0,"d":"0.00"}},{"v":0,"d":"0.00"},{"v":0,"d":"0.00"},{"v":0,"d":"0.00"},{"v":0,"d":"0.00"},{"v":0,"d":"0.00"},{"v":0,"d":"0.00"},{"v":0,"d":"0.00"},{"v":0,"d":"0.00"},{"v":0,"d":"0.00"},{"v":0,"d":"0.00"},{"v":0,"d":"0.00"},{"v":0,"d":"0.00"},{"v":0,"d":"0.00"},{"v":0,"d":"0.00"},{"v":0,"d":"0.00"},{"v":0,"d":"0.00"},{"v":0,"d":"0.00"},{"v":0,"d":"0.00"},{"v":0,"d":"0.00"},{"v":0,"d":"0.00"},{"v":0,"d":"0.00"},{"v":0,"d":"0.00"},{"v":0,"d":"0.00"},{"v":0,"d":"0.00"},{"v":0,"d":"0.00"},{"v":0,"d":"0.00"},{"v":0,"d":"0.00"},{"v":0,"d":"0.00"},{"v":0,"d":"0.00"},{"$f":"SUM(D130:AH130)","v":{"v":0,"d":"0.00"}}]
[]
[]
["nachrichtlich:"]
["Fehlzeiten (z.B. Urlaub, \nKrankheit, Fortbildung)",{"$nulls":33},{"$f":"SUM(D134:AH134)","v":{"v":0,"d":"0.00"}}]
[]
[]
["1)  ggf. Angabe des FKZ. anderer geförderter Projekte:"]
[]
[]
[]
[]
[]
[]
["Unterschrift des Vorgesetzten",{"$nulls":12},"Unterschrift des Mitarbeiters"]
[]
[{"$nulls":23},"Förderkennzeichen :",{"$nulls":5},{"$f":"IF($AD$2=\"\",\"\",$AD$2)","v":""}]
["   Zuwendungsempfänger (Firmenstempel)"]
["Stundennachweis"]
["für pauschalierte Abrechnung gemäß Nr. 6 ANBest-P-Kosten (Anlage 1 zum Verwendungsnachweis)"]
[]
["Der Original-Stundennachweis verbleibt beim Zuwendungsempfänger."]
[]
["Vorhabenthema"]
[{"$f":"IF($A$10=\"\",\"\",$A118)","v":""}]
[]
["Monat",null,"Jahr",{"$nulls":8},"Mitarbeiter(in) [Name, Vorname]"]
["Mai",null,{"$f":"C13","v":0},{"$nulls":8},{"$f":"IF($L$13=\"\",\"\",$L$13)","v":""}]
[]
["Die zu Lasten des Vorhabens abzurechnenden Personalstunden sind täglich eingenhändig von der betreffenden Person zu erfassen. Nur die produktiven, für das Vorhaben"]
["geleisteten Stundenn sind zuwendungsfähig."]
[]
["Tätigkeiten",null,null,"Arbeitszeiten in Stunden je Kalendertag",{"$nulls":30},"Summe der \nMonats- stunden"]
[{"$nulls":3},1,2,3,4,5,6,7,8,9,10,11,12,13,14,15,16,17,18,19,20,21,22,23,24,25,26,27,28,29,30,31]
["Vorhabenbezogen",{"$nulls":33},{"$f":"SUM(D164:AH164)","v":{"v":0,"d":"0.00"}}]
["Sonstige 1)",{"$nulls":33},{"$f":"SUM(D165:AH165)","v":{"v":0,"d":"0.00"}}]
["Produktive Gesamtstunden",null,null,{"$f":"SUM(D164:D165)","v":{"v":0,"d":"0.00"}},{"$f":"SUM(E164:E165)","v":{"v":0,"d":"0.00"}},{"v":0,"d":"0.00"},{"v":0,"d":"0.00"},{"v":0,"d":"0.00"},{"v":0,"d":"0.00"},{"v":0,"d":"0.00"},{"v":0,"d":"0.00"},{"v":0,"d":"0.00"},{"v":0,"d":"0.00"},{"v":0,"d":"0.00"},{"v":0,"d":"0.00"},{"v":0,"d":"0.00"},{"v":0,"d":"0.00"},{"v":0,"d":"0.00"},{"v":0,"d":"0.00"},{"v":0,"d":"0.00"},{"v":0,"d":"0.00"},{"v":0,"d":"0.00"},{"v":0,"d":"0.00"},{"v":0,"d":"0.00"},{"v":0,"d":"0.00"},{"v":0,"d":"0.00"},{"v":0,"d":"0.00"},{"v":0,"d":"0.00"},{"v":0,"d":"0.00"},{"v":0,"d":"0.00"},{"v":0,"d":"0.00"},{"v":0,"d":"0.00"},{"v":0,"d":"0.00"},{"v":0,"d":"0.00"},{"$f":"SUM(D166:AH166)","v":{"v":0,"d":"0.00"}}]
[]
[]
["nachrichtlich:"]
["Fehlzeiten (z.B. Urlaub, \nKrankheit, Fortbildung)",{"$nulls":33},{"$f":"SUM(D170:AH170)","v":{"v":0,"d":"0.00"}}]
[]
[]
["1)  ggf. Angabe des FKZ. anderer geförderter Projekte:"]
[]
[]
[]
[]
[]
[]
["Unterschrift des Vorgesetzten",{"$nulls":12},"Unterschrift des Mitarbeiters"]
[]
[{"$nulls":23},"Förderkennzeichen :",{"$nulls":5},{"$f":"IF($AD$2=\"\",\"\",$AD$2)","v":""}]
["   Zuwendungsempfänger (Firmenstempel)"]
["Stundennachweis"]
["für pauschalierte Abrechnung gemäß Nr. 6 ANBest-P-Kosten (Anlage 1 zum Verwendungsnachweis)"]
[]
["Der Original-Stundennachweis verbleibt beim Zuwendungsempfänger."]
[]
["Vorhabenthema"]
[{"$f":"IF($A$10=\"\",\"\",$A154)","v":""}]
[]
["Monat",null,"Jahr",{"$nulls":8},"Mitarbeiter(in) [Name, Vorname]"]
["Juni",null,{"$f":"C13","v":0},{"$nulls":8},{"$f":"IF($L$13=\"\",\"\",$L$13)","v":""}]
[]
["Die zu Lasten des Vorhabens abzurechnenden Personalstunden sind täglich eingenhändig von der betreffenden Person zu erfassen. Nur die produktiven, für das Vorhaben"]
["geleisteten Stundenn sind zuwendungsfähig."]
[]
["Tätigkeiten",null,null,"Arbeitszeiten in Stunden je Kalendertag",{"$nulls":30},"Summe der \nMonats- stunden"]
[{"$nulls":3},1,2,3,4,5,6,7,8,9,10,11,12,13,14,15,16,17,18,19,20,21,22,23,24,25,26,27,28,29,30,31]
["Vorhabenbezogen",{"$nulls":33},{"$f":"SUM(D200:AH200)","v":{"v":0,"d":"0.00"}}]
["Sonstige 1)",{"$nulls":33},{"$f":"SUM(D201:AH201)","v":{"v":0,"d":"0.00"}}]
["Produktive Gesamtstunden",null,null,{"$f":"SUM(D200:D201)","v":{"v":0,"d":"0.00"}},{"$f":"SUM(E200:E201)","v":{"v":0,"d":"0.00"}},{"v":0,"d":"0.00"},{"v":0,"d":"0.00"},{"v":0,"d":"0.00"},{"v":0,"d":"0.00"},{"v":0,"d":"0.00"},{"v":0,"d":"0.00"},{"v":0,"d":"0.00"},{"v":0,"d":"0.00"},{"v":0,"d":"0.00"},{"v":0,"d":"0.00"},{"v":0,"d":"0.00"},{"v":0,"d":"0.00"},{"v":0,"d":"0.00"},{"v":0,"d":"0.00"},{"v":0,"d":"0.00"},{"v":0,"d":"0.00"},{"v":0,"d":"0.00"},{"v":0,"d":"0.00"},{"v":0,"d":"0.00"},{"v":0,"d":"0.00"},{"v":0,"d":"0.00"},{"v":0,"d":"0.00"},{"v":0,"d":"0.00"},{"v":0,"d":"0.00"},{"v":0,"d":"0.00"},{"v":0,"d":"0.00"},{"v":0,"d":"0.00"},{"v":0,"d":"0.00"},{"v":0,"d":"0.00"},{"$f":"SUM(D202:AH202)","v":{"v":0,"d":"0.00"}}]
[]
[]
["nachrichtlich:"]
["Fehlzeiten (z.B. Urlaub, \nKrankheit, Fortbildung)",{"$nulls":33},{"$f":"SUM(D206:AH206)","v":{"v":0,"d":"0.00"}}]
[]
[]
["1)  ggf. Angabe des FKZ. anderer geförderter Projekte:"]
[]
[]
[]
[]
[]
[]
["Unterschrift des Vorgesetzten",{"$nulls":12},"Unterschrift des Mitarbeiters"]
[]
[{"$nulls":23},"Förderkennzeichen :",{"$nulls":5},{"$f":"IF($AD$2=\"\",\"\",$AD$2)","v":""}]
["   Zuwendungsempfänger (Firmenstempel)"]
["Stundennachweis"]
["für pauschalierte Abrechnung gemäß Nr. 6 ANBest-P-Kosten (Anlage 1 zum Verwendungsnachweis)"]
[]
["Der Original-Stundennachweis verbleibt beim Zuwendungsempfänger."]
[]
["Vorhabenthema"]
[{"$f":"IF($A$10=\"\",\"\",$A190)","v":""}]
[]
["Monat",null,"Jahr",{"$nulls":8},"Mitarbeiter(in) [Name, Vorname]"]
["Juli",null,{"$f":"C13","v":0},{"$nulls":8},{"$f":"IF($L$13=\"\",\"\",$L$13)","v":""}]
[]
["Die zu Lasten des Vorhabens abzurechnenden Personalstunden sind täglich eingenhändig von der betreffenden Person zu erfassen. Nur die produktiven, für das Vorhaben"]
["geleisteten Stundenn sind zuwendungsfähig."]
[]
["Tätigkeiten",null,null,"Arbeitszeiten in Stunden je Kalendertag",{"$nulls":30},"Summe der \nMonats- stunden"]
[{"$nulls":3},1,2,3,4,5,6,7,8,9,10,11,12,13,14,15,16,17,18,19,20,21,22,23,24,25,26,27,28,29,30,31]
["Vorhabenbezogen",{"$nulls":33},{"$f":"SUM(D236:AH236)","v":{"v":0,"d":"0.00"}}]
["Sonstige 1)",{"$nulls":33},{"$f":"SUM(D237:AH237)","v":{"v":0,"d":"0.00"}}]
["Produktive Gesamtstunden",null,null,{"$f":"SUM(D236:D237)","v":{"v":0,"d":"0.00"}},{"$f":"SUM(E236:E237)","v":{"v":0,"d":"0.00"}},{"v":0,"d":"0.00"},{"v":0,"d":"0.00"},{"v":0,"d":"0.00"},{"v":0,"d":"0.00"},{"v":0,"d":"0.00"},{"v":0,"d":"0.00"},{"v":0,"d":"0.00"},{"v":0,"d":"0.00"},{"v":0,"d":"0.00"},{"v":0,"d":"0.00"},{"v":0,"d":"0.00"},{"v":0,"d":"0.00"},{"v":0,"d":"0.00"},{"v":0,"d":"0.00"},{"v":0,"d":"0.00"},{"v":0,"d":"0.00"},{"v":0,"d":"0.00"},{"v":0,"d":"0.00"},{"v":0,"d":"0.00"},{"v":0,"d":"0.00"},{"v":0,"d":"0.00"},{"v":0,"d":"0.00"},{"v":0,"d":"0.00"},{"v":0,"d":"0.00"},{"v":0,"d":"0.00"},{"v":0,"d":"0.00"},{"v":0,"d":"0.00"},{"v":0,"d":"0.00"},{"v":0,"d":"0.00"},{"$f":"SUM(D238:AH238)","v":{"v":0,"d":"0.00"}}]
[]
[]
["nachrichtlich:"]
["Fehlzeiten (z.B. Urlaub, \nKrankheit, Fortbildung)",{"$nulls":33},{"$f":"SUM(D242:AH242)","v":{"v":0,"d":"0.00"}}]
[]
[]
["1)  ggf. Angabe des FKZ. anderer geförderter Projekte:"]
[]
[]
[]
[]
[]
[]
["Unterschrift des Vorgesetzten",{"$nulls":12},"Unterschrift des Mitarbeiters"]
[]
[{"$nulls":23},"Förderkennzeichen :",{"$nulls":5},{"$f":"IF($AD$2=\"\",\"\",$AD$2)","v":""}]
["   Zuwendungsempfänger (Firmenstempel)"]
["Stundennachweis"]
["für pauschalierte Abrechnung gemäß Nr. 6 ANBest-P-Kosten (Anlage 1 zum Verwendungsnachweis)"]
[]
["Der Original-Stundennachweis verbleibt beim Zuwendungsempfänger."]
[]
["Vorhabenthema"]
[{"$f":"IF($A$10=\"\",\"\",$A226)","v":""}]
[]
["Monat",null,"Jahr",{"$nulls":8},"Mitarbeiter(in) [Name, Vorname]"]
["August",null,{"$f":"C13","v":0},{"$nulls":8},{"$f":"IF($L$13=\"\",\"\",$L$13)","v":""}]
[]
["Die zu Lasten des Vorhabens abzurechnenden Personalstunden sind täglich eingenhändig von der betreffenden Person zu erfassen. Nur die produktiven, für das Vorhaben"]
["geleisteten Stundenn sind zuwendungsfähig."]
[]
["Tätigkeiten",null,null,"Arbeitszeiten in Stunden je Kalendertag",{"$nulls":30},"Summe der \nMonats- stunden"]
[{"$nulls":3},1,2,3,4,5,6,7,8,9,10,11,12,13,14,15,16,17,18,19,20,21,22,23,24,25,26,27,28,29,30,31]
["Vorhabenbezogen",{"$nulls":33},{"$f":"SUM(D272:AH272)","v":{"v":0,"d":"0.00"}}]
["Sonstige 1)",{"$nulls":33},{"$f":"SUM(D273:AH273)","v":{"v":0,"d":"0.00"}}]
["Produktive Gesamtstunden",null,null,{"$f":"SUM(D272:D273)","v":{"v":0,"d":"0.00"}},{"$f":"SUM(E272:E273)","v":{"v":0,"d":"0.00"}},{"v":0,"d":"0.00"},{"v":0,"d":"0.00"},{"v":0,"d":"0.00"},{"v":0,"d":"0.00"},{"v":0,"d":"0.00"},{"v":0,"d":"0.00"},{"v":0,"d":"0.00"},{"v":0,"d":"0.00"},{"v":0,"d":"0.00"},{"v":0,"d":"0.00"},{"v":0,"d":"0.00"},{"v":0,"d":"0.00"},{"v":0,"d":"0.00"},{"v":0,"d":"0.00"},{"v":0,"d":"0.00"},{"v":0,"d":"0.00"},{"v":0,"d":"0.00"},{"v":0,"d":"0.00"},{"v":0,"d":"0.00"},{"v":0,"d":"0.00"},{"v":0,"d":"0.00"},{"v":0,"d":"0.00"},{"v":0,"d":"0.00"},{"v":0,"d":"0.00"},{"v":0,"d":"0.00"},{"v":0,"d":"0.00"},{"v":0,"d":"0.00"},{"v":0,"d":"0.00"},{"v":0,"d":"0.00"},{"$f":"SUM(D274:AH274)","v":{"v":0,"d":"0.00"}}]
[]
[]
["nachrichtlich:"]
["Fehlzeiten (z.B. Urlaub, \nKrankheit, Fortbildung)",{"$nulls":33},{"$f":"SUM(D278:AH278)","v":{"v":0,"d":"0.00"}}]
[]
[]
["1)  ggf. Angabe des FKZ. anderer geförderter Projekte:"]
[]
[]
[]
[]
[]
[]
["Unterschrift des Vorgesetzten",{"$nulls":12},"Unterschrift des Mitarbeiters"]
[]
[{"$nulls":23},"Förderkennzeichen :",{"$nulls":5},{"$f":"IF($AD$2=\"\",\"\",$AD$2)","v":""}]
["   Zuwendungsempfänger (Firmenstempel)"]
["Stundennachweis"]
["für pauschalierte Abrechnung gemäß Nr. 6 ANBest-P-Kosten (Anlage 1 zum Verwendungsnachweis)"]
[]
["Der Original-Stundennachweis verbleibt beim Zuwendungsempfänger."]
[]
["Vorhabenthema"]
[{"$f":"IF($A$10=\"\",\"\",$A262)","v":""}]
[]
["Monat",null,"Jahr",{"$nulls":8},"Mitarbeiter(in) [Name, Vorname]"]
["September",null,{"$f":"C13","v":0},{"$nulls":8},{"$f":"IF($L$13=\"\",\"\",$L$13)","v":""}]
[]
["Die zu Lasten des Vorhabens abzurechnenden Personalstunden sind täglich eingenhändig von der betreffenden Person zu erfassen. Nur die produktiven, für das Vorhaben"]
["geleisteten Stundenn sind zuwendungsfähig."]
[]
["Tätigkeiten",null,null,"Arbeitszeiten in Stunden je Kalendertag",{"$nulls":30},"Summe der \nMonats- stunden"]
[{"$nulls":3},1,2,3,4,5,6,7,8,9,10,11,12,13,14,15,16,17,18,19,20,21,22,23,24,25,26,27,28,29,30,31]
["Vorhabenbezogen",{"$nulls":33},{"$f":"SUM(D308:AH308)","v":{"v":0,"d":"0.00"}}]
["Sonstige 1)",{"$nulls":33},{"$f":"SUM(D309:AH309)","v":{"v":0,"d":"0.00"}}]
["Produktive Gesamtstunden",null,null,{"$f":"SUM(D308:D309)","v":{"v":0,"d":"0.00"}},{"$f":"SUM(E308:E309)","v":{"v":0,"d":"0.00"}},{"v":0,"d":"0.00"},{"v":0,"d":"0.00"},{"v":0,"d":"0.00"},{"v":0,"d":"0.00"},{"v":0,"d":"0.00"},{"v":0,"d":"0.00"},{"v":0,"d":"0.00"},{"v":0,"d":"0.00"},{"v":0,"d":"0.00"},{"v":0,"d":"0.00"},{"v":0,"d":"0.00"},{"v":0,"d":"0.00"},{"v":0,"d":"0.00"},{"v":0,"d":"0.00"},{"v":0,"d":"0.00"},{"v":0,"d":"0.00"},{"v":0,"d":"0.00"},{"v":0,"d":"0.00"},{"v":0,"d":"0.00"},{"v":0,"d":"0.00"},{"v":0,"d":"0.00"},{"v":0,"d":"0.00"},{"v":0,"d":"0.00"},{"v":0,"d":"0.00"},{"v":0,"d":"0.00"},{"v":0,"d":"0.00"},{"v":0,"d":"0.00"},{"v":0,"d":"0.00"},{"v":0,"d":"0.00"},{"$f":"SUM(D310:AH310)","v":{"v":0,"d":"0.00"}}]
[]
[]
["nachrichtlich:"]
["Fehlzeiten (z.B. Urlaub, \nKrankheit, Fortbildung)",{"$nulls":33},{"$f":"SUM(D314:AH314)","v":{"v":0,"d":"0.00"}}]
[]
[]
["1)  ggf. Angabe des FKZ. anderer geförderter Projekte:"]
[]
[]
[]
[]
[]
[]
["Unterschrift des Vorgesetzten",{"$nulls":12},"Unterschrift des Mitarbeiters"]
[]
[{"$nulls":23},"Förderkennzeichen :",{"$nulls":5},{"$f":"IF($AD$2=\"\",\"\",$AD$2)","v":""}]
["   Zuwendungsempfänger (Firmenstempel)"]
["Stundennachweis"]
["für pauschalierte Abrechnung gemäß Nr. 6 ANBest-P-Kosten (Anlage 1 zum Verwendungsnachweis)"]
[]
["Der Original-Stundennachweis verbleibt beim Zuwendungsempfänger."]
[]
["Vorhabenthema"]
[{"$f":"IF($A$10=\"\",\"\",$A298)","v":""}]
[]
["Monat",null,"Jahr",{"$nulls":8},"Mitarbeiter(in) [Name, Vorname]"]
["Oktober",null,{"$f":"C13","v":0},{"$nulls":8},{"$f":"IF($L$13=\"\",\"\",$L$13)","v":""}]
[]
["Die zu Lasten des Vorhabens abzurechnenden Personalstunden sind täglich eingenhändig von der betreffenden Person zu erfassen. Nur die produktiven, für das Vorhaben"]
["geleisteten Stundenn sind zuwendungsfähig."]
[]
["Tätigkeiten",null,null,"Arbeitszeiten in Stunden je Kalendertag",{"$nulls":30},"Summe der \nMonats- stunden"]
[{"$nulls":3},1,2,3,4,5,6,7,8,9,10,11,12,13,14,15,16,17,18,19,20,21,22,23,24,25,26,27,28,29,30,31]
["Vorhabenbezogen",{"$nulls":33},{"$f":"SUM(D344:AH344)","v":{"v":0,"d":"0.00"}}]
["Sonstige 1)",{"$nulls":33},{"$f":"SUM(D345:AH345)","v":{"v":0,"d":"0.00"}}]
["Produktive Gesamtstunden",null,null,{"$f":"SUM(D344:D345)","v":{"v":0,"d":"0.00"}},{"$f":"SUM(E344:E345)","v":{"v":0,"d":"0.00"}},{"v":0,"d":"0.00"},{"v":0,"d":"0.00"},{"v":0,"d":"0.00"},{"v":0,"d":"0.00"},{"v":0,"d":"0.00"},{"v":0,"d":"0.00"},{"v":0,"d":"0.00"},{"v":0,"d":"0.00"},{"v":0,"d":"0.00"},{"v":0,"d":"0.00"},{"v":0,"d":"0.00"},{"v":0,"d":"0.00"},{"v":0,"d":"0.00"},{"v":0,"d":"0.00"},{"v":0,"d":"0.00"},{"v":0,"d":"0.00"},{"v":0,"d":"0.00"},{"v":0,"d":"0.00"},{"v":0,"d":"0.00"},{"v":0,"d":"0.00"},{"v":0,"d":"0.00"},{"v":0,"d":"0.00"},{"v":0,"d":"0.00"},{"v":0,"d":"0.00"},{"v":0,"d":"0.00"},{"v":0,"d":"0.00"},{"v":0,"d":"0.00"},{"v":0,"d":"0.00"},{"v":0,"d":"0.00"},{"$f":"SUM(D346:AH346)","v":{"v":0,"d":"0.00"}}]
[]
[]
["nachrichtlich:"]
["Fehlzeiten (z.B. Urlaub, \nKrankheit, Fortbildung)",{"$nulls":33},{"$f":"SUM(D350:AH350)","v":{"v":0,"d":"0.00"}}]
[]
[]
["1)  ggf. Angabe des FKZ. anderer geförderter Projekte:"]
[]
[]
[]
[]
[]
[]
["Unterschrift des Vorgesetzten",{"$nulls":12},"Unterschrift des Mitarbeiters"]
[]
[{"$nulls":23},"Förderkennzeichen :",{"$nulls":5},{"$f":"IF($AD$2=\"\",\"\",$AD$2)","v":""}]
["   Zuwendungsempfänger (Firmenstempel)"]
["Stundennachweis"]
["für pauschalierte Abrechnung gemäß Nr. 6 ANBest-P-Kosten (Anlage 1 zum Verwendungsnachweis)"]
[]
["Der Original-Stundennachweis verbleibt beim Zuwendungsempfänger."]
[]
["Vorhabenthema"]
[{"$f":"IF($A$10=\"\",\"\",$A334)","v":""}]
[]
["Monat",null,"Jahr",{"$nulls":8},"Mitarbeiter(in) [Name, Vorname]"]
["November",null,{"$f":"C13","v":0},{"$nulls":8},{"$f":"IF($L$13=\"\",\"\",$L$13)","v":""}]
[]
["Die zu Lasten des Vorhabens abzurechnenden Personalstunden sind täglich eingenhändig von der betreffenden Person zu erfassen. Nur die produktiven, für das Vorhaben"]
["geleisteten Stundenn sind zuwendungsfähig."]
[]
["Tätigkeiten",null,null,"Arbeitszeiten in Stunden je Kalendertag",{"$nulls":30},"Summe der \nMonats- stunden"]
[{"$nulls":3},1,2,3,4,5,6,7,8,9,10,11,12,13,14,15,16,17,18,19,20,21,22,23,24,25,26,27,28,29,30,31]
["Vorhabenbezogen",{"$nulls":33},{"$f":"SUM(D380:AH380)","v":{"v":0,"d":"0.00"}}]
["Sonstige 1)",{"$nulls":33},{"$f":"SUM(D381:AH381)","v":{"v":0,"d":"0.00"}}]
["Produktive Gesamtstunden",null,null,{"$f":"SUM(D380:D381)","v":{"v":0,"d":"0.00"}},{"$f":"SUM(E380:E381)","v":{"v":0,"d":"0.00"}},{"v":0,"d":"0.00"},{"v":0,"d":"0.00"},{"v":0,"d":"0.00"},{"v":0,"d":"0.00"},{"v":0,"d":"0.00"},{"v":0,"d":"0.00"},{"v":0,"d":"0.00"},{"v":0,"d":"0.00"},{"v":0,"d":"0.00"},{"v":0,"d":"0.00"},{"v":0,"d":"0.00"},{"v":0,"d":"0.00"},{"v":0,"d":"0.00"},{"v":0,"d":"0.00"},{"v":0,"d":"0.00"},{"v":0,"d":"0.00"},{"v":0,"d":"0.00"},{"v":0,"d":"0.00"},{"v":0,"d":"0.00"},{"v":0,"d":"0.00"},{"v":0,"d":"0.00"},{"v":0,"d":"0.00"},{"v":0,"d":"0.00"},{"v":0,"d":"0.00"},{"v":0,"d":"0.00"},{"v":0,"d":"0.00"},{"v":0,"d":"0.00"},{"v":0,"d":"0.00"},{"v":0,"d":"0.00"},{"$f":"SUM(D382:AH382)","v":{"v":0,"d":"0.00"}}]
[]
[]
["nachrichtlich:"]
["Fehlzeiten (z.B. Urlaub, \nKrankheit, Fortbildung)",{"$nulls":33},{"$f":"SUM(D386:AH386)","v":{"v":0,"d":"0.00"}}]
[]
[]
["1)  ggf. Angabe des FKZ. anderer geförderter Projekte:"]
[]
[]
[]
[]
[]
[]
["Unterschrift des Vorgesetzten",{"$nulls":12},"Unterschrift des Mitarbeiters"]
[]
[{"$nulls":23},"Förderkennzeichen :",{"$nulls":5},{"$f":"IF($AD$2=\"\",\"\",$AD$2)","v":""}]
["   Zuwendungsempfänger (Firmenstempel)"]
["Stundennachweis"]
["für pauschalierte Abrechnung gemäß Nr. 6 ANBest-P-Kosten (Anlage 1 zum Verwendungsnachweis)"]
[]
["Der Original-Stundennachweis verbleibt beim Zuwendungsempfänger."]
[]
["Vorhabenthema"]
[{"$f":"IF($A$10=\"\",\"\",$A370)","v":""}]
[]
["Monat",null,"Jahr",{"$nulls":8},"Mitarbeiter(in) [Name, Vorname]"]
["Dezember",null,{"$f":"C13","v":0},{"$nulls":8},{"$f":"IF($L$13=\"\",\"\",$L$13)","v":""}]
[]
["Die zu Lasten des Vorhabens abzurechnenden Personalstunden sind täglich eingenhändig von der betreffenden Person zu erfassen. Nur die produktiven, für das Vorhaben"]
["geleisteten Stundenn sind zuwendungsfähig."]
[]
["Tätigkeiten",null,null,"Arbeitszeiten in Stunden je Kalendertag",{"$nulls":30},"Summe der \nMonats- stunden"]
[{"$nulls":3},1,2,3,4,5,6,7,8,9,10,11,12,13,14,15,16,17,18,19,20,21,22,23,24,25,26,27,28,29,30,31]
["Vorhabenbezogen",{"$nulls":33},{"$f":"SUM(D416:AH416)","v":{"v":0,"d":"0.00"}}]
["Sonstige 1)",{"$nulls":33},{"$f":"SUM(D417:AH417)","v":{"v":0,"d":"0.00"}}]
["Produktive Gesamtstunden",null,null,{"$f":"SUM(D416:D417)","v":0},{"$f":"SUM(E416:E417)","v":{"v":0,"d":"0.00"}},{"v":0,"d":"0.00"},{"v":0,"d":"0.00"},{"v":0,"d":"0.00"},{"v":0,"d":"0.00"},{"v":0,"d":"0.00"},{"v":0,"d":"0.00"},{"v":0,"d":"0.00"},{"v":0,"d":"0.00"},{"v":0,"d":"0.00"},{"v":0,"d":"0.00"},{"v":0,"d":"0.00"},{"v":0,"d":"0.00"},{"v":0,"d":"0.00"},{"v":0,"d":"0.00"},{"v":0,"d":"0.00"},{"v":0,"d":"0.00"},{"v":0,"d":"0.00"},{"v":0,"d":"0.00"},{"v":0,"d":"0.00"},{"v":0,"d":"0.00"},{"v":0,"d":"0.00"},{"v":0,"d":"0.00"},{"v":0,"d":"0.00"},{"v":0,"d":"0.00"},{"v":0,"d":"0.00"},{"v":0,"d":"0.00"},{"v":0,"d":"0.00"},{"v":0,"d":"0.00"},{"v":0,"d":"0.00"},{"$f":"SUM(D418:AH418)","v":{"v":0,"d":"0.00"}}]
[]
[]
["nachrichtlich:"]
["Fehlzeiten (z.B. Urlaub, \nKrankheit, Fortbildung)",{"$nulls":33},{"$f":"SUM(D422:AH422)","v":{"v":0,"d":"0.00"}}]
[]
[]
["1)  ggf. Angabe des FKZ. anderer geförderter Projekte:"]
[]
[]
[]
[]
[]
[]
["Unterschrift des Vorgesetzten",{"$nulls":12},"Unterschrift des Mitarbeiters"]

{"sheet":"Jahresstd.satz Mitarbeiter C","index":6,"n_rows":38,"n_cols":15,"rows_kept":38,"merged":[[1,0,1,3],[1,8,1,10],[1,11,1,14],[5,0,5,14],[6,0,6,14],[10,0,10,14],[13,4,13,14],[16,0,17,1],[16,14,17,14],[18,0,18,1],[19,0,19,1],[20,0,20,1],[28,11,28,13],[29,6,29,8],[29,9,30,10],[29,11,30,13],[30,6,30,8]]}
[]
[{"$nulls":8},"Förderkennzeichen:       ",null,null,{"$f":"IF('Stundennachweise Mitarbeiter C'!AD2=0,\"\",'Stundennachweise Mitarbeiter C'!AD2)","v":""}]
["   Zuwendungsempfänger (Firmenstempel)"]
[]
[]
["Ermittlung des Jahresstundensatzes"]
["bei pauschalierter Abrechnung gemäß Nr. 6 ANBest-P-Kosten (Anlage 2 zum Verwendungsnachweis)"]
[]
[]
["Vorhabenthema"]
[{"$f":"IF('Stundennachweise Mitarbeiter C'!A10:AI10=\"\",\"\",'Stundennachweise Mitarbeiter C'!A10:AI10)","v":""}]
[]
["Jahr",{"$nulls":3},"Mitarbeiter(in) [Name, Vorname]"]
[{"$f":"IF('Stundennachweise Mitarbeiter C'!C13=\"\",\"\",'Stundennachweise Mitarbeiter C'!C13)","v":""},{"$nulls":3},{"$f":"IF('Stundennachweise Mitarbeiter C'!L13=\"\",\"\",'Stundennachweise Mitarbeiter C'!L13)","v":""}]
[]
["1. Jahresstunden lt. monatlichen Stundennachweisen"]
["Tätigkeiten",null,"Arbeitszeit in Stunden je Monat:",{"$nulls":11},"Summe der Jahresstunden"]
[null,null,"Januar","Februar","März","April","Mai","Juni","Juli","August","Sept.","Oktober","Nov.","Dez."]
["Vorhabenbezogen",null,{"$f":"'Stundennachweise Mitarbeiter C'!AI20","v":{"v":0,"d":"0.00"}},{"$f":"'Stundennachweise Mitarbeiter C'!AI56","v":{"v":0,"d":"0.00"}},{"$f":"'Stundennachweise Mitarbeiter C'!AI92","v":{"v":0,"d":"0.00"}},{"$f":"'Stundennachweise Mitarbeiter C'!AI128","v":{"v":0,"d":"0.00"}},{"$f":"'Stundennachweise Mitarbeiter C'!AI164","v":{"v":0,"d":"0.00"}},{"$f":"'Stundennachweise Mitarbeiter C'!AI200","v":{"v":0,"d":"0.00"}},{"$f":"'Stundennachweise Mitarbeiter C'!AI236","v":{"v":0,"d":"0.00"}},{"$f":"'Stundennachweise Mitarbeiter C'!AI272","v":{"v":0,"d":"0.00"}},{"$f":"'Stundennachweise Mitarbeiter C'!AI308","v":{"v":0,"d":"0.00"}},{"$f":"'Stundennachweise Mitarbeiter C'!AI344","v":{"v":0,"d":"0.00"}},{"$f":"'Stundennachweise Mitarbeiter C'!AI380","v":{"v":0,"d":"0.00"}},{"$f":"'Stundennachweise Mitarbeiter C'!AI416","v":{"v":0,"d":"0.00"}},{"$f":"SUM(C19:N19)","v":{"v":0,"d":"0.00"}}]
["Sonstige",null,{"$f":"'Stundennachweise Mitarbeiter C'!AI21","v":{"v":0,"d":"0.00"}},{"$f":"'Stundennachweise Mitarbeiter C'!AI57","v":{"v":0,"d":"0.00"}},{"$f":"'Stundennachweise Mitarbeiter C'!AI93","v":{"v":0,"d":"0.00"}},{"$f":"'Stundennachweise Mitarbeiter C'!AI129","v":{"v":0,"d":"0.00"}},{"$f":"'Stundennachweise Mitarbeiter C'!AI165","v":{"v":0,"d":"0.00"}},{"$f":"'Stundennachweise Mitarbeiter C'!AI201","v":{"v":0,"d":"0.00"}},{"$f":"'Stundennachweise Mitarbeiter C'!AI237","v":{"v":0,"d":"0.00"}},{"$f":"'Stundennachweise Mitarbeiter C'!AI273","v":{"v":0,"d":"0.00"}},{"$f":"'Stundennachweise Mitarbeiter C'!AI309","v":{"v":0,"d":"0.00"}},{"$f":"'Stundennachweise Mitarbeiter C'!AI345","v":{"v":0,"d":"0.00"}},{"$f":"'Stundennachweise Mitarbeiter C'!AI381","v":{"v":0,"d":"0.00"}},{"$f":"'Stundennachweise Mitarbeiter C'!AI417","v":{"v":0,"d":"0.00"}},{"$f":"SUM(C20:N20)","v":{"v":0,"d":"0.00"}}]
["Produktive Gesamtstunden",null,{"$f":"'Stundennachweise Mitarbeiter C'!AI22","v":{"v":0,"d":"0.00"}},{"$f":"'Stundennachweise Mitarbeiter C'!AI58","v":{"v":0,"d":"0.00"}},{"$f":"'Stundennachweise Mitarbeiter C'!AI94","v":{"v":0,"d":"0.00"}},{"$f":"'Stundennachweise Mitarbeiter C'!AI130","v":{"v":0,"d":"0.00"}},{"$f":"'Stundennachweise Mitarbeiter C'!AI166","v":{"v":0,"d":"0.00"}},{"$f":"'Stundennachweise Mitarbeiter C'!AI202","v":{"v":0,"d":"0.00"}},{"$f":"'Stundennachweise Mitarbeiter C'!AI238","v":{"v":0,"d":"0.00"}},{"$f":"'Stundennachweise Mitarbeiter C'!AI274","v":{"v":0,"d":"0.00"}},{"$f":"'Stundennachweise Mitarbeiter C'!AI310","v":{"v":0,"d":"0.00"}},{"$f":"'Stundennachweise Mitarbeiter C'!AI346","v":{"v":0,"d":"0.00"}},{"$f":"'Stundennachweise Mitarbeiter C'!AI382","v":{"v":0,"d":"0.00"}},{"$f":"'Stundennachweise Mitarbeiter C'!AI418","v":{"v":0,"d":"0.00"}},{"$f":"SUM(C21:N21)","v":{"v":0,"d":"0.00"}}]
[]
["nachrichtlich:"]
["Fehlzeiten (z.B. Urlaub, Krankheit, Fortbildung)",null,{"$f":"'Stundennachweise Mitarbeiter C'!AI26","v":{"v":0,"d":"0.00"}},{"$f":"'Stundennachweise Mitarbeiter C'!AI62","v":{"v":0,"d":"0.00"}},{"$f":"'Stundennachweise Mitarbeiter C'!AI98","v":{"v":0,"d":"0.00"}},{"$f":"'Stundennachweise Mitarbeiter C'!AI134","v":{"v":0,"d":"0.00"}},{"$f":"'Stundennachweise Mitarbeiter C'!AI170","v":{"v":0,"d":"0.00"}},{"$f":"'Stundennachweise Mitarbeiter C'!AI206","v":{"v":0,"d":"0.00"}},{"$f":"'Stundennachweise Mitarbeiter C'!AI242","v":{"v":0,"d":"0.00"}},{"$f":"'Stundennachweise Mitarbeiter C'!AI278","v":{"v":0,"d":"0.00"}},{"$f":"'Stundennachweise Mitarbeiter C'!AI314","v":{"v":0,"d":"0.00"}},{"$f":"'Stundennachweise Mitarbeiter C'!AI350","v":{"v":0,"d":"0.00"}},{"$f":"'Stundennachweise Mitarbeiter C'!AI386","v":{"v":0,"d":"0.00"}},{"$f":"'Stundennachweise Mitarbeiter C'!AI422","v":{"v":0,"d":"0.00"}},{"$f":"SUM(C24:N24)","v":{"v":0,"d":"0.00"}}]
[]
[]
["2. Berechnung des Jahresstundensatzes"]
[]
[{"$nulls":11},"Jahresstundensatz"]
["Bruttojahreslohn/ -gehalt 1)",{"$nulls":8},"=",null,{"$f":"IF(G30=\"\",\"\",G30/G31)","v":""}]
["Jahresarbeitsstunden lt. Tarifvertrag/Betriebsvereinbarung/Arbeitsvertrag 2)"]
[]
[]
[]
[]
["1)   Personalkosten i.S. der Nr. 6.1.3 ANBest-P-Kosten"]
[]
["2)   Bei tatsächlich mehr geleisteten produktiven Gesamtstunden (vorhabenbezogene und sonstige) gelten diese Gesamtsunden als Divisor"]

{"sheet":"Stundennachweise Mitarbeiter D","index":7,"n_rows":432,"n_cols":35,"rows_kept":432,"merged":[[1,0,1,7],[1,29,1,34],[3,0,3,34],[4,0,4,34],[9,0,9,34],[12,11,12,34],[17,0,18,2],[17,34,18,34],[19,0,19,2],[20,0,20,2],[21,0,21,2],[25,0,25,2],[28,10,28,16],[29,10,29,16],[37,0,37,7],[37,29,37,34],[39,0,39,34],[40,0,40,34],[45,0,45,34],[48,11,48,34],[53,0,54,2],[53,34,54,34],[55,0,55,2],[56,0,56,2],[57,0,57,2],[61,0,61,2],[64,10,64,16],[65,10,65,16],[73,0,73,7],[73,29,73,34],[75,0,75,34],[76,0,76,34],[81,0,81,34],[84,11,84,34],[89,0,90,2],[89,34,90,34],[91,0,91,2],[92,0,92,2],[93,0,93,2],[97,0,97,2],[100,10,100,16],[101,10,101,16],[109,0,109,7],[109,29,109,34],[111,0,111,34],[112,0,112,34],[117,0,117,34],[120,11,120,34],[125,0,126,2],[125,34,126,34],[127,0,127,2],[128,0,128,2],[129,0,129,2],[133,0,133,2],[136,10,136,16],[137,10,137,16],[145,0,145,7],[145,29,145,34],[147,0,147,34],[148,0,148,34],[153,0,153,34],[156,11,156,34],[161,0,162,2],[161,34,162,34],[163,0,163,2],[164,0,164,2],[165,0,165,2],[169,0,169,2],[172,10,172,16],[173,10,173,16],[181,0,181,7],[181,29,181,34],[183,0,183,34],[184,0,184,34],[189,0,189,34],[192,11,192,34],[197,0,198,2],[197,34,198,34],[199,0,199,2],[200,0,200,2],[201,0,201,2],[205,0,205,2],[208,10,208,16],[209,10,209,16],[217,0,217,7],[217,29,217,34],[219,0,219,34],[220,0,220,34],[225,0,225,34],[228,11,228,34],[233,0,234,2],[233,34,234,34],[235,0,235,2],[236,0,236,2],[237,0,237,2],[241,0,241,2],[244,10,244,16],[245,10,245,16],[253,0,253,7],[253,29,253,34],[255,0,255,34],[256,0,256,34],[261,0,261,34],[264,11,264,34],[269,0,270,2],[269,34,270,34],[271,0,271,2],[272,0,272,2],[273,0,273,2],[277,0,277,2],[280,10,280,16],[281,10,281,16],[289,0,289,7],[289,29,289,34],[291,0,291,34],[292,0,292,34],[297,0,297,34],[300,11,300,34],[305,0,306,2],[305,34,306,34],[307,0,307,2],[308,0,308,2],[309,0,309,2],[313,0,313,2],[316,10,316,16],[317,10,317,16],[325,0,325,7],[325,29,325,34],[327,0,327,34],[328,0,328,34],[333,0,333,34],[336,11,336,34],[341,0,342,2],[341,34,342,34],[343,0,343,2],[344,0,344,2],[345,0,345,2],[349,0,349,2],[352,10,352,16],[353,10,353,16],[361,0,361,7],[361,29,361,34],[363,0,363,34],[364,0,364,34],[369,0,369,34],[372,11,372,34],[377,0,378,2],[377,34,378,34],[379,0,379,2],[380,0,380,2],[381,0,381,2],[385,0,385,2],[388,10,388,16],[389,10,389,16],[397,0,397,7],[397,29,397,34],[399,0,399,34],[400,0,400,34],[405,0,405,34],[408,11,408,34],[413,0,414,2],[413,34,414,34],[415,0,415,2],[416,0,416,2],[417,0,417,2],[421,0,421,2],[424,10,424,16],[425,10,425,16]]}
[]
[{"$nulls":23},"Förderkennzeichen :"]
["   Zuwendungsempfänger (Firmenstempel)"]
["Stundennachweis"]
["für pauschalierte Abrechnung gemäß Nr. 6 ANBest-P-Kosten (Anlage 1 zum Verwendungsnachweis)"]
[]
["Der Original-Stundennachweis verbleibt beim Zuwendungsempfänger."]
[]
["Vorhabenthema"]
[]
[]
["Monat",null,"Jahr",{"$nulls":8},"Mitarbeiter(in) [Name, Vorname]"]
["Januar"]
[]
["Die zu Lasten des Vorhabens abzurechnenden Personalstunden sind täglich eingenhändig von der betreffenden Person zu erfassen. Nur die produktiven, für das Vorhaben"]
["geleisteten Stundenn sind zuwendungsfähig."]
[]
["Tätigkeiten",null,null,"Arbeitszeiten in Stunden je Kalendertag",{"$nulls":30},"Summe der \nMonats- stunden"]
[{"$nulls":3},1,2,3,4,5,6,7,8,9,10,11,12,13,14,15,16,17,18,19,20,21,22,23,24,25,26,27,28,29,30,31]
["Vorhabenbezogen",{"$nulls":33},{"$f":"SUM(D20:AH20)","v":{"v":0,"d":"0.00"}}]
["Sonstige 1)",{"$nulls":33},{"$f":"SUM(D21:AH21)","v":{"v":0,"d":"0.00"}}]
["Produktive Gesamtstunden",null,null,{"$f":"SUM(D20:D21)","v":{"v":0,"d":"0.00"}},{"$f":"SUM(E20:E21)","v":{"v":0,"d":"0.00"}},{"v":0,"d":"0.00"},{"v":0,"d":"0.00"},{"v":0,"d":"0.00"},{"v":0,"d":"0.00"},{"v":0,"d":"0.00"},{"v":0,"d":"0.00"},{"v":0,"d":"0.00"},{"v":0,"d":"0.00"},{"v":0,"d":"0.00"},{"v":0,"d":"0.00"},{"v":0,"d":"0.00"},{"v":0,"d":"0.00"},{"v":0,"d":"0.00"},{"v":0,"d":"0.00"},{"v":0,"d":"0.00"},{"v":0,"d":"0.00"},{"v":0,"d":"0.00"},{"v":0,"d":"0.00"},{"v":0,"d":"0.00"},{"v":0,"d":"0.00"},{"v":0,"d":"0.00"},{"v":0,"d":"0.00"},{"v":0,"d":"0.00"},{"v":0,"d":"0.00"},{"v":0,"d":"0.00"},{"v":0,"d":"0.00"},{"v":0,"d":"0.00"},{"v":0,"d":"0.00"},{"v":0,"d":"0.00"},{"$f":"SUM(D22:AH22)","v":{"v":0,"d":"0.00"}}]
[]
[]
["nachrichtlich:"]
["Fehlzeiten (z.B. Urlaub, \nKrankheit, Fortbildung)",{"$nulls":33},{"$f":"SUM(D26:AH26)","v":{"v":0,"d":"0.00"}}]
[]
[]
["1)  ggf. Angabe des FKZ. anderer geförderter Projekte:"]
[]
[]
[]
[]
[]
[]
["Unterschrift des Vorgesetzten",{"$nulls":12},"Unterschrift des Mitarbeiters"]
[]
[{"$nulls":23},"Förderkennzeichen :",{"$nulls":5},{"$f":"IF($AD$2=\"\",\"\",$AD$2)","v":""}]
["   Zuwendungsempfänger (Firmenstempel)"]
["Stundennachweis"]
["für pauschalierte Abrechnung gemäß Nr. 6 ANBest-P-Kosten (Anlage 1 zum Verwendungsnachweis)"]
[]
["Der Original-Stundennachweis verbleibt beim Zuwendungsempfänger."]
[]
["Vorhabenthema"]
[{"$f":"IF($A$10=\"\",\"\",$A10)","v":""}]
[]
["Monat",null,"Jahr",{"$nulls":8},"Mitarbeiter(in) [Name, Vorname]"]
["Februar",null,{"$f":"C13","v":0},{"$nulls":8},{"$f":"IF($L$13=\"\",\"\",$L$13)","v":""}]
[]
["Die zu Lasten des Vorhabens abzurechnenden Personalstunden sind täglich eingenhändig von der betreffenden Person zu erfassen. Nur die produktiven, für das Vorhaben"]
["geleisteten Stundenn sind zuwendungsfähig."]
[]
["Tätigkeiten",null,null,"Arbeitszeiten in Stunden je Kalendertag",{"$nulls":30},"Summe der \nMonats- stunden"]
[{"$nulls":3},1,2,3,4,5,6,7,8,9,10,11,12,13,14,15,16,17,18,19,20,21,22,23,24,25,26,27,28,29,30,31]
["Vorhabenbezogen",{"$nulls":33},{"$f":"SUM(D56:AH56)","v":{"v":0,"d":"0.00"}}]
["Sonstige 1)",{"$nulls":33},{"$f":"SUM(D57:AH57)","v":{"v":0,"d":"0.00"}}]
["Produktive Gesamtstunden",null,null,{"$f":"SUM(D56:D57)","v":{"v":0,"d":"0.00"}},{"$f":"SUM(E56:E57)","v":{"v":0,"d":"0.00"}},{"v":0,"d":"0.00"},{"v":0,"d":"0.00"},{"v":0,"d":"0.00"},{"v":0,"d":"0.00"},{"v":0,"d":"0.00"},{"v":0,"d":"0.00"},{"v":0,"d":"0.00"},{"v":0,"d":"0.00"},{"v":0,"d":"0.00"},{"v":0,"d":"0.00"},{"v":0,"d":"0.00"},{"v":0,"d":"0.00"},{"v":0,"d":"0.00"},{"v":0,"d":"0.00"},{"v":0,"d":"0.00"},{"v":0,"d":"0.00"},{"v":0,"d":"0.00"},{"v":0,"d":"0.00"},{"v":0,"d":"0.00"},{"v":0,"d":"0.00"},{"v":0,"d":"0.00"},{"v":0,"d":"0.00"},{"v":0,"d":"0.00"},{"v":0,"d":"0.00"},{"v":0,"d":"0.00"},{"v":0,"d":"0.00"},{"v":0,"d":"0.00"},{"v":0,"d":"0.00"},{"v":0,"d":"0.00"},{"$f":"SUM(D58:AH58)","v":{"v":0,"d":"0.00"}}]
[]
[]
["nachrichtlich:"]
["Fehlzeiten (z.B. Urlaub, \nKrankheit, Fortbildung)",{"$nulls":33},{"$f":"SUM(D62:AH62)","v":{"v":0,"d":"0.00"}}]
[]
[]
["1)  ggf. Angabe des FKZ. anderer geförderter Projekte:"]
[]
[]
[]
[]
[]
[]
["Unterschrift des Vorgesetzten",{"$nulls":12},"Unterschrift des Mitarbeiters"]
[]
[{"$nulls":23},"Förderkennzeichen :",{"$nulls":5},{"$f":"IF($AD$2=\"\",\"\",$AD$2)","v":""}]
["   Zuwendungsempfänger (Firmenstempel)"]
["Stundennachweis"]
["für pauschalierte Abrechnung gemäß Nr. 6 ANBest-P-Kosten (Anlage 1 zum Verwendungsnachweis)"]
[]
["Der Original-Stundennachweis verbleibt beim Zuwendungsempfänger."]
[]
["Vorhabenthema"]
[{"$f":"IF($A$10=\"\",\"\",$A46)","v":""}]
[]
["Monat",null,"Jahr",{"$nulls":8},"Mitarbeiter(in) [Name, Vorname]"]
["März",null,{"$f":"C13","v":0},{"$nulls":8},{"$f":"IF($L$13=\"\",\"\",$L$13)","v":""}]
[]
["Die zu Lasten des Vorhabens abzurechnenden Personalstunden sind täglich eingenhändig von der betreffenden Person zu erfassen. Nur die produktiven, für das Vorhaben"]
["geleisteten Stundenn sind zuwendungsfähig."]
[]
["Tätigkeiten",null,null,"Arbeitszeiten in Stunden je Kalendertag",{"$nulls":30},"Summe der \nMonats- stunden"]
[{"$nulls":3},1,2,3,4,5,6,7,8,9,10,11,12,13,14,15,16,17,18,19,20,21,22,23,24,25,26,27,28,29,30,31]
["Vorhabenbezogen",{"$nulls":33},{"$f":"SUM(D92:AH92)","v":{"v":0,"d":"0.00"}}]
["Sonstige 1)",{"$nulls":33},{"$f":"SUM(D93:AH93)","v":{"v":0,"d":"0.00"}}]
["Produktive Gesamtstunden",null,null,{"$f":"SUM(D92:D93)","v":{"v":0,"d":"0.00"}},{"$f":"SUM(E92:E93)","v":{"v":0,"d":"0.00"}},{"v":0,"d":"0.00"},{"v":0,"d":"0.00"},{"v":0,"d":"0.00"},{"v":0,"d":"0.00"},{"v":0,"d":"0.00"},{"v":0,"d":"0.00"},{"v":0,"d":"0.00"},{"v":0,"d":"0.00"},{"v":0,"d":"0.00"},{"v":0,"d":"0.00"},{"v":0,"d":"0.00"},{"v":0,"d":"0.00"},{"v":0,"d":"0.00"},{"v":0,"d":"0.00"},{"v":0,"d":"0.00"},{"v":0,"d":"0.00"},{"v":0,"d":"0.00"},{"v":0,"d":"0.00"},{"v":0,"d":"0.00"},{"v":0,"d":"0.00"},{"v":0,"d":"0.00"},{"v":0,"d":"0.00"},{"v":0,"d":"0.00"},{"v":0,"d":"0.00"},{"v":0,"d":"0.00"},{"v":0,"d":"0.00"},{"v":0,"d":"0.00"},{"v":0,"d":"0.00"},{"v":0,"d":"0.00"},{"$f":"SUM(D94:AH94)","v":{"v":0,"d":"0.00"}}]
[]
[]
["nachrichtlich:"]
["Fehlzeiten (z.B. Urlaub, \nKrankheit, Fortbildung)",{"$nulls":33},{"$f":"SUM(D98:AH98)","v":{"v":0,"d":"0.00"}}]
[]
[]
["1)  ggf. Angabe des FKZ. anderer geförderter Projekte:"]
[]
[]
[]
[]
[]
[]
["Unterschrift des Vorgesetzten",{"$nulls":12},"Unterschrift des Mitarbeiters"]
[]
[{"$nulls":23},"Förderkennzeichen :",{"$nulls":5},{"$f":"IF($AD$2=\"\",\"\",$AD$2)","v":""}]
["   Zuwendungsempfänger (Firmenstempel)"]
["Stundennachweis"]
["für pauschalierte Abrechnung gemäß Nr. 6 ANBest-P-Kosten (Anlage 1 zum Verwendungsnachweis)"]
[]
["Der Original-Stundennachweis verbleibt beim Zuwendungsempfänger."]
[]
["Vorhabenthema"]
[{"$f":"IF($A$10=\"\",\"\",$A82)","v":""}]
[]
["Monat",null,"Jahr",{"$nulls":8},"Mitarbeiter(in) [Name, Vorname]"]
["April",null,{"$f":"C13","v":0},{"$nulls":8},{"$f":"IF($L$13=\"\",\"\",$L$13)","v":""}]
[]
["Die zu Lasten des Vorhabens abzurechnenden Personalstunden sind täglich eingenhändig von der betreffenden Person zu erfassen. Nur die produktiven, für das Vorhaben"]
["geleisteten Stundenn sind zuwendungsfähig."]
[]
["Tätigkeiten",null,null,"Arbeitszeiten in Stunden je Kalendertag",{"$nulls":30},"Summe der \nMonats- stunden"]
[{"$nulls":3},1,2,3,4,5,6,7,8,9,10,11,12,13,14,15,16,17,18,19,20,21,22,23,24,25,26,27,28,29,30,31]
["Vorhabenbezogen",{"$nulls":33},{"$f":"SUM(D128:AH128)","v":{"v":0,"d":"0.00"}}]
["Sonstige 1)",{"$nulls":33},{"$f":"SUM(D129:AH129)","v":{"v":0,"d":"0.00"}}]
["Produktive Gesamtstunden",null,null,{"$f":"SUM(D128:D129)","v":{"v":0,"d":"0.00"}},{"$f":"SUM(E128:E129)","v":{"v":0,"d":"0.00"}},{"v":0,"d":"0.00"},{"v":0,"d":"0.00"},{"v":0,"d":"0.00"},{"v":0,"d":"0.00"},{"v":0,"d":"0.00"},{"v":0,"d":"0.00"},{"v":0,"d":"0.00"},{"v":0,"d":"0.00"},{"v":0,"d":"0.00"},{"v":0,"d":"0.00"},{"v":0,"d":"0.00"},{"v":0,"d":"0.00"},{"v":0,"d":"0.00"},{"v":0,"d":"0.00"},{"v":0,"d":"0.00"},{"v":0,"d":"0.00"},{"v":0,"d":"0.00"},{"v":0,"d":"0.00"},{"v":0,"d":"0.00"},{"v":0,"d":"0.00"},{"v":0,"d":"0.00"},{"v":0,"d":"0.00"},{"v":0,"d":"0.00"},{"v":0,"d":"0.00"},{"v":0,"d":"0.00"},{"v":0,"d":"0.00"},{"v":0,"d":"0.00"},{"v":0,"d":"0.00"},{"v":0,"d":"0.00"},{"$f":"SUM(D130:AH130)","v":{"v":0,"d":"0.00"}}]
[]
[]
["nachrichtlich:"]
["Fehlzeiten (z.B. Urlaub, \nKrankheit, Fortbildung)",{"$nulls":33},{"$f":"SUM(D134:AH134)","v":{"v":0,"d":"0.00"}}]
[]
[]
["1)  ggf. Angabe des FKZ. anderer geförderter Projekte:"]
[]
[]
[]
[]
[]
[]
["Unterschrift des Vorgesetzten",{"$nulls":12},"Unterschrift des Mitarbeiters"]
[]
[{"$nulls":23},"Förderkennzeichen :",{"$nulls":5},{"$f":"IF($AD$2=\"\",\"\",$AD$2)","v":""}]
["   Zuwendungsempfänger (Firmenstempel)"]
["Stundennachweis"]
["für pauschalierte Abrechnung gemäß Nr. 6 ANBest-P-Kosten (Anlage 1 zum Verwendungsnachweis)"]
[]
["Der Original-Stundennachweis verbleibt beim Zuwendungsempfänger."]
[]
["Vorhabenthema"]
[{"$f":"IF($A$10=\"\",\"\",$A118)","v":""}]
[]
["Monat",null,"Jahr",{"$nulls":8},"Mitarbeiter(in) [Name, Vorname]"]
["Mai",null,{"$f":"C13","v":0},{"$nulls":8},{"$f":"IF($L$13=\"\",\"\",$L$13)","v":""}]
[]
["Die zu Lasten des Vorhabens abzurechnenden Personalstunden sind täglich eingenhändig von der betreffenden Person zu erfassen. Nur die produktiven, für das Vorhaben"]
["geleisteten Stundenn sind zuwendungsfähig."]
[]
["Tätigkeiten",null,null,"Arbeitszeiten in Stunden je Kalendertag",{"$nulls":30},"Summe der \nMonats- stunden"]
[{"$nulls":3},1,2,3,4,5,6,7,8,9,10,11,12,13,14,15,16,17,18,19,20,21,22,23,24,25,26,27,28,29,30,31]
["Vorhabenbezogen",{"$nulls":33},{"$f":"SUM(D164:AH164)","v":{"v":0,"d":"0.00"}}]
["Sonstige 1)",{"$nulls":33},{"$f":"SUM(D165:AH165)","v":{"v":0,"d":"0.00"}}]
["Produktive Gesamtstunden",null,null,{"$f":"SUM(D164:D165)","v":{"v":0,"d":"0.00"}},{"$f":"SUM(E164:E165)","v":{"v":0,"d":"0.00"}},{"v":0,"d":"0.00"},{"v":0,"d":"0.00"},{"v":0,"d":"0.00"},{"v":0,"d":"0.00"},{"v":0,"d":"0.00"},{"v":0,"d":"0.00"},{"v":0,"d":"0.00"},{"v":0,"d":"0.00"},{"v":0,"d":"0.00"},{"v":0,"d":"0.00"},{"v":0,"d":"0.00"},{"v":0,"d":"0.00"},{"v":0,"d":"0.00"},{"v":0,"d":"0.00"},{"v":0,"d":"0.00"},{"v":0,"d":"0.00"},{"v":0,"d":"0.00"},{"v":0,"d":"0.00"},{"v":0,"d":"0.00"},{"v":0,"d":"0.00"},{"v":0,"d":"0.00"},{"v":0,"d":"0.00"},{"v":0,"d":"0.00"},{"v":0,"d":"0.00"},{"v":0,"d":"0.00"},{"v":0,"d":"0.00"},{"v":0,"d":"0.00"},{"v":0,"d":"0.00"},{"v":0,"d":"0.00"},{"$f":"SUM(D166:AH166)","v":{"v":0,"d":"0.00"}}]
[]
[]
["nachrichtlich:"]
["Fehlzeiten (z.B. Urlaub, \nKrankheit, Fortbildung)",{"$nulls":33},{"$f":"SUM(D170:AH170)","v":{"v":0,"d":"0.00"}}]
[]
[]
["1)  ggf. Angabe des FKZ. anderer geförderter Projekte:"]
[]
[]
[]
[]
[]
[]
["Unterschrift des Vorgesetzten",{"$nulls":12},"Unterschrift des Mitarbeiters"]
[]
[{"$nulls":23},"Förderkennzeichen :",{"$nulls":5},{"$f":"IF($AD$2=\"\",\"\",$AD$2)","v":""}]
["   Zuwendungsempfänger (Firmenstempel)"]
["Stundennachweis"]
["für pauschalierte Abrechnung gemäß Nr. 6 ANBest-P-Kosten (Anlage 1 zum Verwendungsnachweis)"]
[]
["Der Original-Stundennachweis verbleibt beim Zuwendungsempfänger."]
[]
["Vorhabenthema"]
[{"$f":"IF($A$10=\"\",\"\",$A154)","v":""}]
[]
["Monat",null,"Jahr",{"$nulls":8},"Mitarbeiter(in) [Name, Vorname]"]
["Juni",null,{"$f":"C13","v":0},{"$nulls":8},{"$f":"IF($L$13=\"\",\"\",$L$13)","v":""}]
[]
["Die zu Lasten des Vorhabens abzurechnenden Personalstunden sind täglich eingenhändig von der betreffenden Person zu erfassen. Nur die produktiven, für das Vorhaben"]
["geleisteten Stundenn sind zuwendungsfähig."]
[]
["Tätigkeiten",null,null,"Arbeitszeiten in Stunden je Kalendertag",{"$nulls":30},"Summe der \nMonats- stunden"]
[{"$nulls":3},1,2,3,4,5,6,7,8,9,10,11,12,13,14,15,16,17,18,19,20,21,22,23,24,25,26,27,28,29,30,31]
["Vorhabenbezogen",{"$nulls":33},{"$f":"SUM(D200:AH200)","v":{"v":0,"d":"0.00"}}]
["Sonstige 1)",{"$nulls":33},{"$f":"SUM(D201:AH201)","v":{"v":0,"d":"0.00"}}]
["Produktive Gesamtstunden",null,null,{"$f":"SUM(D200:D201)","v":{"v":0,"d":"0.00"}},{"$f":"SUM(E200:E201)","v":{"v":0,"d":"0.00"}},{"v":0,"d":"0.00"},{"v":0,"d":"0.00"},{"v":0,"d":"0.00"},{"v":0,"d":"0.00"},{"v":0,"d":"0.00"},{"v":0,"d":"0.00"},{"v":0,"d":"0.00"},{"v":0,"d":"0.00"},{"v":0,"d":"0.00"},{"v":0,"d":"0.00"},{"v":0,"d":"0.00"},{"v":0,"d":"0.00"},{"v":0,"d":"0.00"},{"v":0,"d":"0.00"},{"v":0,"d":"0.00"},{"v":0,"d":"0.00"},{"v":0,"d":"0.00"},{"v":0,"d":"0.00"},{"v":0,"d":"0.00"},{"v":0,"d":"0.00"},{"v":0,"d":"0.00"},{"v":0,"d":"0.00"},{"v":0,"d":"0.00"},{"v":0,"d":"0.00"},{"v":0,"d":"0.00"},{"v":0,"d":"0.00"},{"v":0,"d":"0.00"},{"v":0,"d":"0.00"},{"v":0,"d":"0.00"},{"$f":"SUM(D202:AH202)","v":{"v":0,"d":"0.00"}}]
[]
[]
["nachrichtlich:"]
["Fehlzeiten (z.B. Urlaub, \nKrankheit, Fortbildung)",{"$nulls":33},{"$f":"SUM(D206:AH206)","v":{"v":0,"d":"0.00"}}]
[]
[]
["1)  ggf. Angabe des FKZ. anderer geförderter Projekte:"]
[]
[]
[]
[]
[]
[]
["Unterschrift des Vorgesetzten",{"$nulls":12},"Unterschrift des Mitarbeiters"]
[]
[{"$nulls":23},"Förderkennzeichen :",{"$nulls":5},{"$f":"IF($AD$2=\"\",\"\",$AD$2)","v":""}]
["   Zuwendungsempfänger (Firmenstempel)"]
["Stundennachweis"]
["für pauschalierte Abrechnung gemäß Nr. 6 ANBest-P-Kosten (Anlage 1 zum Verwendungsnachweis)"]
[]
["Der Original-Stundennachweis verbleibt beim Zuwendungsempfänger."]
[]
["Vorhabenthema"]
[{"$f":"IF($A$10=\"\",\"\",$A190)","v":""}]
[]
["Monat",null,"Jahr",{"$nulls":8},"Mitarbeiter(in) [Name, Vorname]"]
["Juli",null,{"$f":"C13","v":0},{"$nulls":8},{"$f":"IF($L$13=\"\",\"\",$L$13)","v":""}]
[]
["Die zu Lasten des Vorhabens abzurechnenden Personalstunden sind täglich eingenhändig von der betreffenden Person zu erfassen. Nur die produktiven, für das Vorhaben"]
["geleisteten Stundenn sind zuwendungsfähig."]
[]
["Tätigkeiten",null,null,"Arbeitszeiten in Stunden je Kalendertag",{"$nulls":30},"Summe der \nMonats- stunden"]
[{"$nulls":3},1,2,3,4,5,6,7,8,9,10,11,12,13,14,15,16,17,18,19,20,21,22,23,24,25,26,27,28,29,30,31]
["Vorhabenbezogen",{"$nulls":33},{"$f":"SUM(D236:AH236)","v":{"v":0,"d":"0.00"}}]
["Sonstige 1)",{"$nulls":33},{"$f":"SUM(D237:AH237)","v":{"v":0,"d":"0.00"}}]
["Produktive Gesamtstunden",null,null,{"$f":"SUM(D236:D237)","v":{"v":0,"d":"0.00"}},{"$f":"SUM(E236:E237)","v":{"v":0,"d":"0.00"}},{"v":0,"d":"0.00"},{"v":0,"d":"0.00"},{"v":0,"d":"0.00"},{"v":0,"d":"0.00"},{"v":0,"d":"0.00"},{"v":0,"d":"0.00"},{"v":0,"d":"0.00"},{"v":0,"d":"0.00"},{"v":0,"d":"0.00"},{"v":0,"d":"0.00"},{"v":0,"d":"0.00"},{"v":0,"d":"0.00"},{"v":0,"d":"0.00"},{"v":0,"d":"0.00"},{"v":0,"d":"0.00"},{"v":0,"d":"0.00"},{"v":0,"d":"0.00"},{"v":0,"d":"0.00"},{"v":0,"d":"0.00"},{"v":0,"d":"0.00"},{"v":0,"d":"0.00"},{"v":0,"d":"0.00"},{"v":0,"d":"0.00"},{"v":0,"d":"0.00"},{"v":0,"d":"0.00"},{"v":0,"d":"0.00"},{"v":0,"d":"0.00"},{"v":0,"d":"0.00"},{"v":0,"d":"0.00"},{"$f":"SUM(D238:AH238)","v":{"v":0,"d":"0.00"}}]
[]
[]
["nachrichtlich:"]
["Fehlzeiten (z.B. Urlaub, \nKrankheit, Fortbildung)",{"$nulls":33},{"$f":"SUM(D242:AH242)","v":{"v":0,"d":"0.00"}}]
[]
[]
["1)  ggf. Angabe des FKZ. anderer geförderter Projekte:"]
[]
[]
[]
[]
[]
[]
["Unterschrift des Vorgesetzten",{"$nulls":12},"Unterschrift des Mitarbeiters"]
[]
[{"$nulls":23},"Förderkennzeichen :",{"$nulls":5},{"$f":"IF($AD$2=\"\",\"\",$AD$2)","v":""}]
["   Zuwendungsempfänger (Firmenstempel)"]
["Stundennachweis"]
["für pauschalierte Abrechnung gemäß Nr. 6 ANBest-P-Kosten (Anlage 1 zum Verwendungsnachweis)"]
[]
["Der Original-Stundennachweis verbleibt beim Zuwendungsempfänger."]
[]
["Vorhabenthema"]
[{"$f":"IF($A$10=\"\",\"\",$A226)","v":""}]
[]
["Monat",null,"Jahr",{"$nulls":8},"Mitarbeiter(in) [Name, Vorname]"]
["August",null,{"$f":"C13","v":0},{"$nulls":8},{"$f":"IF($L$13=\"\",\"\",$L$13)","v":""}]
[]
["Die zu Lasten des Vorhabens abzurechnenden Personalstunden sind täglich eingenhändig von der betreffenden Person zu erfassen. Nur die produktiven, für das Vorhaben"]
["geleisteten Stundenn sind zuwendungsfähig."]
[]
["Tätigkeiten",null,null,"Arbeitszeiten in Stunden je Kalendertag",{"$nulls":30},"Summe der \nMonats- stunden"]
[{"$nulls":3},1,2,3,4,5,6,7,8,9,10,11,12,13,14,15,16,17,18,19,20,21,22,23,24,25,26,27,28,29,30,31]
["Vorhabenbezogen",{"$nulls":33},{"$f":"SUM(D272:AH272)","v":{"v":0,"d":"0.00"}}]
["Sonstige 1)",{"$nulls":33},{"$f":"SUM(D273:AH273)","v":{"v":0,"d":"0.00"}}]
["Produktive Gesamtstunden",null,null,{"$f":"SUM(D272:D273)","v":{"v":0,"d":"0.00"}},{"$f":"SUM(E272:E273)","v":{"v":0,"d":"0.00"}},{"v":0,"d":"0.00"},{"v":0,"d":"0.00"},{"v":0,"d":"0.00"},{"v":0,"d":"0.00"},{"v":0,"d":"0.00"},{"v":0,"d":"0.00"},{"v":0,"d":"0.00"},{"v":0,"d":"0.00"},{"v":0,"d":"0.00"},{"v":0,"d":"0.00"},{"v":0,"d":"0.00"},{"v":0,"d":"0.00"},{"v":0,"d":"0.00"},{"v":0,"d":"0.00"},{"v":0,"d":"0.00"},{"v":0,"d":"0.00"},{"v":0,"d":"0.00"},{"v":0,"d":"0.00"},{"v":0,"d":"0.00"},{"v":0,"d":"0.00"},{"v":0,"d":"0.00"},{"v":0,"d":"0.00"},{"v":0,"d":"0.00"},{"v":0,"d":"0.00"},{"v":0,"d":"0.00"},{"v":0,"d":"0.00"},{"v":0,"d":"0.00"},{"v":0,"d":"0.00"},{"v":0,"d":"0.00"},{"$f":"SUM(D274:AH274)","v":{"v":0,"d":"0.00"}}]
[]
[]
["nachrichtlich:"]
["Fehlzeiten (z.B. Urlaub, \nKrankheit, Fortbildung)",{"$nulls":33},{"$f":"SUM(D278:AH278)","v":{"v":0,"d":"0.00"}}]
[]
[]
["1)  ggf. Angabe des FKZ. anderer geförderter Projekte:"]
[]
[]
[]
[]
[]
[]
["Unterschrift des Vorgesetzten",{"$nulls":12},"Unterschrift des Mitarbeiters"]
[]
[{"$nulls":23},"Förderkennzeichen :",{"$nulls":5},{"$f":"IF($AD$2=\"\",\"\",$AD$2)","v":""}]
["   Zuwendungsempfänger (Firmenstempel)"]
["Stundennachweis"]
["für pauschalierte Abrechnung gemäß Nr. 6 ANBest-P-Kosten (Anlage 1 zum Verwendungsnachweis)"]
[]
["Der Original-Stundennachweis verbleibt beim Zuwendungsempfänger."]
[]
["Vorhabenthema"]
[{"$f":"IF($A$10=\"\",\"\",$A262)","v":""}]
[]
["Monat",null,"Jahr",{"$nulls":8},"Mitarbeiter(in) [Name, Vorname]"]
["September",null,{"$f":"C13","v":0},{"$nulls":8},{"$f":"IF($L$13=\"\",\"\",$L$13)","v":""}]
[]
["Die zu Lasten des Vorhabens abzurechnenden Personalstunden sind täglich eingenhändig von der betreffenden Person zu erfassen. Nur die produktiven, für das Vorhaben"]
["geleisteten Stundenn sind zuwendungsfähig."]
[]
["Tätigkeiten",null,null,"Arbeitszeiten in Stunden je Kalendertag",{"$nulls":30},"Summe der \nMonats- stunden"]
[{"$nulls":3},1,2,3,4,5,6,7,8,9,10,11,12,13,14,15,16,17,18,19,20,21,22,23,24,25,26,27,28,29,30,31]
["Vorhabenbezogen",{"$nulls":33},{"$f":"SUM(D308:AH308)","v":{"v":0,"d":"0.00"}}]
["Sonstige 1)",{"$nulls":33},{"$f":"SUM(D309:AH309)","v":{"v":0,"d":"0.00"}}]
["Produktive Gesamtstunden",null,null,{"$f":"SUM(D308:D309)","v":{"v":0,"d":"0.00"}},{"$f":"SUM(E308:E309)","v":{"v":0,"d":"0.00"}},{"v":0,"d":"0.00"},{"v":0,"d":"0.00"},{"v":0,"d":"0.00"},{"v":0,"d":"0.00"},{"v":0,"d":"0.00"},{"v":0,"d":"0.00"},{"v":0,"d":"0.00"},{"v":0,"d":"0.00"},{"v":0,"d":"0.00"},{"v":0,"d":"0.00"},{"v":0,"d":"0.00"},{"v":0,"d":"0.00"},{"v":0,"d":"0.00"},{"v":0,"d":"0.00"},{"v":0,"d":"0.00"},{"v":0,"d":"0.00"},{"v":0,"d":"0.00"},{"v":0,"d":"0.00"},{"v":0,"d":"0.00"},{"v":0,"d":"0.00"},{"v":0,"d":"0.00"},{"v":0,"d":"0.00"},{"v":0,"d":"0.00"},{"v":0,"d":"0.00"},{"v":0,"d":"0.00"},{"v":0,"d":"0.00"},{"v":0,"d":"0.00"},{"v":0,"d":"0.00"},{"v":0,"d":"0.00"},{"$f":"SUM(D310:AH310)","v":{"v":0,"d":"0.00"}}]
[]
[]
["nachrichtlich:"]
["Fehlzeiten (z.B. Urlaub, \nKrankheit, Fortbildung)",{"$nulls":33},{"$f":"SUM(D314:AH314)","v":{"v":0,"d":"0.00"}}]
[]
[]
["1)  ggf. Angabe des FKZ. anderer geförderter Projekte:"]
[]
[]
[]
[]
[]
[]
["Unterschrift des Vorgesetzten",{"$nulls":12},"Unterschrift des Mitarbeiters"]
[]
[{"$nulls":23},"Förderkennzeichen :",{"$nulls":5},{"$f":"IF($AD$2=\"\",\"\",$AD$2)","v":""}]
["   Zuwendungsempfänger (Firmenstempel)"]
["Stundennachweis"]
["für pauschalierte Abrechnung gemäß Nr. 6 ANBest-P-Kosten (Anlage 1 zum Verwendungsnachweis)"]
[]
["Der Original-Stundennachweis verbleibt beim Zuwendungsempfänger."]
[]
["Vorhabenthema"]
[{"$f":"IF($A$10=\"\",\"\",$A298)","v":""}]
[]
["Monat",null,"Jahr",{"$nulls":8},"Mitarbeiter(in) [Name, Vorname]"]
["Oktober",null,{"$f":"C13","v":0},{"$nulls":8},{"$f":"IF($L$13=\"\",\"\",$L$13)","v":""}]
[]
["Die zu Lasten des Vorhabens abzurechnenden Personalstunden sind täglich eingenhändig von der betreffenden Person zu erfassen. Nur die produktiven, für das Vorhaben"]
["geleisteten Stundenn sind zuwendungsfähig."]
[]
["Tätigkeiten",null,null,"Arbeitszeiten in Stunden je Kalendertag",{"$nulls":30},"Summe der \nMonats- stunden"]
[{"$nulls":3},1,2,3,4,5,6,7,8,9,10,11,12,13,14,15,16,17,18,19,20,21,22,23,24,25,26,27,28,29,30,31]
["Vorhabenbezogen",{"$nulls":33},{"$f":"SUM(D344:AH344)","v":{"v":0,"d":"0.00"}}]
["Sonstige 1)",{"$nulls":33},{"$f":"SUM(D345:AH345)","v":{"v":0,"d":"0.00"}}]
["Produktive Gesamtstunden",null,null,{"$f":"SUM(D344:D345)","v":{"v":0,"d":"0.00"}},{"$f":"SUM(E344:E345)","v":{"v":0,"d":"0.00"}},{"v":0,"d":"0.00"},{"v":0,"d":"0.00"},{"v":0,"d":"0.00"},{"v":0,"d":"0.00"},{"v":0,"d":"0.00"},{"v":0,"d":"0.00"},{"v":0,"d":"0.00"},{"v":0,"d":"0.00"},{"v":0,"d":"0.00"},{"v":0,"d":"0.00"},{"v":0,"d":"0.00"},{"v":0,"d":"0.00"},{"v":0,"d":"0.00"},{"v":0,"d":"0.00"},{"v":0,"d":"0.00"},{"v":0,"d":"0.00"},{"v":0,"d":"0.00"},{"v":0,"d":"0.00"},{"v":0,"d":"0.00"},{"v":0,"d":"0.00"},{"v":0,"d":"0.00"},{"v":0,"d":"0.00"},{"v":0,"d":"0.00"},{"v":0,"d":"0.00"},{"v":0,"d":"0.00"},{"v":0,"d":"0.00"},{"v":0,"d":"0.00"},{"v":0,"d":"0.00"},{"v":0,"d":"0.00"},{"$f":"SUM(D346:AH346)","v":{"v":0,"d":"0.00"}}]
[]
[]
["nachrichtlich:"]
["Fehlzeiten (z.B. Urlaub, \nKrankheit, Fortbildung)",{"$nulls":33},{"$f":"SUM(D350:AH350)","v":{"v":0,"d":"0.00"}}]
[]
[]
["1)  ggf. Angabe des FKZ. anderer geförderter Projekte:"]
[]
[]
[]
[]
[]
[]
["Unterschrift des Vorgesetzten",{"$nulls":12},"Unterschrift des Mitarbeiters"]
[]
[{"$nulls":23},"Förderkennzeichen :",{"$nulls":5},{"$f":"IF($AD$2=\"\",\"\",$AD$2)","v":""}]
["   Zuwendungsempfänger (Firmenstempel)"]
["Stundennachweis"]
["für pauschalierte Abrechnung gemäß Nr. 6 ANBest-P-Kosten (Anlage 1 zum Verwendungsnachweis)"]
[]
["Der Original-Stundennachweis verbleibt beim Zuwendungsempfänger."]
[]
["Vorhabenthema"]
[{"$f":"IF($A$10=\"\",\"\",$A334)","v":""}]
[]
["Monat",null,"Jahr",{"$nulls":8},"Mitarbeiter(in) [Name, Vorname]"]
["November",null,{"$f":"C13","v":0},{"$nulls":8},{"$f":"IF($L$13=\"\",\"\",$L$13)","v":""}]
[]
["Die zu Lasten des Vorhabens abzurechnenden Personalstunden sind täglich eingenhändig von der betreffenden Person zu erfassen. Nur die produktiven, für das Vorhaben"]
["geleisteten Stundenn sind zuwendungsfähig."]
[]
["Tätigkeiten",null,null,"Arbeitszeiten in Stunden je Kalendertag",{"$nulls":30},"Summe der \nMonats- stunden"]
[{"$nulls":3},1,2,3,4,5,6,7,8,9,10,11,12,13,14,15,16,17,18,19,20,21,22,23,24,25,26,27,28,29,30,31]
["Vorhabenbezogen",{"$nulls":33},{"$f":"SUM(D380:AH380)","v":{"v":0,"d":"0.00"}}]
["Sonstige 1)",{"$nulls":33},{"$f":"SUM(D381:AH381)","v":{"v":0,"d":"0.00"}}]
["Produktive Gesamtstunden",null,null,{"$f":"SUM(D380:D381)","v":{"v":0,"d":"0.00"}},{"$f":"SUM(E380:E381)","v":{"v":0,"d":"0.00"}},{"v":0,"d":"0.00"},{"v":0,"d":"0.00"},{"v":0,"d":"0.00"},{"v":0,"d":"0.00"},{"v":0,"d":"0.00"},{"v":0,"d":"0.00"},{"v":0,"d":"0.00"},{"v":0,"d":"0.00"},{"v":0,"d":"0.00"},{"v":0,"d":"0.00"},{"v":0,"d":"0.00"},{"v":0,"d":"0.00"},{"v":0,"d":"0.00"},{"v":0,"d":"0.00"},{"v":0,"d":"0.00"},{"v":0,"d":"0.00"},{"v":0,"d":"0.00"},{"v":0,"d":"0.00"},{"v":0,"d":"0.00"},{"v":0,"d":"0.00"},{"v":0,"d":"0.00"},{"v":0,"d":"0.00"},{"v":0,"d":"0.00"},{"v":0,"d":"0.00"},{"v":0,"d":"0.00"},{"v":0,"d":"0.00"},{"v":0,"d":"0.00"},{"v":0,"d":"0.00"},{"v":0,"d":"0.00"},{"$f":"SUM(D382:AH382)","v":{"v":0,"d":"0.00"}}]
[]
[]
["nachrichtlich:"]
["Fehlzeiten (z.B. Urlaub, \nKrankheit, Fortbildung)",{"$nulls":33},{"$f":"SUM(D386:AH386)","v":{"v":0,"d":"0.00"}}]
[]
[]
["1)  ggf. Angabe des FKZ. anderer geförderter Projekte:"]
[]
[]
[]
[]
[]
[]
["Unterschrift des Vorgesetzten",{"$nulls":12},"Unterschrift des Mitarbeiters"]
[]
[{"$nulls":23},"Förderkennzeichen :",{"$nulls":5},{"$f":"IF($AD$2=\"\",\"\",$AD$2)","v":""}]
["   Zuwendungsempfänger (Firmenstempel)"]
["Stundennachweis"]
["für pauschalierte Abrechnung gemäß Nr. 6 ANBest-P-Kosten (Anlage 1 zum Verwendungsnachweis)"]
[]
["Der Original-Stundennachweis verbleibt beim Zuwendungsempfänger."]
[]
["Vorhabenthema"]
[{"$f":"IF($A$10=\"\",\"\",$A370)","v":""}]
[]
["Monat",null,"Jahr",{"$nulls":8},"Mitarbeiter(in) [Name, Vorname]"]
["Dezember",null,{"$f":"C13","v":0},{"$nulls":8},{"$f":"IF($L$13=\"\",\"\",$L$13)","v":""}]
[]
["Die zu Lasten des Vorhabens abzurechnenden Personalstunden sind täglich eingenhändig von der betreffenden Person zu erfassen. Nur die produktiven, für das Vorhaben"]
["geleisteten Stundenn sind zuwendungsfähig."]
[]
["Tätigkeiten",null,null,"Arbeitszeiten in Stunden je Kalendertag",{"$nulls":30},"Summe der \nMonats- stunden"]
[{"$nulls":3},1,2,3,4,5,6,7,8,9,10,11,12,13,14,15,16,17,18,19,20,21,22,23,24,25,26,27,28,29,30,31]
["Vorhabenbezogen",{"$nulls":33},{"$f":"SUM(D416:AH416)","v":{"v":0,"d":"0.00"}}]
["Sonstige 1)",{"$nulls":33},{"$f":"SUM(D417:AH417)","v":{"v":0,"d":"0.00"}}]
["Produktive Gesamtstunden",null,null,{"$f":"SUM(D416:D417)","v":0},{"$f":"SUM(E416:E417)","v":{"v":0,"d":"0.00"}},{"v":0,"d":"0.00"},{"v":0,"d":"0.00"},{"v":0,"d":"0.00"},{"v":0,"d":"0.00"},{"v":0,"d":"0.00"},{"v":0,"d":"0.00"},{"v":0,"d":"0.00"},{"v":0,"d":"0.00"},{"v":0,"d":"0.00"},{"v":0,"d":"0.00"},{"v":0,"d":"0.00"},{"v":0,"d":"0.00"},{"v":0,"d":"0.00"},{"v":0,"d":"0.00"},{"v":0,"d":"0.00"},{"v":0,"d":"0.00"},{"v":0,"d":"0.00"},{"v":0,"d":"0.00"},{"v":0,"d":"0.00"},{"v":0,"d":"0.00"},{"v":0,"d":"0.00"},{"v":0,"d":"0.00"},{"v":0,"d":"0.00"},{"v":0,"d":"0.00"},{"v":0,"d":"0.00"},{"v":0,"d":"0.00"},{"v":0,"d":"0.00"},{"v":0,"d":"0.00"},{"v":0,"d":"0.00"},{"$f":"SUM(D418:AH418)","v":{"v":0,"d":"0.00"}}]
[]
[]
["nachrichtlich:"]
["Fehlzeiten (z.B. Urlaub, \nKrankheit, Fortbildung)",{"$nulls":33},{"$f":"SUM(D422:AH422)","v":{"v":0,"d":"0.00"}}]
[]
[]
["1)  ggf. Angabe des FKZ. anderer geförderter Projekte:"]
[]
[]
[]
[]
[]
[]
["Unterschrift des Vorgesetzten",{"$nulls":12},"Unterschrift des Mitarbeiters"]

{"sheet":"Jahresstd.satz Mitarbeiter D","index":8,"n_rows":38,"n_cols":15,"rows_kept":38,"merged":[[1,0,1,3],[1,8,1,10],[1,11,1,14],[5,0,5,14],[6,0,6,14],[10,0,10,14],[13,4,13,14],[16,0,17,1],[16,14,17,14],[18,0,18,1],[19,0,19,1],[20,0,20,1],[28,11,28,13],[29,6,29,8],[29,9,30,10],[29,11,30,13],[30,6,30,8]]}
[]
[{"$nulls":8},"Förderkennzeichen:       ",null,null,{"$f":"IF('Stundennachweise Mitarbeiter D'!AD2=0,\"\",'Stundennachweise Mitarbeiter D'!AD2)","v":""}]
["   Zuwendungsempfänger (Firmenstempel)"]
[]
[]
["Ermittlung des Jahresstundensatzes"]
["bei pauschalierter Abrechnung gemäß Nr. 6 ANBest-P-Kosten (Anlage 2 zum Verwendungsnachweis)"]
[]
[]
["Vorhabenthema"]
[{"$f":"IF('Stundennachweise Mitarbeiter D'!A10:AI10=\"\",\"\",'Stundennachweise Mitarbeiter D'!A10:AI10)","v":""}]
[]
["Jahr",{"$nulls":3},"Mitarbeiter(in) [Name, Vorname]"]
[{"$f":"IF('Stundennachweise Mitarbeiter D'!C13=\"\",\"\",'Stundennachweise Mitarbeiter D'!C13)","v":""},{"$nulls":3},{"$f":"IF('Stundennachweise Mitarbeiter D'!L13=\"\",\"\",'Stundennachweise Mitarbeiter D'!L13)","v":""}]
[]
["1. Jahresstunden lt. monatlichen Stundennachweisen"]
["Tätigkeiten",null,"Arbeitszeit in Stunden je Monat:",{"$nulls":11},"Summe der Jahresstunden"]
[null,null,"Januar","Februar","März","April","Mai","Juni","Juli","August","Sept.","Oktober","Nov.","Dez."]
["Vorhabenbezogen",null,{"$f":"'Stundennachweise Mitarbeiter D'!AI20","v":{"v":0,"d":"0.00"}},{"$f":"'Stundennachweise Mitarbeiter D'!AI56","v":{"v":0,"d":"0.00"}},{"$f":"'Stundennachweise Mitarbeiter D'!AI92","v":{"v":0,"d":"0.00"}},{"$f":"'Stundennachweise Mitarbeiter D'!AI128","v":{"v":0,"d":"0.00"}},{"$f":"'Stundennachweise Mitarbeiter D'!AI164","v":{"v":0,"d":"0.00"}},{"$f":"'Stundennachweise Mitarbeiter D'!AI200","v":{"v":0,"d":"0.00"}},{"$f":"'Stundennachweise Mitarbeiter D'!AI236","v":{"v":0,"d":"0.00"}},{"$f":"'Stundennachweise Mitarbeiter D'!AI272","v":{"v":0,"d":"0.00"}},{"$f":"'Stundennachweise Mitarbeiter D'!AI308","v":{"v":0,"d":"0.00"}},{"$f":"'Stundennachweise Mitarbeiter D'!AI344","v":{"v":0,"d":"0.00"}},{"$f":"'Stundennachweise Mitarbeiter D'!AI380","v":{"v":0,"d":"0.00"}},{"$f":"'Stundennachweise Mitarbeiter D'!AI416","v":{"v":0,"d":"0.00"}},{"$f":"SUM(C19:N19)","v":{"v":0,"d":"0.00"}}]
["Sonstige",null,{"$f":"'Stundennachweise Mitarbeiter D'!AI21","v":{"v":0,"d":"0.00"}},{"$f":"'Stundennachweise Mitarbeiter D'!AI57","v":{"v":0,"d":"0.00"}},{"$f":"'Stundennachweise Mitarbeiter D'!AI93","v":{"v":0,"d":"0.00"}},{"$f":"'Stundennachweise Mitarbeiter D'!AI129","v":{"v":0,"d":"0.00"}},{"$f":"'Stundennachweise Mitarbeiter D'!AI165","v":{"v":0,"d":"0.00"}},{"$f":"'Stundennachweise Mitarbeiter D'!AI201","v":{"v":0,"d":"0.00"}},{"$f":"'Stundennachweise Mitarbeiter D'!AI237","v":{"v":0,"d":"0.00"}},{"$f":"'Stundennachweise Mitarbeiter D'!AI273","v":{"v":0,"d":"0.00"}},{"$f":"'Stundennachweise Mitarbeiter D'!AI309","v":{"v":0,"d":"0.00"}},{"$f":"'Stundennachweise Mitarbeiter D'!AI345","v":{"v":0,"d":"0.00"}},{"$f":"'Stundennachweise Mitarbeiter D'!AI381","v":{"v":0,"d":"0.00"}},{"$f":"'Stundennachweise Mitarbeiter D'!AI417","v":{"v":0,"d":"0.00"}},{"$f":"SUM(C20:N20)","v":{"v":0,"d":"0.00"}}]
["Produktive Gesamtstunden",null,{"$f":"'Stundennachweise Mitarbeiter D'!AI22","v":{"v":0,"d":"0.00"}},{"$f":"'Stundennachweise Mitarbeiter D'!AI58","v":{"v":0,"d":"0.00"}},{"$f":"'Stundennachweise Mitarbeiter D'!AI94","v":{"v":0,"d":"0.00"}},{"$f":"'Stundennachweise Mitarbeiter D'!AI130","v":{"v":0,"d":"0.00"}},{"$f":"'Stundennachweise Mitarbeiter D'!AI166","v":{"v":0,"d":"0.00"}},{"$f":"'Stundennachweise Mitarbeiter D'!AI202","v":{"v":0,"d":"0.00"}},{"$f":"'Stundennachweise Mitarbeiter D'!AI238","v":{"v":0,"d":"0.00"}},{"$f":"'Stundennachweise Mitarbeiter D'!AI274","v":{"v":0,"d":"0.00"}},{"$f":"'Stundennachweise Mitarbeiter D'!AI310","v":{"v":0,"d":"0.00"}},{"$f":"'Stundennachweise Mitarbeiter D'!AI346","v":{"v":0,"d":"0.00"}},{"$f":"'Stundennachweise Mitarbeiter D'!AI382","v":{"v":0,"d":"0.00"}},{"$f":"'Stundennachweise Mitarbeiter D'!AI418","v":{"v":0,"d":"0.00"}},{"$f":"SUM(C21:N21)","v":{"v":0,"d":"0.00"}}]
[]
["nachrichtlich:"]
["Fehlzeiten (z.B. Urlaub, Krankheit, Fortbildung)",null,{"$f":"'Stundennachweise Mitarbeiter D'!AI26","v":{"v":0,"d":"0.00"}},{"$f":"'Stundennachweise Mitarbeiter D'!AI62","v":{"v":0,"d":"0.00"}},{"$f":"'Stundennachweise Mitarbeiter D'!AI98","v":{"v":0,"d":"0.00"}},{"$f":"'Stundennachweise Mitarbeiter D'!AI134","v":{"v":0,"d":"0.00"}},{"$f":"'Stundennachweise Mitarbeiter D'!AI170","v":{"v":0,"d":"0.00"}},{"$f":"'Stundennachweise Mitarbeiter D'!AI206","v":{"v":0,"d":"0.00"}},{"$f":"'Stundennachweise Mitarbeiter D'!AI242","v":{"v":0,"d":"0.00"}},{"$f":"'Stundennachweise Mitarbeiter D'!AI278","v":{"v":0,"d":"0.00"}},{"$f":"'Stundennachweise Mitarbeiter D'!AI314","v":{"v":0,"d":"0.00"}},{"$f":"'Stundennachweise Mitarbeiter D'!AI350","v":{"v":0,"d":"0.00"}},{"$f":"'Stundennachweise Mitarbeiter D'!AI386","v":{"v":0,"d":"0.00"}},{"$f":"'Stundennachweise Mitarbeiter D'!AI422","v":{"v":0,"d":"0.00"}},{"$f":"SUM(C24:N24)","v":{"v":0,"d":"0.00"}}]
[]
[]
["2. Berechnung des Jahresstundensatzes"]
[]
[{"$nulls":11},"Jahresstundensatz"]
["Bruttojahreslohn/ -gehalt 1)",{"$nulls":8},"=",null,{"$f":"IF(G30=\"\",\"\",G30/G31)","v":""}]
["Jahresarbeitsstunden lt. Tarifvertrag/Betriebsvereinbarung/Arbeitsvertrag 2)"]
[]
[]
[]
[]
["1)   Personalkosten i.S. der Nr. 6.1.3 ANBest-P-Kosten"]
[]
["2)   Bei tatsächlich mehr geleisteten produktiven Gesamtstunden (vorhabenbezogene und sonstige) gelten diese Gesamtsunden als Divisor"]

{"sheet":"Stundennachweise Mitarbeiter E","index":9,"n_rows":432,"n_cols":35,"rows_kept":432,"merged":[[1,0,1,7],[1,29,1,34],[3,0,3,34],[4,0,4,34],[9,0,9,34],[12,11,12,34],[17,0,18,2],[17,34,18,34],[19,0,19,2],[20,0,20,2],[21,0,21,2],[25,0,25,2],[28,10,28,16],[29,10,29,16],[37,0,37,7],[37,29,37,34],[39,0,39,34],[40,0,40,34],[45,0,45,34],[48,11,48,34],[53,0,54,2],[53,34,54,34],[55,0,55,2],[56,0,56,2],[57,0,57,2],[61,0,61,2],[64,10,64,16],[65,10,65,16],[73,0,73,7],[73,29,73,34],[75,0,75,34],[76,0,76,34],[81,0,81,34],[84,11,84,34],[89,0,90,2],[89,34,90,34],[91,0,91,2],[92,0,92,2],[93,0,93,2],[97,0,97,2],[100,10,100,16],[101,10,101,16],[109,0,109,7],[109,29,109,34],[111,0,111,34],[112,0,112,34],[117,0,117,34],[120,11,120,34],[125,0,126,2],[125,34,126,34],[127,0,127,2],[128,0,128,2],[129,0,129,2],[133,0,133,2],[136,10,136,16],[137,10,137,16],[145,0,145,7],[145,29,145,34],[147,0,147,34],[148,0,148,34],[153,0,153,34],[156,11,156,34],[161,0,162,2],[161,34,162,34],[163,0,163,2],[164,0,164,2],[165,0,165,2],[169,0,169,2],[172,10,172,16],[173,10,173,16],[181,0,181,7],[181,29,181,34],[183,0,183,34],[184,0,184,34],[189,0,189,34],[192,11,192,34],[197,0,198,2],[197,34,198,34],[199,0,199,2],[200,0,200,2],[201,0,201,2],[205,0,205,2],[208,10,208,16],[209,10,209,16],[217,0,217,7],[217,29,217,34],[219,0,219,34],[220,0,220,34],[225,0,225,34],[228,11,228,34],[233,0,234,2],[233,34,234,34],[235,0,235,2],[236,0,236,2],[237,0,237,2],[241,0,241,2],[244,10,244,16],[245,10,245,16],[253,0,253,7],[253,29,253,34],[255,0,255,34],[256,0,256,34],[261,0,261,34],[264,11,264,34],[269,0,270,2],[269,34,270,34],[271,0,271,2],[272,0,272,2],[273,0,273,2],[277,0,277,2],[280,10,280,16],[281,10,281,16],[289,0,289,7],[289,29,289,34],[291,0,291,34],[292,0,292,34],[297,0,297,34],[300,11,300,34],[305,0,306,2],[305,34,306,34],[307,0,307,2],[308,0,308,2],[309,0,309,2],[313,0,313,2],[316,10,316,16],[317,10,317,16],[325,0,325,7],[325,29,325,34],[327,0,327,34],[328,0,328,34],[333,0,333,34],[336,11,336,34],[341,0,342,2],[341,34,342,34],[343,0,343,2],[344,0,344,2],[345,0,345,2],[349,0,349,2],[352,10,352,16],[353,10,353,16],[361,0,361,7],[361,29,361,34],[363,0,363,34],[364,0,364,34],[369,0,369,34],[372,11,372,34],[377,0,378,2],[377,34,378,34],[379,0,379,2],[380,0,380,2],[381,0,381,2],[385,0,385,2],[388,10,388,16],[389,10,389,16],[397,0,397,7],[397,29,397,34],[399,0,399,34],[400,0,400,34],[405,0,405,34],[408,11,408,34],[413,0,414,2],[413,34,414,34],[415,0,415,2],[416,0,416,2],[417,0,417,2],[421,0,421,2],[424,10,424,16],[425,10,425,16]]}
[]
[{"$nulls":23},"Förderkennzeichen :"]
["   Zuwendungsempfänger (Firmenstempel)"]
["Stundennachweis"]
["für pauschalierte Abrechnung gemäß Nr. 6 ANBest-P-Kosten (Anlage 1 zum Verwendungsnachweis)"]
[]
["Der Original-Stundennachweis verbleibt beim Zuwendungsempfänger."]
[]
["Vorhabenthema"]
[]
[]
["Monat",null,"Jahr",{"$nulls":8},"Mitarbeiter(in) [Name, Vorname]"]
["Januar"]
[]
["Die zu Lasten des Vorhabens abzurechnenden Personalstunden sind täglich eingenhändig von der betreffenden Person zu erfassen. Nur die produktiven, für das Vorhaben"]
["geleisteten Stundenn sind zuwendungsfähig."]
[]
["Tätigkeiten",null,null,"Arbeitszeiten in Stunden je Kalendertag",{"$nulls":30},"Summe der \nMonats- stunden"]
[{"$nulls":3},1,2,3,4,5,6,7,8,9,10,11,12,13,14,15,16,17,18,19,20,21,22,23,24,25,26,27,28,29,30,31]
["Vorhabenbezogen",{"$nulls":33},{"$f":"SUM(D20:AH20)","v":{"v":0,"d":"0.00"}}]
["Sonstige 1)",{"$nulls":33},{"$f":"SUM(D21:AH21)","v":{"v":0,"d":"0.00"}}]
["Produktive Gesamtstunden",null,null,{"$f":"SUM(D20:D21)","v":{"v":0,"d":"0.00"}},{"$f":"SUM(E20:E21)","v":{"v":0,"d":"0.00"}},{"v":0,"d":"0.00"},{"v":0,"d":"0.00"},{"v":0,"d":"0.00"},{"v":0,"d":"0.00"},{"v":0,"d":"0.00"},{"v":0,"d":"0.00"},{"v":0,"d":"0.00"},{"v":0,"d":"0.00"},{"v":0,"d":"0.00"},{"v":0,"d":"0.00"},{"v":0,"d":"0.00"},{"v":0,"d":"0.00"},{"v":0,"d":"0.00"},{"v":0,"d":"0.00"},{"v":0,"d":"0.00"},{"v":0,"d":"0.00"},{"v":0,"d":"0.00"},{"v":0,"d":"0.00"},{"v":0,"d":"0.00"},{"v":0,"d":"0.00"},{"v":0,"d":"0.00"},{"v":0,"d":"0.00"},{"v":0,"d":"0.00"},{"v":0,"d":"0.00"},{"v":0,"d":"0.00"},{"v":0,"d":"0.00"},{"v":0,"d":"0.00"},{"v":0,"d":"0.00"},{"v":0,"d":"0.00"},{"$f":"SUM(D22:AH22)","v":{"v":0,"d":"0.00"}}]
[]
[]
["nachrichtlich:"]
["Fehlzeiten (z.B. Urlaub, \nKrankheit, Fortbildung)",{"$nulls":33},{"$f":"SUM(D26:AH26)","v":{"v":0,"d":"0.00"}}]
[]
[]
["1)  ggf. Angabe des FKZ. anderer geförderter Projekte:"]
[]
[]
[]
[]
[]
[]
["Unterschrift des Vorgesetzten",{"$nulls":12},"Unterschrift des Mitarbeiters"]
[]
[{"$nulls":23},"Förderkennzeichen :",{"$nulls":5},{"$f":"IF($AD$2=\"\",\"\",$AD$2)","v":""}]
["   Zuwendungsempfänger (Firmenstempel)"]
["Stundennachweis"]
["für pauschalierte Abrechnung gemäß Nr. 6 ANBest-P-Kosten (Anlage 1 zum Verwendungsnachweis)"]
[]
["Der Original-Stundennachweis verbleibt beim Zuwendungsempfänger."]
[]
["Vorhabenthema"]
[{"$f":"IF($A$10=\"\",\"\",$A10)","v":""}]
[]
["Monat",null,"Jahr",{"$nulls":8},"Mitarbeiter(in) [Name, Vorname]"]
["Februar",null,{"$f":"C13","v":0},{"$nulls":8},{"$f":"IF($L$13=\"\",\"\",$L$13)","v":""}]
[]
["Die zu Lasten des Vorhabens abzurechnenden Personalstunden sind täglich eingenhändig von der betreffenden Person zu erfassen. Nur die produktiven, für das Vorhaben"]
["geleisteten Stundenn sind zuwendungsfähig."]
[]
["Tätigkeiten",null,null,"Arbeitszeiten in Stunden je Kalendertag",{"$nulls":30},"Summe der \nMonats- stunden"]
[{"$nulls":3},1,2,3,4,5,6,7,8,9,10,11,12,13,14,15,16,17,18,19,20,21,22,23,24,25,26,27,28,29,30,31]
["Vorhabenbezogen",{"$nulls":33},{"$f":"SUM(D56:AH56)","v":{"v":0,"d":"0.00"}}]
["Sonstige 1)",{"$nulls":33},{"$f":"SUM(D57:AH57)","v":{"v":0,"d":"0.00"}}]
["Produktive Gesamtstunden",null,null,{"$f":"SUM(D56:D57)","v":{"v":0,"d":"0.00"}},{"$f":"SUM(E56:E57)","v":{"v":0,"d":"0.00"}},{"v":0,"d":"0.00"},{"v":0,"d":"0.00"},{"v":0,"d":"0.00"},{"v":0,"d":"0.00"},{"v":0,"d":"0.00"},{"v":0,"d":"0.00"},{"v":0,"d":"0.00"},{"v":0,"d":"0.00"},{"v":0,"d":"0.00"},{"v":0,"d":"0.00"},{"v":0,"d":"0.00"},{"v":0,"d":"0.00"},{"v":0,"d":"0.00"},{"v":0,"d":"0.00"},{"v":0,"d":"0.00"},{"v":0,"d":"0.00"},{"v":0,"d":"0.00"},{"v":0,"d":"0.00"},{"v":0,"d":"0.00"},{"v":0,"d":"0.00"},{"v":0,"d":"0.00"},{"v":0,"d":"0.00"},{"v":0,"d":"0.00"},{"v":0,"d":"0.00"},{"v":0,"d":"0.00"},{"v":0,"d":"0.00"},{"v":0,"d":"0.00"},{"v":0,"d":"0.00"},{"v":0,"d":"0.00"},{"$f":"SUM(D58:AH58)","v":{"v":0,"d":"0.00"}}]
[]
[]
["nachrichtlich:"]
["Fehlzeiten (z.B. Urlaub, \nKrankheit, Fortbildung)",{"$nulls":33},{"$f":"SUM(D62:AH62)","v":{"v":0,"d":"0.00"}}]
[]
[]
["1)  ggf. Angabe des FKZ. anderer geförderter Projekte:"]
[]
[]
[]
[]
[]
[]
["Unterschrift des Vorgesetzten",{"$nulls":12},"Unterschrift des Mitarbeiters"]
[]
[{"$nulls":23},"Förderkennzeichen :",{"$nulls":5},{"$f":"IF($AD$2=\"\",\"\",$AD$2)","v":""}]
["   Zuwendungsempfänger (Firmenstempel)"]
["Stundennachweis"]
["für pauschalierte Abrechnung gemäß Nr. 6 ANBest-P-Kosten (Anlage 1 zum Verwendungsnachweis)"]
[]
["Der Original-Stundennachweis verbleibt beim Zuwendungsempfänger."]
[]
["Vorhabenthema"]
[{"$f":"IF($A$10=\"\",\"\",$A46)","v":""}]
[]
["Monat",null,"Jahr",{"$nulls":8},"Mitarbeiter(in) [Name, Vorname]"]
["März",null,{"$f":"C13","v":0},{"$nulls":8},{"$f":"IF($L$13=\"\",\"\",$L$13)","v":""}]
[]
["Die zu Lasten des Vorhabens abzurechnenden Personalstunden sind täglich eingenhändig von der betreffenden Person zu erfassen. Nur die produktiven, für das Vorhaben"]
["geleisteten Stundenn sind zuwendungsfähig."]
[]
["Tätigkeiten",null,null,"Arbeitszeiten in Stunden je Kalendertag",{"$nulls":30},"Summe der \nMonats- stunden"]
[{"$nulls":3},1,2,3,4,5,6,7,8,9,10,11,12,13,14,15,16,17,18,19,20,21,22,23,24,25,26,27,28,29,30,31]
["Vorhabenbezogen",{"$nulls":33},{"$f":"SUM(D92:AH92)","v":{"v":0,"d":"0.00"}}]
["Sonstige 1)",{"$nulls":33},{"$f":"SUM(D93:AH93)","v":{"v":0,"d":"0.00"}}]
["Produktive Gesamtstunden",null,null,{"$f":"SUM(D92:D93)","v":{"v":0,"d":"0.00"}},{"$f":"SUM(E92:E93)","v":{"v":0,"d":"0.00"}},{"v":0,"d":"0.00"},{"v":0,"d":"0.00"},{"v":0,"d":"0.00"},{"v":0,"d":"0.00"},{"v":0,"d":"0.00"},{"v":0,"d":"0.00"},{"v":0,"d":"0.00"},{"v":0,"d":"0.00"},{"v":0,"d":"0.00"},{"v":0,"d":"0.00"},{"v":0,"d":"0.00"},{"v":0,"d":"0.00"},{"v":0,"d":"0.00"},{"v":0,"d":"0.00"},{"v":0,"d":"0.00"},{"v":0,"d":"0.00"},{"v":0,"d":"0.00"},{"v":0,"d":"0.00"},{"v":0,"d":"0.00"},{"v":0,"d":"0.00"},{"v":0,"d":"0.00"},{"v":0,"d":"0.00"},{"v":0,"d":"0.00"},{"v":0,"d":"0.00"},{"v":0,"d":"0.00"},{"v":0,"d":"0.00"},{"v":0,"d":"0.00"},{"v":0,"d":"0.00"},{"v":0,"d":"0.00"},{"$f":"SUM(D94:AH94)","v":{"v":0,"d":"0.00"}}]
[]
[]
["nachrichtlich:"]
["Fehlzeiten (z.B. Urlaub, \nKrankheit, Fortbildung)",{"$nulls":33},{"$f":"SUM(D98:AH98)","v":{"v":0,"d":"0.00"}}]
[]
[]
["1)  ggf. Angabe des FKZ. anderer geförderter Projekte:"]
[]
[]
[]
[]
[]
[]
["Unterschrift des Vorgesetzten",{"$nulls":12},"Unterschrift des Mitarbeiters"]
[]
[{"$nulls":23},"Förderkennzeichen :",{"$nulls":5},{"$f":"IF($AD$2=\"\",\"\",$AD$2)","v":""}]
["   Zuwendungsempfänger (Firmenstempel)"]
["Stundennachweis"]
["für pauschalierte Abrechnung gemäß Nr. 6 ANBest-P-Kosten (Anlage 1 zum Verwendungsnachweis)"]
[]
["Der Original-Stundennachweis verbleibt beim Zuwendungsempfänger."]
[]
["Vorhabenthema"]
[{"$f":"IF($A$10=\"\",\"\",$A82)","v":""}]
[]
["Monat",null,"Jahr",{"$nulls":8},"Mitarbeiter(in) [Name, Vorname]"]
["April",null,{"$f":"C13","v":0},{"$nulls":8},{"$f":"IF($L$13=\"\",\"\",$L$13)","v":""}]
[]
["Die zu Lasten des Vorhabens abzurechnenden Personalstunden sind täglich eingenhändig von der betreffenden Person zu erfassen. Nur die produktiven, für das Vorhaben"]
["geleisteten Stundenn sind zuwendungsfähig."]
[]
["Tätigkeiten",null,null,"Arbeitszeiten in Stunden je Kalendertag",{"$nulls":30},"Summe der \nMonats- stunden"]
[{"$nulls":3},1,2,3,4,5,6,7,8,9,10,11,12,13,14,15,16,17,18,19,20,21,22,23,24,25,26,27,28,29,30,31]
["Vorhabenbezogen",{"$nulls":33},{"$f":"SUM(D128:AH128)","v":{"v":0,"d":"0.00"}}]
["Sonstige 1)",{"$nulls":33},{"$f":"SUM(D129:AH129)","v":{"v":0,"d":"0.00"}}]
["Produktive Gesamtstunden",null,null,{"$f":"SUM(D128:D129)","v":{"v":0,"d":"0.00"}},{"$f":"SUM(E128:E129)","v":{"v":0,"d":"0.00"}},{"v":0,"d":"0.00"},{"v":0,"d":"0.00"},{"v":0,"d":"0.00"},{"v":0,"d":"0.00"},{"v":0,"d":"0.00"},{"v":0,"d":"0.00"},{"v":0,"d":"0.00"},{"v":0,"d":"0.00"},{"v":0,"d":"0.00"},{"v":0,"d":"0.00"},{"v":0,"d":"0.00"},{"v":0,"d":"0.00"},{"v":0,"d":"0.00"},{"v":0,"d":"0.00"},{"v":0,"d":"0.00"},{"v":0,"d":"0.00"},{"v":0,"d":"0.00"},{"v":0,"d":"0.00"},{"v":0,"d":"0.00"},{"v":0,"d":"0.00"},{"v":0,"d":"0.00"},{"v":0,"d":"0.00"},{"v":0,"d":"0.00"},{"v":0,"d":"0.00"},{"v":0,"d":"0.00"},{"v":0,"d":"0.00"},{"v":0,"d":"0.00"},{"v":0,"d":"0.00"},{"v":0,"d":"0.00"},{"$f":"SUM(D130:AH130)","v":{"v":0,"d":"0.00"}}]
[]
[]
["nachrichtlich:"]
["Fehlzeiten (z.B. Urlaub, \nKrankheit, Fortbildung)",{"$nulls":33},{"$f":"SUM(D134:AH134)","v":{"v":0,"d":"0.00"}}]
[]
[]
["1)  ggf. Angabe des FKZ. anderer geförderter Projekte:"]
[]
[]
[]
[]
[]
[]
["Unterschrift des Vorgesetzten",{"$nulls":12},"Unterschrift des Mitarbeiters"]
[]
[{"$nulls":23},"Förderkennzeichen :",{"$nulls":5},{"$f":"IF($AD$2=\"\",\"\",$AD$2)","v":""}]
["   Zuwendungsempfänger (Firmenstempel)"]
["Stundennachweis"]
["für pauschalierte Abrechnung gemäß Nr. 6 ANBest-P-Kosten (Anlage 1 zum Verwendungsnachweis)"]
[]
["Der Original-Stundennachweis verbleibt beim Zuwendungsempfänger."]
[]
["Vorhabenthema"]
[{"$f":"IF($A$10=\"\",\"\",$A118)","v":""}]
[]
["Monat",null,"Jahr",{"$nulls":8},"Mitarbeiter(in) [Name, Vorname]"]
["Mai",null,{"$f":"C13","v":0},{"$nulls":8},{"$f":"IF($L$13=\"\",\"\",$L$13)","v":""}]
[]
["Die zu Lasten des Vorhabens abzurechnenden Personalstunden sind täglich eingenhändig von der betreffenden Person zu erfassen. Nur die produktiven, für das Vorhaben"]
["geleisteten Stundenn sind zuwendungsfähig."]
[]
["Tätigkeiten",null,null,"Arbeitszeiten in Stunden je Kalendertag",{"$nulls":30},"Summe der \nMonats- stunden"]
[{"$nulls":3},1,2,3,4,5,6,7,8,9,10,11,12,13,14,15,16,17,18,19,20,21,22,23,24,25,26,27,28,29,30,31]
["Vorhabenbezogen",{"$nulls":33},{"$f":"SUM(D164:AH164)","v":{"v":0,"d":"0.00"}}]
["Sonstige 1)",{"$nulls":33},{"$f":"SUM(D165:AH165)","v":{"v":0,"d":"0.00"}}]
["Produktive Gesamtstunden",null,null,{"$f":"SUM(D164:D165)","v":{"v":0,"d":"0.00"}},{"$f":"SUM(E164:E165)","v":{"v":0,"d":"0.00"}},{"v":0,"d":"0.00"},{"v":0,"d":"0.00"},{"v":0,"d":"0.00"},{"v":0,"d":"0.00"},{"v":0,"d":"0.00"},{"v":0,"d":"0.00"},{"v":0,"d":"0.00"},{"v":0,"d":"0.00"},{"v":0,"d":"0.00"},{"v":0,"d":"0.00"},{"v":0,"d":"0.00"},{"v":0,"d":"0.00"},{"v":0,"d":"0.00"},{"v":0,"d":"0.00"},{"v":0,"d":"0.00"},{"v":0,"d":"0.00"},{"v":0,"d":"0.00"},{"v":0,"d":"0.00"},{"v":0,"d":"0.00"},{"v":0,"d":"0.00"},{"v":0,"d":"0.00"},{"v":0,"d":"0.00"},{"v":0,"d":"0.00"},{"v":0,"d":"0.00"},{"v":0,"d":"0.00"},{"v":0,"d":"0.00"},{"v":0,"d":"0.00"},{"v":0,"d":"0.00"},{"v":0,"d":"0.00"},{"$f":"SUM(D166:AH166)","v":{"v":0,"d":"0.00"}}]
[]
[]
["nachrichtlich:"]
["Fehlzeiten (z.B. Urlaub, \nKrankheit, Fortbildung)",{"$nulls":33},{"$f":"SUM(D170:AH170)","v":{"v":0,"d":"0.00"}}]
[]
[]
["1)  ggf. Angabe des FKZ. anderer geförderter Projekte:"]
[]
[]
[]
[]
[]
[]
["Unterschrift des Vorgesetzten",{"$nulls":12},"Unterschrift des Mitarbeiters"]
[]
[{"$nulls":23},"Förderkennzeichen :",{"$nulls":5},{"$f":"IF($AD$2=\"\",\"\",$AD$2)","v":""}]
["   Zuwendungsempfänger (Firmenstempel)"]
["Stundennachweis"]
["für pauschalierte Abrechnung gemäß Nr. 6 ANBest-P-Kosten (Anlage 1 zum Verwendungsnachweis)"]
[]
["Der Original-Stundennachweis verbleibt beim Zuwendungsempfänger."]
[]
["Vorhabenthema"]
[{"$f":"IF($A$10=\"\",\"\",$A154)","v":""}]
[]
["Monat",null,"Jahr",{"$nulls":8},"Mitarbeiter(in) [Name, Vorname]"]
["Juni",null,{"$f":"C13","v":0},{"$nulls":8},{"$f":"IF($L$13=\"\",\"\",$L$13)","v":""}]
[]
["Die zu Lasten des Vorhabens abzurechnenden Personalstunden sind täglich eingenhändig von der betreffenden Person zu erfassen. Nur die produktiven, für das Vorhaben"]
["geleisteten Stundenn sind zuwendungsfähig."]
[]
["Tätigkeiten",null,null,"Arbeitszeiten in Stunden je Kalendertag",{"$nulls":30},"Summe der \nMonats- stunden"]
[{"$nulls":3},1,2,3,4,5,6,7,8,9,10,11,12,13,14,15,16,17,18,19,20,21,22,23,24,25,26,27,28,29,30,31]
["Vorhabenbezogen",{"$nulls":33},{"$f":"SUM(D200:AH200)","v":{"v":0,"d":"0.00"}}]
["Sonstige 1)",{"$nulls":33},{"$f":"SUM(D201:AH201)","v":{"v":0,"d":"0.00"}}]
["Produktive Gesamtstunden",null,null,{"$f":"SUM(D200:D201)","v":{"v":0,"d":"0.00"}},{"$f":"SUM(E200:E201)","v":{"v":0,"d":"0.00"}},{"v":0,"d":"0.00"},{"v":0,"d":"0.00"},{"v":0,"d":"0.00"},{"v":0,"d":"0.00"},{"v":0,"d":"0.00"},{"v":0,"d":"0.00"},{"v":0,"d":"0.00"},{"v":0,"d":"0.00"},{"v":0,"d":"0.00"},{"v":0,"d":"0.00"},{"v":0,"d":"0.00"},{"v":0,"d":"0.00"},{"v":0,"d":"0.00"},{"v":0,"d":"0.00"},{"v":0,"d":"0.00"},{"v":0,"d":"0.00"},{"v":0,"d":"0.00"},{"v":0,"d":"0.00"},{"v":0,"d":"0.00"},{"v":0,"d":"0.00"},{"v":0,"d":"0.00"},{"v":0,"d":"0.00"},{"v":0,"d":"0.00"},{"v":0,"d":"0.00"},{"v":0,"d":"0.00"},{"v":0,"d":"0.00"},{"v":0,"d":"0.00"},{"v":0,"d":"0.00"},{"v":0,"d":"0.00"},{"$f":"SUM(D202:AH202)","v":{"v":0,"d":"0.00"}}]
[]
[]
["nachrichtlich:"]
["Fehlzeiten (z.B. Urlaub, \nKrankheit, Fortbildung)",{"$nulls":33},{"$f":"SUM(D206:AH206)","v":{"v":0,"d":"0.00"}}]
[]
[]
["1)  ggf. Angabe des FKZ. anderer geförderter Projekte:"]
[]
[]
[]
[]
[]
[]
["Unterschrift des Vorgesetzten",{"$nulls":12},"Unterschrift des Mitarbeiters"]
[]
[{"$nulls":23},"Förderkennzeichen :",{"$nulls":5},{"$f":"IF($AD$2=\"\",\"\",$AD$2)","v":""}]
["   Zuwendungsempfänger (Firmenstempel)"]
["Stundennachweis"]
["für pauschalierte Abrechnung gemäß Nr. 6 ANBest-P-Kosten (Anlage 1 zum Verwendungsnachweis)"]
[]
["Der Original-Stundennachweis verbleibt beim Zuwendungsempfänger."]
[]
["Vorhabenthema"]
[{"$f":"IF($A$10=\"\",\"\",$A190)","v":""}]
[]
["Monat",null,"Jahr",{"$nulls":8},"Mitarbeiter(in) [Name, Vorname]"]
["Juli",null,{"$f":"C13","v":0},{"$nulls":8},{"$f":"IF($L$13=\"\",\"\",$L$13)","v":""}]
[]
["Die zu Lasten des Vorhabens abzurechnenden Personalstunden sind täglich eingenhändig von der betreffenden Person zu erfassen. Nur die produktiven, für das Vorhaben"]
["geleisteten Stundenn sind zuwendungsfähig."]
[]
["Tätigkeiten",null,null,"Arbeitszeiten in Stunden je Kalendertag",{"$nulls":30},"Summe der \nMonats- stunden"]
[{"$nulls":3},1,2,3,4,5,6,7,8,9,10,11,12,13,14,15,16,17,18,19,20,21,22,23,24,25,26,27,28,29,30,31]
["Vorhabenbezogen",{"$nulls":33},{"$f":"SUM(D236:AH236)","v":{"v":0,"d":"0.00"}}]
["Sonstige 1)",{"$nulls":33},{"$f":"SUM(D237:AH237)","v":{"v":0,"d":"0.00"}}]
["Produktive Gesamtstunden",null,null,{"$f":"SUM(D236:D237)","v":{"v":0,"d":"0.00"}},{"$f":"SUM(E236:E237)","v":{"v":0,"d":"0.00"}},{"v":0,"d":"0.00"},{"v":0,"d":"0.00"},{"v":0,"d":"0.00"},{"v":0,"d":"0.00"},{"v":0,"d":"0.00"},{"v":0,"d":"0.00"},{"v":0,"d":"0.00"},{"v":0,"d":"0.00"},{"v":0,"d":"0.00"},{"v":0,"d":"0.00"},{"v":0,"d":"0.00"},{"v":0,"d":"0.00"},{"v":0,"d":"0.00"},{"v":0,"d":"0.00"},{"v":0,"d":"0.00"},{"v":0,"d":"0.00"},{"v":0,"d":"0.00"},{"v":0,"d":"0.00"},{"v":0,"d":"0.00"},{"v":0,"d":"0.00"},{"v":0,"d":"0.00"},{"v":0,"d":"0.00"},{"v":0,"d":"0.00"},{"v":0,"d":"0.00"},{"v":0,"d":"0.00"},{"v":0,"d":"0.00"},{"v":0,"d":"0.00"},{"v":0,"d":"0.00"},{"v":0,"d":"0.00"},{"$f":"SUM(D238:AH238)","v":{"v":0,"d":"0.00"}}]
[]
[]
["nachrichtlich:"]
["Fehlzeiten (z.B. Urlaub, \nKrankheit, Fortbildung)",{"$nulls":33},{"$f":"SUM(D242:AH242)","v":{"v":0,"d":"0.00"}}]
[]
[]
["1)  ggf. Angabe des FKZ. anderer geförderter Projekte:"]
[]
[]
[]
[]
[]
[]
["Unterschrift des Vorgesetzten",{"$nulls":12},"Unterschrift des Mitarbeiters"]
[]
[{"$nulls":23},"Förderkennzeichen :",{"$nulls":5},{"$f":"IF($AD$2=\"\",\"\",$AD$2)","v":""}]
["   Zuwendungsempfänger (Firmenstempel)"]
["Stundennachweis"]
["für pauschalierte Abrechnung gemäß Nr. 6 ANBest-P-Kosten (Anlage 1 zum Verwendungsnachweis)"]
[]
["Der Original-Stundennachweis verbleibt beim Zuwendungsempfänger."]
[]
["Vorhabenthema"]
[{"$f":"IF($A$10=\"\",\"\",$A226)","v":""}]
[]
["Monat",null,"Jahr",{"$nulls":8},"Mitarbeiter(in) [Name, Vorname]"]
["August",null,{"$f":"C13","v":0},{"$nulls":8},{"$f":"IF($L$13=\"\",\"\",$L$13)","v":""}]
[]
["Die zu Lasten des Vorhabens abzurechnenden Personalstunden sind täglich eingenhändig von der betreffenden Person zu erfassen. Nur die produktiven, für das Vorhaben"]
["geleisteten Stundenn sind zuwendungsfähig."]
[]
["Tätigkeiten",null,null,"Arbeitszeiten in Stunden je Kalendertag",{"$nulls":30},"Summe der \nMonats- stunden"]
[{"$nulls":3},1,2,3,4,5,6,7,8,9,10,11,12,13,14,15,16,17,18,19,20,21,22,23,24,25,26,27,28,29,30,31]
["Vorhabenbezogen",{"$nulls":33},{"$f":"SUM(D272:AH272)","v":{"v":0,"d":"0.00"}}]
["Sonstige 1)",{"$nulls":33},{"$f":"SUM(D273:AH273)","v":{"v":0,"d":"0.00"}}]
["Produktive Gesamtstunden",null,null,{"$f":"SUM(D272:D273)","v":{"v":0,"d":"0.00"}},{"$f":"SUM(E272:E273)","v":{"v":0,"d":"0.00"}},{"v":0,"d":"0.00"},{"v":0,"d":"0.00"},{"v":0,"d":"0.00"},{"v":0,"d":"0.00"},{"v":0,"d":"0.00"},{"v":0,"d":"0.00"},{"v":0,"d":"0.00"},{"v":0,"d":"0.00"},{"v":0,"d":"0.00"},{"v":0,"d":"0.00"},{"v":0,"d":"0.00"},{"v":0,"d":"0.00"},{"v":0,"d":"0.00"},{"v":0,"d":"0.00"},{"v":0,"d":"0.00"},{"v":0,"d":"0.00"},{"v":0,"d":"0.00"},{"v":0,"d":"0.00"},{"v":0,"d":"0.00"},{"v":0,"d":"0.00"},{"v":0,"d":"0.00"},{"v":0,"d":"0.00"},{"v":0,"d":"0.00"},{"v":0,"d":"0.00"},{"v":0,"d":"0.00"},{"v":0,"d":"0.00"},{"v":0,"d":"0.00"},{"v":0,"d":"0.00"},{"v":0,"d":"0.00"},{"$f":"SUM(D274:AH274)","v":{"v":0,"d":"0.00"}}]
[]
[]
["nachrichtlich:"]
["Fehlzeiten (z.B. Urlaub, \nKrankheit, Fortbildung)",{"$nulls":33},{"$f":"SUM(D278:AH278)","v":{"v":0,"d":"0.00"}}]
[]
[]
["1)  ggf. Angabe des FKZ. anderer geförderter Projekte:"]
[]
[]
[]
[]
[]
[]
["Unterschrift des Vorgesetzten",{"$nulls":12},"Unterschrift des Mitarbeiters"]
[]
[{"$nulls":23},"Förderkennzeichen :",{"$nulls":5},{"$f":"IF($AD$2=\"\",\"\",$AD$2)","v":""}]
["   Zuwendungsempfänger (Firmenstempel)"]
["Stundennachweis"]
["für pauschalierte Abrechnung gemäß Nr. 6 ANBest-P-Kosten (Anlage 1 zum Verwendungsnachweis)"]
[]
["Der Original-Stundennachweis verbleibt beim Zuwendungsempfänger."]
[]
["Vorhabenthema"]
[{"$f":"IF($A$10=\"\",\"\",$A262)","v":""}]
[]
["Monat",null,"Jahr",{"$nulls":8},"Mitarbeiter(in) [Name, Vorname]"]
["September",null,{"$f":"C13","v":0},{"$nulls":8},{"$f":"IF($L$13=\"\",\"\",$L$13)","v":""}]
[]
["Die zu Lasten des Vorhabens abzurechnenden Personalstunden sind täglich eingenhändig von der betreffenden Person zu erfassen. Nur die produktiven, für das Vorhaben"]
["geleisteten Stundenn sind zuwendungsfähig."]
[]
["Tätigkeiten",null,null,"Arbeitszeiten in Stunden je Kalendertag",{"$nulls":30},"Summe der \nMonats- stunden"]
[{"$nulls":3},1,2,3,4,5,6,7,8,9,10,11,12,13,14,15,16,17,18,19,20,21,22,23,24,25,26,27,28,29,30,31]
["Vorhabenbezogen",{"$nulls":33},{"$f":"SUM(D308:AH308)","v":{"v":0,"d":"0.00"}}]
["Sonstige 1)",{"$nulls":33},{"$f":"SUM(D309:AH309)","v":{"v":0,"d":"0.00"}}]
["Produktive Gesamtstunden",null,null,{"$f":"SUM(D308:D309)","v":{"v":0,"d":"0.00"}},{"$f":"SUM(E308:E309)","v":{"v":0,"d":"0.00"}},{"v":0,"d":"0.00"},{"v":0,"d":"0.00"},{"v":0,"d":"0.00"},{"v":0,"d":"0.00"},{"v":0,"d":"0.00"},{"v":0,"d":"0.00"},{"v":0,"d":"0.00"},{"v":0,"d":"0.00"},{"v":0,"d":"0.00"},{"v":0,"d":"0.00"},{"v":0,"d":"0.00"},{"v":0,"d":"0.00"},{"v":0,"d":"0.00"},{"v":0,"d":"0.00"},{"v":0,"d":"0.00"},{"v":0,"d":"0.00"},{"v":0,"d":"0.00"},{"v":0,"d":"0.00"},{"v":0,"d":"0.00"},{"v":0,"d":"0.00"},{"v":0,"d":"0.00"},{"v":0,"d":"0.00"},{"v":0,"d":"0.00"},{"v":0,"d":"0.00"},{"v":0,"d":"0.00"},{"v":0,"d":"0.00"},{"v":0,"d":"0.00"},{"v":0,"d":"0.00"},{"v":0,"d":"0.00"},{"$f":"SUM(D310:AH310)","v":{"v":0,"d":"0.00"}}]
[]
[]
["nachrichtlich:"]
["Fehlzeiten (z.B. Urlaub, \nKrankheit, Fortbildung)",{"$nulls":33},{"$f":"SUM(D314:AH314)","v":{"v":0,"d":"0.00"}}]
[]
[]
["1)  ggf. Angabe des FKZ. anderer geförderter Projekte:"]
[]
[]
[]
[]
[]
[]
["Unterschrift des Vorgesetzten",{"$nulls":12},"Unterschrift des Mitarbeiters"]
[]
[{"$nulls":23},"Förderkennzeichen :",{"$nulls":5},{"$f":"IF($AD$2=\"\",\"\",$AD$2)","v":""}]
["   Zuwendungsempfänger (Firmenstempel)"]
["Stundennachweis"]
["für pauschalierte Abrechnung gemäß Nr. 6 ANBest-P-Kosten (Anlage 1 zum Verwendungsnachweis)"]
[]
["Der Original-Stundennachweis verbleibt beim Zuwendungsempfänger."]
[]
["Vorhabenthema"]
[{"$f":"IF($A$10=\"\",\"\",$A298)","v":""}]
[]
["Monat",null,"Jahr",{"$nulls":8},"Mitarbeiter(in) [Name, Vorname]"]
["Oktober",null,{"$f":"C13","v":0},{"$nulls":8},{"$f":"IF($L$13=\"\",\"\",$L$13)","v":""}]
[]
["Die zu Lasten des Vorhabens abzurechnenden Personalstunden sind täglich eingenhändig von der betreffenden Person zu erfassen. Nur die produktiven, für das Vorhaben"]
["geleisteten Stundenn sind zuwendungsfähig."]
[]
["Tätigkeiten",null,null,"Arbeitszeiten in Stunden je Kalendertag",{"$nulls":30},"Summe der \nMonats- stunden"]
[{"$nulls":3},1,2,3,4,5,6,7,8,9,10,11,12,13,14,15,16,17,18,19,20,21,22,23,24,25,26,27,28,29,30,31]
["Vorhabenbezogen",{"$nulls":33},{"$f":"SUM(D344:AH344)","v":{"v":0,"d":"0.00"}}]
["Sonstige 1)",{"$nulls":33},{"$f":"SUM(D345:AH345)","v":{"v":0,"d":"0.00"}}]
["Produktive Gesamtstunden",null,null,{"$f":"SUM(D344:D345)","v":{"v":0,"d":"0.00"}},{"$f":"SUM(E344:E345)","v":{"v":0,"d":"0.00"}},{"v":0,"d":"0.00"},{"v":0,"d":"0.00"},{"v":0,"d":"0.00"},{"v":0,"d":"0.00"},{"v":0,"d":"0.00"},{"v":0,"d":"0.00"},{"v":0,"d":"0.00"},{"v":0,"d":"0.00"},{"v":0,"d":"0.00"},{"v":0,"d":"0.00"},{"v":0,"d":"0.00"},{"v":0,"d":"0.00"},{"v":0,"d":"0.00"},{"v":0,"d":"0.00"},{"v":0,"d":"0.00"},{"v":0,"d":"0.00"},{"v":0,"d":"0.00"},{"v":0,"d":"0.00"},{"v":0,"d":"0.00"},{"v":0,"d":"0.00"},{"v":0,"d":"0.00"},{"v":0,"d":"0.00"},{"v":0,"d":"0.00"},{"v":0,"d":"0.00"},{"v":0,"d":"0.00"},{"v":0,"d":"0.00"},{"v":0,"d":"0.00"},{"v":0,"d":"0.00"},{"v":0,"d":"0.00"},{"$f":"SUM(D346:AH346)","v":{"v":0,"d":"0.00"}}]
[]
[]
["nachrichtlich:"]
["Fehlzeiten (z.B. Urlaub, \nKrankheit, Fortbildung)",{"$nulls":33},{"$f":"SUM(D350:AH350)","v":{"v":0,"d":"0.00"}}]
[]
[]
["1)  ggf. Angabe des FKZ. anderer geförderter Projekte:"]
[]
[]
[]
[]
[]
[]
["Unterschrift des Vorgesetzten",{"$nulls":12},"Unterschrift des Mitarbeiters"]
[]
[{"$nulls":23},"Förderkennzeichen :",{"$nulls":5},{"$f":"IF($AD$2=\"\",\"\",$AD$2)","v":""}]
["   Zuwendungsempfänger (Firmenstempel)"]
["Stundennachweis"]
["für pauschalierte Abrechnung gemäß Nr. 6 ANBest-P-Kosten (Anlage 1 zum Verwendungsnachweis)"]
[]
["Der Original-Stundennachweis verbleibt beim Zuwendungsempfänger."]
[]
["Vorhabenthema"]
[{"$f":"IF($A$10=\"\",\"\",$A334)","v":""}]
[]
["Monat",null,"Jahr",{"$nulls":8},"Mitarbeiter(in) [Name, Vorname]"]
["November",null,{"$f":"C13","v":0},{"$nulls":8},{"$f":"IF($L$13=\"\",\"\",$L$13)","v":""}]
[]
["Die zu Lasten des Vorhabens abzurechnenden Personalstunden sind täglich eingenhändig von der betreffenden Person zu erfassen. Nur die produktiven, für das Vorhaben"]
["geleisteten Stundenn sind zuwendungsfähig."]
[]
["Tätigkeiten",null,null,"Arbeitszeiten in Stunden je Kalendertag",{"$nulls":30},"Summe der \nMonats- stunden"]
[{"$nulls":3},1,2,3,4,5,6,7,8,9,10,11,12,13,14,15,16,17,18,19,20,21,22,23,24,25,26,27,28,29,30,31]
["Vorhabenbezogen",{"$nulls":33},{"$f":"SUM(D380:AH380)","v":{"v":0,"d":"0.00"}}]
["Sonstige 1)",{"$nulls":33},{"$f":"SUM(D381:AH381)","v":{"v":0,"d":"0.00"}}]
["Produktive Gesamtstunden",null,null,{"$f":"SUM(D380:D381)","v":{"v":0,"d":"0.00"}},{"$f":"SUM(E380:E381)","v":{"v":0,"d":"0.00"}},{"v":0,"d":"0.00"},{"v":0,"d":"0.00"},{"v":0,"d":"0.00"},{"v":0,"d":"0.00"},{"v":0,"d":"0.00"},{"v":0,"d":"0.00"},{"v":0,"d":"0.00"},{"v":0,"d":"0.00"},{"v":0,"d":"0.00"},{"v":0,"d":"0.00"},{"v":0,"d":"0.00"},{"v":0,"d":"0.00"},{"v":0,"d":"0.00"},{"v":0,"d":"0.00"},{"v":0,"d":"0.00"},{"v":0,"d":"0.00"},{"v":0,"d":"0.00"},{"v":0,"d":"0.00"},{"v":0,"d":"0.00"},{"v":0,"d":"0.00"},{"v":0,"d":"0.00"},{"v":0,"d":"0.00"},{"v":0,"d":"0.00"},{"v":0,"d":"0.00"},{"v":0,"d":"0.00"},{"v":0,"d":"0.00"},{"v":0,"d":"0.00"},{"v":0,"d":"0.00"},{"v":0,"d":"0.00"},{"$f":"SUM(D382:AH382)","v":{"v":0,"d":"0.00"}}]
[]
[]
["nachrichtlich:"]
["Fehlzeiten (z.B. Urlaub, \nKrankheit, Fortbildung)",{"$nulls":33},{"$f":"SUM(D386:AH386)","v":{"v":0,"d":"0.00"}}]
[]
[]
["1)  ggf. Angabe des FKZ. anderer geförderter Projekte:"]
[]
[]
[]
[]
[]
[]
["Unterschrift des Vorgesetzten",{"$nulls":12},"Unterschrift des Mitarbeiters"]
[]
[{"$nulls":23},"Förderkennzeichen :",{"$nulls":5},{"$f":"IF($AD$2=\"\",\"\",$AD$2)","v":""}]
["   Zuwendungsempfänger (Firmenstempel)"]
["Stundennachweis"]
["für pauschalierte Abrechnung gemäß Nr. 6 ANBest-P-Kosten (Anlage 1 zum Verwendungsnachweis)"]
[]
["Der Original-Stundennachweis verbleibt beim Zuwendungsempfänger."]
[]
["Vorhabenthema"]
[{"$f":"IF($A$10=\"\",\"\",$A370)","v":""}]
[]
["Monat",null,"Jahr",{"$nulls":8},"Mitarbeiter(in) [Name, Vorname]"]
["Dezember",null,{"$f":"C13","v":0},{"$nulls":8},{"$f":"IF($L$13=\"\",\"\",$L$13)","v":""}]
[]
["Die zu Lasten des Vorhabens abzurechnenden Personalstunden sind täglich eingenhändig von der betreffenden Person zu erfassen. Nur die produktiven, für das Vorhaben"]
["geleisteten Stundenn sind zuwendungsfähig."]
[]
["Tätigkeiten",null,null,"Arbeitszeiten in Stunden je Kalendertag",{"$nulls":30},"Summe der \nMonats- stunden"]
[{"$nulls":3},1,2,3,4,5,6,7,8,9,10,11,12,13,14,15,16,17,18,19,20,21,22,23,24,25,26,27,28,29,30,31]
["Vorhabenbezogen",{"$nulls":33},{"$f":"SUM(D416:AH416)","v":{"v":0,"d":"0.00"}}]
["Sonstige 1)",{"$nulls":33},{"$f":"SUM(D417:AH417)","v":{"v":0,"d":"0.00"}}]
["Produktive Gesamtstunden",null,null,{"$f":"SUM(D416:D417)","v":0},{"$f":"SUM(E416:E417)","v":{"v":0,"d":"0.00"}},{"v":0,"d":"0.00"},{"v":0,"d":"0.00"},{"v":0,"d":"0.00"},{"v":0,"d":"0.00"},{"v":0,"d":"0.00"},{"v":0,"d":"0.00"},{"v":0,"d":"0.00"},{"v":0,"d":"0.00"},{"v":0,"d":"0.00"},{"v":0,"d":"0.00"},{"v":0,"d":"0.00"},{"v":0,"d":"0.00"},{"v":0,"d":"0.00"},{"v":0,"d":"0.00"},{"v":0,"d":"0.00"},{"v":0,"d":"0.00"},{"v":0,"d":"0.00"},{"v":0,"d":"0.00"},{"v":0,"d":"0.00"},{"v":0,"d":"0.00"},{"v":0,"d":"0.00"},{"v":0,"d":"0.00"},{"v":0,"d":"0.00"},{"v":0,"d":"0.00"},{"v":0,"d":"0.00"},{"v":0,"d":"0.00"},{"v":0,"d":"0.00"},{"v":0,"d":"0.00"},{"v":0,"d":"0.00"},{"$f":"SUM(D418:AH418)","v":{"v":0,"d":"0.00"}}]
[]
[]
["nachrichtlich:"]
["Fehlzeiten (z.B. Urlaub, \nKrankheit, Fortbildung)",{"$nulls":33},{"$f":"SUM(D422:AH422)","v":{"v":0,"d":"0.00"}}]
[]
[]
["1)  ggf. Angabe des FKZ. anderer geförderter Projekte:"]
[]
[]
[]
[]
[]
[]
["Unterschrift des Vorgesetzten",{"$nulls":12},"Unterschrift des Mitarbeiters"]

{"sheet":"Jahresstd.satz Mitarbeiter E","index":10,"n_rows":38,"n_cols":15,"rows_kept":38,"merged":[[1,0,1,3],[1,8,1,10],[1,11,1,14],[5,0,5,14],[6,0,6,14],[10,0,10,14],[13,4,13,14],[16,0,17,1],[16,14,17,14],[18,0,18,1],[19,0,19,1],[20,0,20,1],[28,11,28,13],[29,6,29,8],[29,9,30,10],[29,11,30,13],[30,6,30,8]]}
[]
[{"$nulls":8},"Förderkennzeichen:       ",null,null,{"$f":"IF('Stundennachweise Mitarbeiter E'!AD2=0,\"\",'Stundennachweise Mitarbeiter E'!AD2)","v":""}]
["   Zuwendungsempfänger (Firmenstempel)"]
[]
[]
["Ermittlung des Jahresstundensatzes"]
["bei pauschalierter Abrechnung gemäß Nr. 6 ANBest-P-Kosten (Anlage 2 zum Verwendungsnachweis)"]
[]
[]
["Vorhabenthema"]
[{"$f":"IF('Stundennachweise Mitarbeiter E'!A10:AI10=\"\",\"\",'Stundennachweise Mitarbeiter E'!A10:AI10)","v":""}]
[]
["Jahr",{"$nulls":3},"Mitarbeiter(in) [Name, Vorname]"]
[{"$f":"IF('Stundennachweise Mitarbeiter E'!C13=\"\",\"\",'Stundennachweise Mitarbeiter E'!C13)","v":""},{"$nulls":3},{"$f":"IF('Stundennachweise Mitarbeiter E'!L13=\"\",\"\",'Stundennachweise Mitarbeiter E'!L13)","v":""}]
[]
["1. Jahresstunden lt. monatlichen Stundennachweisen"]
["Tätigkeiten",null,"Arbeitszeit in Stunden je Monat:",{"$nulls":11},"Summe der Jahresstunden"]
[null,null,"Januar","Februar","März","April","Mai","Juni","Juli","August","Sept.","Oktober","Nov.","Dez."]
["Vorhabenbezogen",null,{"$f":"'Stundennachweise Mitarbeiter E'!AI20","v":{"v":0,"d":"0.00"}},{"$f":"'Stundennachweise Mitarbeiter E'!AI56","v":{"v":0,"d":"0.00"}},{"$f":"'Stundennachweise Mitarbeiter E'!AI92","v":{"v":0,"d":"0.00"}},{"$f":"'Stundennachweise Mitarbeiter E'!AI128","v":{"v":0,"d":"0.00"}},{"$f":"'Stundennachweise Mitarbeiter E'!AI164","v":{"v":0,"d":"0.00"}},{"$f":"'Stundennachweise Mitarbeiter E'!AI200","v":{"v":0,"d":"0.00"}},{"$f":"'Stundennachweise Mitarbeiter E'!AI236","v":{"v":0,"d":"0.00"}},{"$f":"'Stundennachweise Mitarbeiter E'!AI272","v":{"v":0,"d":"0.00"}},{"$f":"'Stundennachweise Mitarbeiter E'!AI308","v":{"v":0,"d":"0.00"}},{"$f":"'Stundennachweise Mitarbeiter E'!AI344","v":{"v":0,"d":"0.00"}},{"$f":"'Stundennachweise Mitarbeiter E'!AI380","v":{"v":0,"d":"0.00"}},{"$f":"'Stundennachweise Mitarbeiter E'!AI416","v":{"v":0,"d":"0.00"}},{"$f":"SUM(C19:N19)","v":{"v":0,"d":"0.00"}}]
["Sonstige",null,{"$f":"'Stundennachweise Mitarbeiter E'!AI21","v":{"v":0,"d":"0.00"}},{"$f":"'Stundennachweise Mitarbeiter E'!AI57","v":{"v":0,"d":"0.00"}},{"$f":"'Stundennachweise Mitarbeiter E'!AI93","v":{"v":0,"d":"0.00"}},{"$f":"'Stundennachweise Mitarbeiter E'!AI129","v":{"v":0,"d":"0.00"}},{"$f":"'Stundennachweise Mitarbeiter E'!AI165","v":{"v":0,"d":"0.00"}},{"$f":"'Stundennachweise Mitarbeiter E'!AI201","v":{"v":0,"d":"0.00"}},{"$f":"'Stundennachweise Mitarbeiter E'!AI237","v":{"v":0,"d":"0.00"}},{"$f":"'Stundennachweise Mitarbeiter E'!AI273","v":{"v":0,"d":"0.00"}},{"$f":"'Stundennachweise Mitarbeiter E'!AI309","v":{"v":0,"d":"0.00"}},{"$f":"'Stundennachweise Mitarbeiter E'!AI345","v":{"v":0,"d":"0.00"}},{"$f":"'Stundennachweise Mitarbeiter E'!AI381","v":{"v":0,"d":"0.00"}},{"$f":"'Stundennachweise Mitarbeiter E'!AI417","v":{"v":0,"d":"0.00"}},{"$f":"SUM(C20:N20)","v":{"v":0,"d":"0.00"}}]
["Produktive Gesamtstunden",null,{"$f":"'Stundennachweise Mitarbeiter E'!AI22","v":{"v":0,"d":"0.00"}},{"$f":"'Stundennachweise Mitarbeiter E'!AI58","v":{"v":0,"d":"0.00"}},{"$f":"'Stundennachweise Mitarbeiter E'!AI94","v":{"v":0,"d":"0.00"}},{"$f":"'Stundennachweise Mitarbeiter E'!AI130","v":{"v":0,"d":"0.00"}},{"$f":"'Stundennachweise Mitarbeiter E'!AI166","v":{"v":0,"d":"0.00"}},{"$f":"'Stundennachweise Mitarbeiter E'!AI202","v":{"v":0,"d":"0.00"}},{"$f":"'Stundennachweise Mitarbeiter E'!AI238","v":{"v":0,"d":"0.00"}},{"$f":"'Stundennachweise Mitarbeiter E'!AI274","v":{"v":0,"d":"0.00"}},{"$f":"'Stundennachweise Mitarbeiter E'!AI310","v":{"v":0,"d":"0.00"}},{"$f":"'Stundennachweise Mitarbeiter E'!AI346","v":{"v":0,"d":"0.00"}},{"$f":"'Stundennachweise Mitarbeiter E'!AI382","v":{"v":0,"d":"0.00"}},{"$f":"'Stundennachweise Mitarbeiter E'!AI418","v":{"v":0,"d":"0.00"}},{"$f":"SUM(C21:N21)","v":{"v":0,"d":"0.00"}}]
[]
["nachrichtlich:"]
["Fehlzeiten (z.B. Urlaub, Krankheit, Fortbildung)",null,{"$f":"'Stundennachweise Mitarbeiter E'!AI26","v":{"v":0,"d":"0.00"}},{"$f":"'Stundennachweise Mitarbeiter E'!AI62","v":{"v":0,"d":"0.00"}},{"$f":"'Stundennachweise Mitarbeiter E'!AI98","v":{"v":0,"d":"0.00"}},{"$f":"'Stundennachweise Mitarbeiter E'!AI134","v":{"v":0,"d":"0.00"}},{"$f":"'Stundennachweise Mitarbeiter E'!AI170","v":{"v":0,"d":"0.00"}},{"$f":"'Stundennachweise Mitarbeiter E'!AI206","v":{"v":0,"d":"0.00"}},{"$f":"'Stundennachweise Mitarbeiter E'!AI242","v":{"v":0,"d":"0.00"}},{"$f":"'Stundennachweise Mitarbeiter E'!AI278","v":{"v":0,"d":"0.00"}},{"$f":"'Stundennachweise Mitarbeiter E'!AI314","v":{"v":0,"d":"0.00"}},{"$f":"'Stundennachweise Mitarbeiter E'!AI350","v":{"v":0,"d":"0.00"}},{"$f":"'Stundennachweise Mitarbeiter E'!AI386","v":{"v":0,"d":"0.00"}},{"$f":"'Stundennachweise Mitarbeiter E'!AI422","v":{"v":0,"d":"0.00"}},{"$f":"SUM(C24:N24)","v":{"v":0,"d":"0.00"}}]
[]
[]
["2. Berechnung des Jahresstundensatzes"]
[]
[{"$nulls":11},"Jahresstundensatz"]
["Bruttojahreslohn/ -gehalt 1)",{"$nulls":8},"=",null,{"$f":"IF(G30=\"\",\"\",G30/G31)","v":""}]
["Jahresarbeitsstunden lt. Tarifvertrag/Betriebsvereinbarung/Arbeitsvertrag 2)"]
[]
[]
[]
[]
["1)   Personalkosten i.S. der Nr. 6.1.3 ANBest-P-Kosten"]
[]
["2)   Bei tatsächlich mehr geleisteten produktiven Gesamtstunden (vorhabenbezogene und sonstige) gelten diese Gesamtsunden als Divisor"]

{"sheet":"Stundennachweise Mitarbeiter F","index":11,"n_rows":432,"n_cols":35,"rows_kept":432,"merged":[[1,0,1,7],[1,29,1,34],[3,0,3,34],[4,0,4,34],[9,0,9,34],[12,11,12,34],[17,0,18,2],[17,34,18,34],[19,0,19,2],[20,0,20,2],[21,0,21,2],[25,0,25,2],[28,10,28,16],[29,10,29,16],[37,0,37,7],[37,29,37,34],[39,0,39,34],[40,0,40,34],[45,0,45,34],[48,11,48,34],[53,0,54,2],[53,34,54,34],[55,0,55,2],[56,0,56,2],[57,0,57,2],[61,0,61,2],[64,10,64,16],[65,10,65,16],[73,0,73,7],[73,29,73,34],[75,0,75,34],[76,0,76,34],[81,0,81,34],[84,11,84,34],[89,0,90,2],[89,34,90,34],[91,0,91,2],[92,0,92,2],[93,0,93,2],[97,0,97,2],[100,10,100,16],[101,10,101,16],[109,0,109,7],[109,29,109,34],[111,0,111,34],[112,0,112,34],[117,0,117,34],[120,11,120,34],[125,0,126,2],[125,34,126,34],[127,0,127,2],[128,0,128,2],[129,0,129,2],[133,0,133,2],[136,10,136,16],[137,10,137,16],[145,0,145,7],[145,29,145,34],[147,0,147,34],[148,0,148,34],[153,0,153,34],[156,11,156,34],[161,0,162,2],[161,34,162,34],[163,0,163,2],[164,0,164,2],[165,0,165,2],[169,0,169,2],[172,10,172,16],[173,10,173,16],[181,0,181,7],[181,29,181,34],[183,0,183,34],[184,0,184,34],[189,0,189,34],[192,11,192,34],[197,0,198,2],[197,34,198,34],[199,0,199,2],[200,0,200,2],[201,0,201,2],[205,0,205,2],[208,10,208,16],[209,10,209,16],[217,0,217,7],[217,29,217,34],[219,0,219,34],[220,0,220,34],[225,0,225,34],[228,11,228,34],[233,0,234,2],[233,34,234,34],[235,0,235,2],[236,0,236,2],[237,0,237,2],[241,0,241,2],[244,10,244,16],[245,10,245,16],[253,0,253,7],[253,29,253,34],[255,0,255,34],[256,0,256,34],[261,0,261,34],[264,11,264,34],[269,0,270,2],[269,34,270,34],[271,0,271,2],[272,0,272,2],[273,0,273,2],[277,0,277,2],[280,10,280,16],[281,10,281,16],[289,0,289,7],[289,29,289,34],[291,0,291,34],[292,0,292,34],[297,0,297,34],[300,11,300,34],[305,0,306,2],[305,34,306,34],[307,0,307,2],[308,0,308,2],[309,0,309,2],[313,0,313,2],[316,10,316,16],[317,10,317,16],[325,0,325,7],[325,29,325,34],[327,0,327,34],[328,0,328,34],[333,0,333,34],[336,11,336,34],[341,0,342,2],[341,34,342,34],[343,0,343,2],[344,0,344,2],[345,0,345,2],[349,0,349,2],[352,10,352,16],[353,10,353,16],[361,0,361,7],[361,29,361,34],[363,0,363,34],[364,0,364,34],[369,0,369,34],[372,11,372,34],[377,0,378,2],[377,34,378,34],[379,0,379,2],[380,0,380,2],[381,0,381,2],[385,0,385,2],[388,10,388,16],[389,10,389,16],[397,0,397,7],[397,29,397,34],[399,0,399,34],[400,0,400,34],[405,0,405,34],[408,11,408,34],[413,0,414,2],[413,34,414,34],[415,0,415,2],[416,0,416,2],[417,0,417,2],[421,0,421,2],[424,10,424,16],[425,10,425,16]]}
[]
[{"$nulls":23},"Förderkennzeichen :"]
["   Zuwendungsempfänger (Firmenstempel)"]
["Stundennachweis"]
["für pauschalierte Abrechnung gemäß Nr. 6 ANBest-P-Kosten (Anlage 1 zum Verwendungsnachweis)"]
[]
["Der Original-Stundennachweis verbleibt beim Zuwendungsempfänger."]
[]
["Vorhabenthema"]
[]
[]
["Monat",null,"Jahr",{"$nulls":8},"Mitarbeiter(in) [Name, Vorname]"]
["Januar"]
[]
["Die zu Lasten des Vorhabens abzurechnenden Personalstunden sind täglich eingenhändig von der betreffenden Person zu erfassen. Nur die produktiven, für das Vorhaben"]
["geleisteten Stundenn sind zuwendungsfähig."]
[]
["Tätigkeiten",null,null,"Arbeitszeiten in Stunden je Kalendertag",{"$nulls":30},"Summe der \nMonats- stunden"]
[{"$nulls":3},1,2,3,4,5,6,7,8,9,10,11,12,13,14,15,16,17,18,19,20,21,22,23,24,25,26,27,28,29,30,31]
["Vorhabenbezogen",{"$nulls":33},{"$f":"SUM(D20:AH20)","v":{"v":0,"d":"0.00"}}]
["Sonstige 1)",{"$nulls":33},{"$f":"SUM(D21:AH21)","v":{"v":0,"d":"0.00"}}]
["Produktive Gesamtstunden",null,null,{"$f":"SUM(D20:D21)","v":{"v":0,"d":"0.00"}},{"$f":"SUM(E20:E21)","v":{"v":0,"d":"0.00"}},{"v":0,"d":"0.00"},{"v":0,"d":"0.00"},{"v":0,"d":"0.00"},{"v":0,"d":"0.00"},{"v":0,"d":"0.00"},{"v":0,"d":"0.00"},{"v":0,"d":"0.00"},{"v":0,"d":"0.00"},{"v":0,"d":"0.00"},{"v":0,"d":"0.00"},{"v":0,"d":"0.00"},{"v":0,"d":"0.00"},{"v":0,"d":"0.00"},{"v":0,"d":"0.00"},{"v":0,"d":"0.00"},{"v":0,"d":"0.00"},{"v":0,"d":"0.00"},{"v":0,"d":"0.00"},{"v":0,"d":"0.00"},{"v":0,"d":"0.00"},{"v":0,"d":"0.00"},{"v":0,"d":"0.00"},{"v":0,"d":"0.00"},{"v":0,"d":"0.00"},{"v":0,"d":"0.00"},{"v":0,"d":"0.00"},{"v":0,"d":"0.00"},{"v":0,"d":"0.00"},{"v":0,"d":"0.00"},{"$f":"SUM(D22:AH22)","v":{"v":0,"d":"0.00"}}]
[]
[]
["nachrichtlich:"]
["Fehlzeiten (z.B. Urlaub, \nKrankheit, Fortbildung)",{"$nulls":33},{"$f":"SUM(D26:AH26)","v":{"v":0,"d":"0.00"}}]
[]
[]
["1)  ggf. Angabe des FKZ. anderer geförderter Projekte:"]
[]
[]
[]
[]
[]
[]
["Unterschrift des Vorgesetzten",{"$nulls":12},"Unterschrift des Mitarbeiters"]
[]
[{"$nulls":23},"Förderkennzeichen :",{"$nulls":5},{"$f":"IF($AD$2=\"\",\"\",$AD$2)","v":""}]
["   Zuwendungsempfänger (Firmenstempel)"]
["Stundennachweis"]
["für pauschalierte Abrechnung gemäß Nr. 6 ANBest-P-Kosten (Anlage 1 zum Verwendungsnachweis)"]
[]
["Der Original-Stundennachweis verbleibt beim Zuwendungsempfänger."]
[]
["Vorhabenthema"]
[{"$f":"IF($A$10=\"\",\"\",$A10)","v":""}]
[]
["Monat",null,"Jahr",{"$nulls":8},"Mitarbeiter(in) [Name, Vorname]"]
["Februar",null,{"$f":"C13","v":0},{"$nulls":8},{"$f":"IF($L$13=\"\",\"\",$L$13)","v":""}]
[]
["Die zu Lasten des Vorhabens abzurechnenden Personalstunden sind täglich eingenhändig von der betreffenden Person zu erfassen. Nur die produktiven, für das Vorhaben"]
["geleisteten Stundenn sind zuwendungsfähig."]
[]
["Tätigkeiten",null,null,"Arbeitszeiten in Stunden je Kalendertag",{"$nulls":30},"Summe der \nMonats- stunden"]
[{"$nulls":3},1,2,3,4,5,6,7,8,9,10,11,12,13,14,15,16,17,18,19,20,21,22,23,24,25,26,27,28,29,30,31]
["Vorhabenbezogen",{"$nulls":33},{"$f":"SUM(D56:AH56)","v":{"v":0,"d":"0.00"}}]
["Sonstige 1)",{"$nulls":33},{"$f":"SUM(D57:AH57)","v":{"v":0,"d":"0.00"}}]
["Produktive Gesamtstunden",null,null,{"$f":"SUM(D56:D57)","v":{"v":0,"d":"0.00"}},{"$f":"SUM(E56:E57)","v":{"v":0,"d":"0.00"}},{"v":0,"d":"0.00"},{"v":0,"d":"0.00"},{"v":0,"d":"0.00"},{"v":0,"d":"0.00"},{"v":0,"d":"0.00"},{"v":0,"d":"0.00"},{"v":0,"d":"0.00"},{"v":0,"d":"0.00"},{"v":0,"d":"0.00"},{"v":0,"d":"0.00"},{"v":0,"d":"0.00"},{"v":0,"d":"0.00"},{"v":0,"d":"0.00"},{"v":0,"d":"0.00"},{"v":0,"d":"0.00"},{"v":0,"d":"0.00"},{"v":0,"d":"0.00"},{"v":0,"d":"0.00"},{"v":0,"d":"0.00"},{"v":0,"d":"0.00"},{"v":0,"d":"0.00"},{"v":0,"d":"0.00"},{"v":0,"d":"0.00"},{"v":0,"d":"0.00"},{"v":0,"d":"0.00"},{"v":0,"d":"0.00"},{"v":0,"d":"0.00"},{"v":0,"d":"0.00"},{"v":0,"d":"0.00"},{"$f":"SUM(D58:AH58)","v":{"v":0,"d":"0.00"}}]
[]
[]
["nachrichtlich:"]
["Fehlzeiten (z.B. Urlaub, \nKrankheit, Fortbildung)",{"$nulls":33},{"$f":"SUM(D62:AH62)","v":{"v":0,"d":"0.00"}}]
[]
[]
["1)  ggf. Angabe des FKZ. anderer geförderter Projekte:"]
[]
[]
[]
[]
[]
[]
["Unterschrift des Vorgesetzten",{"$nulls":12},"Unterschrift des Mitarbeiters"]
[]
[{"$nulls":23},"Förderkennzeichen :",{"$nulls":5},{"$f":"IF($AD$2=\"\",\"\",$AD$2)","v":""}]
["   Zuwendungsempfänger (Firmenstempel)"]
["Stundennachweis"]
["für pauschalierte Abrechnung gemäß Nr. 6 ANBest-P-Kosten (Anlage 1 zum Verwendungsnachweis)"]
[]
["Der Original-Stundennachweis verbleibt beim Zuwendungsempfänger."]
[]
["Vorhabenthema"]
[{"$f":"IF($A$10=\"\",\"\",$A46)","v":""}]
[]
["Monat",null,"Jahr",{"$nulls":8},"Mitarbeiter(in) [Name, Vorname]"]
["März",null,{"$f":"C13","v":0},{"$nulls":8},{"$f":"IF($L$13=\"\",\"\",$L$13)","v":""}]
[]
["Die zu Lasten des Vorhabens abzurechnenden Personalstunden sind täglich eingenhändig von der betreffenden Person zu erfassen. Nur die produktiven, für das Vorhaben"]
["geleisteten Stundenn sind zuwendungsfähig."]
[]
["Tätigkeiten",null,null,"Arbeitszeiten in Stunden je Kalendertag",{"$nulls":30},"Summe der \nMonats- stunden"]
[{"$nulls":3},1,2,3,4,5,6,7,8,9,10,11,12,13,14,15,16,17,18,19,20,21,22,23,24,25,26,27,28,29,30,31]
["Vorhabenbezogen",{"$nulls":33},{"$f":"SUM(D92:AH92)","v":{"v":0,"d":"0.00"}}]
["Sonstige 1)",{"$nulls":33},{"$f":"SUM(D93:AH93)","v":{"v":0,"d":"0.00"}}]
["Produktive Gesamtstunden",null,null,{"$f":"SUM(D92:D93)","v":{"v":0,"d":"0.00"}},{"$f":"SUM(E92:E93)","v":{"v":0,"d":"0.00"}},{"v":0,"d":"0.00"},{"v":0,"d":"0.00"},{"v":0,"d":"0.00"},{"v":0,"d":"0.00"},{"v":0,"d":"0.00"},{"v":0,"d":"0.00"},{"v":0,"d":"0.00"},{"v":0,"d":"0.00"},{"v":0,"d":"0.00"},{"v":0,"d":"0.00"},{"v":0,"d":"0.00"},{"v":0,"d":"0.00"},{"v":0,"d":"0.00"},{"v":0,"d":"0.00"},{"v":0,"d":"0.00"},{"v":0,"d":"0.00"},{"v":0,"d":"0.00"},{"v":0,"d":"0.00"},{"v":0,"d":"0.00"},{"v":0,"d":"0.00"},{"v":0,"d":"0.00"},{"v":0,"d":"0.00"},{"v":0,"d":"0.00"},{"v":0,"d":"0.00"},{"v":0,"d":"0.00"},{"v":0,"d":"0.00"},{"v":0,"d":"0.00"},{"v":0,"d":"0.00"},{"v":0,"d":"0.00"},{"$f":"SUM(D94:AH94)","v":{"v":0,"d":"0.00"}}]
[]
[]
["nachrichtlich:"]
["Fehlzeiten (z.B. Urlaub, \nKrankheit, Fortbildung)",{"$nulls":33},{"$f":"SUM(D98:AH98)","v":{"v":0,"d":"0.00"}}]
[]
[]
["1)  ggf. Angabe des FKZ. anderer geförderter Projekte:"]
[]
[]
[]
[]
[]
[]
["Unterschrift des Vorgesetzten",{"$nulls":12},"Unterschrift des Mitarbeiters"]
[]
[{"$nulls":23},"Förderkennzeichen :",{"$nulls":5},{"$f":"IF($AD$2=\"\",\"\",$AD$2)","v":""}]
["   Zuwendungsempfänger (Firmenstempel)"]
["Stundennachweis"]
["für pauschalierte Abrechnung gemäß Nr. 6 ANBest-P-Kosten (Anlage 1 zum Verwendungsnachweis)"]
[]
["Der Original-Stundennachweis verbleibt beim Zuwendungsempfänger."]
[]
["Vorhabenthema"]
[{"$f":"IF($A$10=\"\",\"\",$A82)","v":""}]
[]
["Monat",null,"Jahr",{"$nulls":8},"Mitarbeiter(in) [Name, Vorname]"]
["April",null,{"$f":"C13","v":0},{"$nulls":8},{"$f":"IF($L$13=\"\",\"\",$L$13)","v":""}]
[]
["Die zu Lasten des Vorhabens abzurechnenden Personalstunden sind täglich eingenhändig von der betreffenden Person zu erfassen. Nur die produktiven, für das Vorhaben"]
["geleisteten Stundenn sind zuwendungsfähig."]
[]
["Tätigkeiten",null,null,"Arbeitszeiten in Stunden je Kalendertag",{"$nulls":30},"Summe der \nMonats- stunden"]
[{"$nulls":3},1,2,3,4,5,6,7,8,9,10,11,12,13,14,15,16,17,18,19,20,21,22,23,24,25,26,27,28,29,30,31]
["Vorhabenbezogen",{"$nulls":33},{"$f":"SUM(D128:AH128)","v":{"v":0,"d":"0.00"}}]
["Sonstige 1)",{"$nulls":33},{"$f":"SUM(D129:AH129)","v":{"v":0,"d":"0.00"}}]
["Produktive Gesamtstunden",null,null,{"$f":"SUM(D128:D129)","v":{"v":0,"d":"0.00"}},{"$f":"SUM(E128:E129)","v":{"v":0,"d":"0.00"}},{"v":0,"d":"0.00"},{"v":0,"d":"0.00"},{"v":0,"d":"0.00"},{"v":0,"d":"0.00"},{"v":0,"d":"0.00"},{"v":0,"d":"0.00"},{"v":0,"d":"0.00"},{"v":0,"d":"0.00"},{"v":0,"d":"0.00"},{"v":0,"d":"0.00"},{"v":0,"d":"0.00"},{"v":0,"d":"0.00"},{"v":0,"d":"0.00"},{"v":0,"d":"0.00"},{"v":0,"d":"0.00"},{"v":0,"d":"0.00"},{"v":0,"d":"0.00"},{"v":0,"d":"0.00"},{"v":0,"d":"0.00"},{"v":0,"d":"0.00"},{"v":0,"d":"0.00"},{"v":0,"d":"0.00"},{"v":0,"d":"0.00"},{"v":0,"d":"0.00"},{"v":0,"d":"0.00"},{"v":0,"d":"0.00"},{"v":0,"d":"0.00"},{"v":0,"d":"0.00"},{"v":0,"d":"0.00"},{"$f":"SUM(D130:AH130)","v":{"v":0,"d":"0.00"}}]
[]
[]
["nachrichtlich:"]
["Fehlzeiten (z.B. Urlaub, \nKrankheit, Fortbildung)",{"$nulls":33},{"$f":"SUM(D134:AH134)","v":{"v":0,"d":"0.00"}}]
[]
[]
["1)  ggf. Angabe des FKZ. anderer geförderter Projekte:"]
[]
[]
[]
[]
[]
[]
["Unterschrift des Vorgesetzten",{"$nulls":12},"Unterschrift des Mitarbeiters"]
[]
[{"$nulls":23},"Förderkennzeichen :",{"$nulls":5},{"$f":"IF($AD$2=\"\",\"\",$AD$2)","v":""}]
["   Zuwendungsempfänger (Firmenstempel)"]
["Stundennachweis"]
["für pauschalierte Abrechnung gemäß Nr. 6 ANBest-P-Kosten (Anlage 1 zum Verwendungsnachweis)"]
[]
["Der Original-Stundennachweis verbleibt beim Zuwendungsempfänger."]
[]
["Vorhabenthema"]
[{"$f":"IF($A$10=\"\",\"\",$A118)","v":""}]
[]
["Monat",null,"Jahr",{"$nulls":8},"Mitarbeiter(in) [Name, Vorname]"]
["Mai",null,{"$f":"C13","v":0},{"$nulls":8},{"$f":"IF($L$13=\"\",\"\",$L$13)","v":""}]
[]
["Die zu Lasten des Vorhabens abzurechnenden Personalstunden sind täglich eingenhändig von der betreffenden Person zu erfassen. Nur die produktiven, für das Vorhaben"]
["geleisteten Stundenn sind zuwendungsfähig."]
[]
["Tätigkeiten",null,null,"Arbeitszeiten in Stunden je Kalendertag",{"$nulls":30},"Summe der \nMonats- stunden"]
[{"$nulls":3},1,2,3,4,5,6,7,8,9,10,11,12,13,14,15,16,17,18,19,20,21,22,23,24,25,26,27,28,29,30,31]
["Vorhabenbezogen",{"$nulls":33},{"$f":"SUM(D164:AH164)","v":{"v":0,"d":"0.00"}}]
["Sonstige 1)",{"$nulls":33},{"$f":"SUM(D165:AH165)","v":{"v":0,"d":"0.00"}}]
["Produktive Gesamtstunden",null,null,{"$f":"SUM(D164:D165)","v":{"v":0,"d":"0.00"}},{"$f":"SUM(E164:E165)","v":{"v":0,"d":"0.00"}},{"v":0,"d":"0.00"},{"v":0,"d":"0.00"},{"v":0,"d":"0.00"},{"v":0,"d":"0.00"},{"v":0,"d":"0.00"},{"v":0,"d":"0.00"},{"v":0,"d":"0.00"},{"v":0,"d":"0.00"},{"v":0,"d":"0.00"},{"v":0,"d":"0.00"},{"v":0,"d":"0.00"},{"v":0,"d":"0.00"},{"v":0,"d":"0.00"},{"v":0,"d":"0.00"},{"v":0,"d":"0.00"},{"v":0,"d":"0.00"},{"v":0,"d":"0.00"},{"v":0,"d":"0.00"},{"v":0,"d":"0.00"},{"v":0,"d":"0.00"},{"v":0,"d":"0.00"},{"v":0,"d":"0.00"},{"v":0,"d":"0.00"},{"v":0,"d":"0.00"},{"v":0,"d":"0.00"},{"v":0,"d":"0.00"},{"v":0,"d":"0.00"},{"v":0,"d":"0.00"},{"v":0,"d":"0.00"},{"$f":"SUM(D166:AH166)","v":{"v":0,"d":"0.00"}}]
[]
[]
["nachrichtlich:"]
["Fehlzeiten (z.B. Urlaub, \nKrankheit, Fortbildung)",{"$nulls":33},{"$f":"SUM(D170:AH170)","v":{"v":0,"d":"0.00"}}]
[]
[]
["1)  ggf. Angabe des FKZ. anderer geförderter Projekte:"]
[]
[]
[]
[]
[]
[]
["Unterschrift des Vorgesetzten",{"$nulls":12},"Unterschrift des Mitarbeiters"]
[]
[{"$nulls":23},"Förderkennzeichen :",{"$nulls":5},{"$f":"IF($AD$2=\"\",\"\",$AD$2)","v":""}]
["   Zuwendungsempfänger (Firmenstempel)"]
["Stundennachweis"]
["für pauschalierte Abrechnung gemäß Nr. 6 ANBest-P-Kosten (Anlage 1 zum Verwendungsnachweis)"]
[]
["Der Original-Stundennachweis verbleibt beim Zuwendungsempfänger."]
[]
["Vorhabenthema"]
[{"$f":"IF($A$10=\"\",\"\",$A154)","v":""}]
[]
["Monat",null,"Jahr",{"$nulls":8},"Mitarbeiter(in) [Name, Vorname]"]
["Juni",null,{"$f":"C13","v":0},{"$nulls":8},{"$f":"IF($L$13=\"\",\"\",$L$13)","v":""}]
[]
["Die zu Lasten des Vorhabens abzurechnenden Personalstunden sind täglich eingenhändig von der betreffenden Person zu erfassen. Nur die produktiven, für das Vorhaben"]
["geleisteten Stundenn sind zuwendungsfähig."]
[]
["Tätigkeiten",null,null,"Arbeitszeiten in Stunden je Kalendertag",{"$nulls":30},"Summe der \nMonats- stunden"]
[{"$nulls":3},1,2,3,4,5,6,7,8,9,10,11,12,13,14,15,16,17,18,19,20,21,22,23,24,25,26,27,28,29,30,31]
["Vorhabenbezogen",{"$nulls":33},{"$f":"SUM(D200:AH200)","v":{"v":0,"d":"0.00"}}]
["Sonstige 1)",{"$nulls":33},{"$f":"SUM(D201:AH201)","v":{"v":0,"d":"0.00"}}]
["Produktive Gesamtstunden",null,null,{"$f":"SUM(D200:D201)","v":{"v":0,"d":"0.00"}},{"$f":"SUM(E200:E201)","v":{"v":0,"d":"0.00"}},{"v":0,"d":"0.00"},{"v":0,"d":"0.00"},{"v":0,"d":"0.00"},{"v":0,"d":"0.00"},{"v":0,"d":"0.00"},{"v":0,"d":"0.00"},{"v":0,"d":"0.00"},{"v":0,"d":"0.00"},{"v":0,"d":"0.00"},{"v":0,"d":"0.00"},{"v":0,"d":"0.00"},{"v":0,"d":"0.00"},{"v":0,"d":"0.00"},{"v":0,"d":"0.00"},{"v":0,"d":"0.00"},{"v":0,"d":"0.00"},{"v":0,"d":"0.00"},{"v":0,"d":"0.00"},{"v":0,"d":"0.00"},{"v":0,"d":"0.00"},{"v":0,"d":"0.00"},{"v":0,"d":"0.00"},{"v":0,"d":"0.00"},{"v":0,"d":"0.00"},{"v":0,"d":"0.00"},{"v":0,"d":"0.00"},{"v":0,"d":"0.00"},{"v":0,"d":"0.00"},{"v":0,"d":"0.00"},{"$f":"SUM(D202:AH202)","v":{"v":0,"d":"0.00"}}]
[]
[]
["nachrichtlich:"]
["Fehlzeiten (z.B. Urlaub, \nKrankheit, Fortbildung)",{"$nulls":33},{"$f":"SUM(D206:AH206)","v":{"v":0,"d":"0.00"}}]
[]
[]
["1)  ggf. Angabe des FKZ. anderer geförderter Projekte:"]
[]
[]
[]
[]
[]
[]
["Unterschrift des Vorgesetzten",{"$nulls":12},"Unterschrift des Mitarbeiters"]
[]
[{"$nulls":23},"Förderkennzeichen :",{"$nulls":5},{"$f":"IF($AD$2=\"\",\"\",$AD$2)","v":""}]
["   Zuwendungsempfänger (Firmenstempel)"]
["Stundennachweis"]
["für pauschalierte Abrechnung gemäß Nr. 6 ANBest-P-Kosten (Anlage 1 zum Verwendungsnachweis)"]
[]
["Der Original-Stundennachweis verbleibt beim Zuwendungsempfänger."]
[]
["Vorhabenthema"]
[{"$f":"IF($A$10=\"\",\"\",$A190)","v":""}]
[]
["Monat",null,"Jahr",{"$nulls":8},"Mitarbeiter(in) [Name, Vorname]"]
["Juli",null,{"$f":"C13","v":0},{"$nulls":8},{"$f":"IF($L$13=\"\",\"\",$L$13)","v":""}]
[]
["Die zu Lasten des Vorhabens abzurechnenden Personalstunden sind täglich eingenhändig von der betreffenden Person zu erfassen. Nur die produktiven, für das Vorhaben"]
["geleisteten Stundenn sind zuwendungsfähig."]
[]
["Tätigkeiten",null,null,"Arbeitszeiten in Stunden je Kalendertag",{"$nulls":30},"Summe der \nMonats- stunden"]
[{"$nulls":3},1,2,3,4,5,6,7,8,9,10,11,12,13,14,15,16,17,18,19,20,21,22,23,24,25,26,27,28,29,30,31]
["Vorhabenbezogen",{"$nulls":33},{"$f":"SUM(D236:AH236)","v":{"v":0,"d":"0.00"}}]
["Sonstige 1)",{"$nulls":33},{"$f":"SUM(D237:AH237)","v":{"v":0,"d":"0.00"}}]
["Produktive Gesamtstunden",null,null,{"$f":"SUM(D236:D237)","v":{"v":0,"d":"0.00"}},{"$f":"SUM(E236:E237)","v":{"v":0,"d":"0.00"}},{"v":0,"d":"0.00"},{"v":0,"d":"0.00"},{"v":0,"d":"0.00"},{"v":0,"d":"0.00"},{"v":0,"d":"0.00"},{"v":0,"d":"0.00"},{"v":0,"d":"0.00"},{"v":0,"d":"0.00"},{"v":0,"d":"0.00"},{"v":0,"d":"0.00"},{"v":0,"d":"0.00"},{"v":0,"d":"0.00"},{"v":0,"d":"0.00"},{"v":0,"d":"0.00"},{"v":0,"d":"0.00"},{"v":0,"d":"0.00"},{"v":0,"d":"0.00"},{"v":0,"d":"0.00"},{"v":0,"d":"0.00"},{"v":0,"d":"0.00"},{"v":0,"d":"0.00"},{"v":0,"d":"0.00"},{"v":0,"d":"0.00"},{"v":0,"d":"0.00"},{"v":0,"d":"0.00"},{"v":0,"d":"0.00"},{"v":0,"d":"0.00"},{"v":0,"d":"0.00"},{"v":0,"d":"0.00"},{"$f":"SUM(D238:AH238)","v":{"v":0,"d":"0.00"}}]
[]
[]
["nachrichtlich:"]
["Fehlzeiten (z.B. Urlaub, \nKrankheit, Fortbildung)",{"$nulls":33},{"$f":"SUM(D242:AH242)","v":{"v":0,"d":"0.00"}}]
[]
[]
["1)  ggf. Angabe des FKZ. anderer geförderter Projekte:"]
[]
[]
[]
[]
[]
[]
["Unterschrift des Vorgesetzten",{"$nulls":12},"Unterschrift des Mitarbeiters"]
[]
[{"$nulls":23},"Förderkennzeichen :",{"$nulls":5},{"$f":"IF($AD$2=\"\",\"\",$AD$2)","v":""}]
["   Zuwendungsempfänger (Firmenstempel)"]
["Stundennachweis"]
["für pauschalierte Abrechnung gemäß Nr. 6 ANBest-P-Kosten (Anlage 1 zum Verwendungsnachweis)"]
[]
["Der Original-Stundennachweis verbleibt beim Zuwendungsempfänger."]
[]
["Vorhabenthema"]
[{"$f":"IF($A$10=\"\",\"\",$A226)","v":""}]
[]
["Monat",null,"Jahr",{"$nulls":8},"Mitarbeiter(in) [Name, Vorname]"]
["August",null,{"$f":"C13","v":0},{"$nulls":8},{"$f":"IF($L$13=\"\",\"\",$L$13)","v":""}]
[]
["Die zu Lasten des Vorhabens abzurechnenden Personalstunden sind täglich eingenhändig von der betreffenden Person zu erfassen. Nur die produktiven, für das Vorhaben"]
["geleisteten Stundenn sind zuwendungsfähig."]
[]
["Tätigkeiten",null,null,"Arbeitszeiten in Stunden je Kalendertag",{"$nulls":30},"Summe der \nMonats- stunden"]
[{"$nulls":3},1,2,3,4,5,6,7,8,9,10,11,12,13,14,15,16,17,18,19,20,21,22,23,24,25,26,27,28,29,30,31]
["Vorhabenbezogen",{"$nulls":33},{"$f":"SUM(D272:AH272)","v":{"v":0,"d":"0.00"}}]
["Sonstige 1)",{"$nulls":33},{"$f":"SUM(D273:AH273)","v":{"v":0,"d":"0.00"}}]
["Produktive Gesamtstunden",null,null,{"$f":"SUM(D272:D273)","v":{"v":0,"d":"0.00"}},{"$f":"SUM(E272:E273)","v":{"v":0,"d":"0.00"}},{"v":0,"d":"0.00"},{"v":0,"d":"0.00"},{"v":0,"d":"0.00"},{"v":0,"d":"0.00"},{"v":0,"d":"0.00"},{"v":0,"d":"0.00"},{"v":0,"d":"0.00"},{"v":0,"d":"0.00"},{"v":0,"d":"0.00"},{"v":0,"d":"0.00"},{"v":0,"d":"0.00"},{"v":0,"d":"0.00"},{"v":0,"d":"0.00"},{"v":0,"d":"0.00"},{"v":0,"d":"0.00"},{"v":0,"d":"0.00"},{"v":0,"d":"0.00"},{"v":0,"d":"0.00"},{"v":0,"d":"0.00"},{"v":0,"d":"0.00"},{"v":0,"d":"0.00"},{"v":0,"d":"0.00"},{"v":0,"d":"0.00"},{"v":0,"d":"0.00"},{"v":0,"d":"0.00"},{"v":0,"d":"0.00"},{"v":0,"d":"0.00"},{"v":0,"d":"0.00"},{"v":0,"d":"0.00"},{"$f":"SUM(D274:AH274)","v":{"v":0,"d":"0.00"}}]
[]
[]
["nachrichtlich:"]
["Fehlzeiten (z.B. Urlaub, \nKrankheit, Fortbildung)",{"$nulls":33},{"$f":"SUM(D278:AH278)","v":{"v":0,"d":"0.00"}}]
[]
[]
["1)  ggf. Angabe des FKZ. anderer geförderter Projekte:"]
[]
[]
[]
[]
[]
[]
["Unterschrift des Vorgesetzten",{"$nulls":12},"Unterschrift des Mitarbeiters"]
[]
[{"$nulls":23},"Förderkennzeichen :",{"$nulls":5},{"$f":"IF($AD$2=\"\",\"\",$AD$2)","v":""}]
["   Zuwendungsempfänger (Firmenstempel)"]
["Stundennachweis"]
["für pauschalierte Abrechnung gemäß Nr. 6 ANBest-P-Kosten (Anlage 1 zum Verwendungsnachweis)"]
[]
["Der Original-Stundennachweis verbleibt beim Zuwendungsempfänger."]
[]
["Vorhabenthema"]
[{"$f":"IF($A$10=\"\",\"\",$A262)","v":""}]
[]
["Monat",null,"Jahr",{"$nulls":8},"Mitarbeiter(in) [Name, Vorname]"]
["September",null,{"$f":"C13","v":0},{"$nulls":8},{"$f":"IF($L$13=\"\",\"\",$L$13)","v":""}]
[]
["Die zu Lasten des Vorhabens abzurechnenden Personalstunden sind täglich eingenhändig von der betreffenden Person zu erfassen. Nur die produktiven, für das Vorhaben"]
["geleisteten Stundenn sind zuwendungsfähig."]
[]
["Tätigkeiten",null,null,"Arbeitszeiten in Stunden je Kalendertag",{"$nulls":30},"Summe der \nMonats- stunden"]
[{"$nulls":3},1,2,3,4,5,6,7,8,9,10,11,12,13,14,15,16,17,18,19,20,21,22,23,24,25,26,27,28,29,30,31]
["Vorhabenbezogen",{"$nulls":33},{"$f":"SUM(D308:AH308)","v":{"v":0,"d":"0.00"}}]
["Sonstige 1)",{"$nulls":33},{"$f":"SUM(D309:AH309)","v":{"v":0,"d":"0.00"}}]
["Produktive Gesamtstunden",null,null,{"$f":"SUM(D308:D309)","v":{"v":0,"d":"0.00"}},{"$f":"SUM(E308:E309)","v":{"v":0,"d":"0.00"}},{"v":0,"d":"0.00"},{"v":0,"d":"0.00"},{"v":0,"d":"0.00"},{"v":0,"d":"0.00"},{"v":0,"d":"0.00"},{"v":0,"d":"0.00"},{"v":0,"d":"0.00"},{"v":0,"d":"0.00"},{"v":0,"d":"0.00"},{"v":0,"d":"0.00"},{"v":0,"d":"0.00"},{"v":0,"d":"0.00"},{"v":0,"d":"0.00"},{"v":0,"d":"0.00"},{"v":0,"d":"0.00"},{"v":0,"d":"0.00"},{"v":0,"d":"0.00"},{"v":0,"d":"0.00"},{"v":0,"d":"0.00"},{"v":0,"d":"0.00"},{"v":0,"d":"0.00"},{"v":0,"d":"0.00"},{"v":0,"d":"0.00"},{"v":0,"d":"0.00"},{"v":0,"d":"0.00"},{"v":0,"d":"0.00"},{"v":0,"d":"0.00"},{"v":0,"d":"0.00"},{"v":0,"d":"0.00"},{"$f":"SUM(D310:AH310)","v":{"v":0,"d":"0.00"}}]
[]
[]
["nachrichtlich:"]
["Fehlzeiten (z.B. Urlaub, \nKrankheit, Fortbildung)",{"$nulls":33},{"$f":"SUM(D314:AH314)","v":{"v":0,"d":"0.00"}}]
[]
[]
["1)  ggf. Angabe des FKZ. anderer geförderter Projekte:"]
[]
[]
[]
[]
[]
[]
["Unterschrift des Vorgesetzten",{"$nulls":12},"Unterschrift des Mitarbeiters"]
[]
[{"$nulls":23},"Förderkennzeichen :",{"$nulls":5},{"$f":"IF($AD$2=\"\",\"\",$AD$2)","v":""}]
["   Zuwendungsempfänger (Firmenstempel)"]
["Stundennachweis"]
["für pauschalierte Abrechnung gemäß Nr. 6 ANBest-P-Kosten (Anlage 1 zum Verwendungsnachweis)"]
[]
["Der Original-Stundennachweis verbleibt beim Zuwendungsempfänger."]
[]
["Vorhabenthema"]
[{"$f":"IF($A$10=\"\",\"\",$A298)","v":""}]
[]
["Monat",null,"Jahr",{"$nulls":8},"Mitarbeiter(in) [Name, Vorname]"]
["Oktober",null,{"$f":"C13","v":0},{"$nulls":8},{"$f":"IF($L$13=\"\",\"\",$L$13)","v":""}]
[]
["Die zu Lasten des Vorhabens abzurechnenden Personalstunden sind täglich eingenhändig von der betreffenden Person zu erfassen. Nur die produktiven, für das Vorhaben"]
["geleisteten Stundenn sind zuwendungsfähig."]
[]
["Tätigkeiten",null,null,"Arbeitszeiten in Stunden je Kalendertag",{"$nulls":30},"Summe der \nMonats- stunden"]
[{"$nulls":3},1,2,3,4,5,6,7,8,9,10,11,12,13,14,15,16,17,18,19,20,21,22,23,24,25,26,27,28,29,30,31]
["Vorhabenbezogen",{"$nulls":33},{"$f":"SUM(D344:AH344)","v":{"v":0,"d":"0.00"}}]
["Sonstige 1)",{"$nulls":33},{"$f":"SUM(D345:AH345)","v":{"v":0,"d":"0.00"}}]
["Produktive Gesamtstunden",null,null,{"$f":"SUM(D344:D345)","v":{"v":0,"d":"0.00"}},{"$f":"SUM(E344:E345)","v":{"v":0,"d":"0.00"}},{"v":0,"d":"0.00"},{"v":0,"d":"0.00"},{"v":0,"d":"0.00"},{"v":0,"d":"0.00"},{"v":0,"d":"0.00"},{"v":0,"d":"0.00"},{"v":0,"d":"0.00"},{"v":0,"d":"0.00"},{"v":0,"d":"0.00"},{"v":0,"d":"0.00"},{"v":0,"d":"0.00"},{"v":0,"d":"0.00"},{"v":0,"d":"0.00"},{"v":0,"d":"0.00"},{"v":0,"d":"0.00"},{"v":0,"d":"0.00"},{"v":0,"d":"0.00"},{"v":0,"d":"0.00"},{"v":0,"d":"0.00"},{"v":0,"d":"0.00"},{"v":0,"d":"0.00"},{"v":0,"d":"0.00"},{"v":0,"d":"0.00"},{"v":0,"d":"0.00"},{"v":0,"d":"0.00"},{"v":0,"d":"0.00"},{"v":0,"d":"0.00"},{"v":0,"d":"0.00"},{"v":0,"d":"0.00"},{"$f":"SUM(D346:AH346)","v":{"v":0,"d":"0.00"}}]
[]
[]
["nachrichtlich:"]
["Fehlzeiten (z.B. Urlaub, \nKrankheit, Fortbildung)",{"$nulls":33},{"$f":"SUM(D350:AH350)","v":{"v":0,"d":"0.00"}}]
[]
[]
["1)  ggf. Angabe des FKZ. anderer geförderter Projekte:"]
[]
[]
[]
[]
[]
[]
["Unterschrift des Vorgesetzten",{"$nulls":12},"Unterschrift des Mitarbeiters"]
[]
[{"$nulls":23},"Förderkennzeichen :",{"$nulls":5},{"$f":"IF($AD$2=\"\",\"\",$AD$2)","v":""}]
["   Zuwendungsempfänger (Firmenstempel)"]
["Stundennachweis"]
["für pauschalierte Abrechnung gemäß Nr. 6 ANBest-P-Kosten (Anlage 1 zum Verwendungsnachweis)"]
[]
["Der Original-Stundennachweis verbleibt beim Zuwendungsempfänger."]
[]
["Vorhabenthema"]
[{"$f":"IF($A$10=\"\",\"\",$A334)","v":""}]
[]
["Monat",null,"Jahr",{"$nulls":8},"Mitarbeiter(in) [Name, Vorname]"]
["November",null,{"$f":"C13","v":0},{"$nulls":8},{"$f":"IF($L$13=\"\",\"\",$L$13)","v":""}]
[]
["Die zu Lasten des Vorhabens abzurechnenden Personalstunden sind täglich eingenhändig von der betreffenden Person zu erfassen. Nur die produktiven, für das Vorhaben"]
["geleisteten Stundenn sind zuwendungsfähig."]
[]
["Tätigkeiten",null,null,"Arbeitszeiten in Stunden je Kalendertag",{"$nulls":30},"Summe der \nMonats- stunden"]
[{"$nulls":3},1,2,3,4,5,6,7,8,9,10,11,12,13,14,15,16,17,18,19,20,21,22,23,24,25,26,27,28,29,30,31]
["Vorhabenbezogen",{"$nulls":33},{"$f":"SUM(D380:AH380)","v":{"v":0,"d":"0.00"}}]
["Sonstige 1)",{"$nulls":33},{"$f":"SUM(D381:AH381)","v":{"v":0,"d":"0.00"}}]
["Produktive Gesamtstunden",null,null,{"$f":"SUM(D380:D381)","v":{"v":0,"d":"0.00"}},{"$f":"SUM(E380:E381)","v":{"v":0,"d":"0.00"}},{"v":0,"d":"0.00"},{"v":0,"d":"0.00"},{"v":0,"d":"0.00"},{"v":0,"d":"0.00"},{"v":0,"d":"0.00"},{"v":0,"d":"0.00"},{"v":0,"d":"0.00"},{"v":0,"d":"0.00"},{"v":0,"d":"0.00"},{"v":0,"d":"0.00"},{"v":0,"d":"0.00"},{"v":0,"d":"0.00"},{"v":0,"d":"0.00"},{"v":0,"d":"0.00"},{"v":0,"d":"0.00"},{"v":0,"d":"0.00"},{"v":0,"d":"0.00"},{"v":0,"d":"0.00"},{"v":0,"d":"0.00"},{"v":0,"d":"0.00"},{"v":0,"d":"0.00"},{"v":0,"d":"0.00"},{"v":0,"d":"0.00"},{"v":0,"d":"0.00"},{"v":0,"d":"0.00"},{"v":0,"d":"0.00"},{"v":0,"d":"0.00"},{"v":0,"d":"0.00"},{"v":0,"d":"0.00"},{"$f":"SUM(D382:AH382)","v":{"v":0,"d":"0.00"}}]
[]
[]
["nachrichtlich:"]
["Fehlzeiten (z.B. Urlaub, \nKrankheit, Fortbildung)",{"$nulls":33},{"$f":"SUM(D386:AH386)","v":{"v":0,"d":"0.00"}}]
[]
[]
["1)  ggf. Angabe des FKZ. anderer geförderter Projekte:"]
[]
[]
[]
[]
[]
[]
["Unterschrift des Vorgesetzten",{"$nulls":12},"Unterschrift des Mitarbeiters"]
[]
[{"$nulls":23},"Förderkennzeichen :",{"$nulls":5},{"$f":"IF($AD$2=\"\",\"\",$AD$2)","v":""}]
["   Zuwendungsempfänger (Firmenstempel)"]
["Stundennachweis"]
["für pauschalierte Abrechnung gemäß Nr. 6 ANBest-P-Kosten (Anlage 1 zum Verwendungsnachweis)"]
[]
["Der Original-Stundennachweis verbleibt beim Zuwendungsempfänger."]
[]
["Vorhabenthema"]
[{"$f":"IF($A$10=\"\",\"\",$A370)","v":""}]
[]
["Monat",null,"Jahr",{"$nulls":8},"Mitarbeiter(in) [Name, Vorname]"]
["Dezember",null,{"$f":"C13","v":0},{"$nulls":8},{"$f":"IF($L$13=\"\",\"\",$L$13)","v":""}]
[]
["Die zu Lasten des Vorhabens abzurechnenden Personalstunden sind täglich eingenhändig von der betreffenden Person zu erfassen. Nur die produktiven, für das Vorhaben"]
["geleisteten Stundenn sind zuwendungsfähig."]
[]
["Tätigkeiten",null,null,"Arbeitszeiten in Stunden je Kalendertag",{"$nulls":30},"Summe der \nMonats- stunden"]
[{"$nulls":3},1,2,3,4,5,6,7,8,9,10,11,12,13,14,15,16,17,18,19,20,21,22,23,24,25,26,27,28,29,30,31]
["Vorhabenbezogen",{"$nulls":33},{"$f":"SUM(D416:AH416)","v":{"v":0,"d":"0.00"}}]
["Sonstige 1)",{"$nulls":33},{"$f":"SUM(D417:AH417)","v":{"v":0,"d":"0.00"}}]
["Produktive Gesamtstunden",null,null,{"$f":"SUM(D416:D417)","v":0},{"$f":"SUM(E416:E417)","v":{"v":0,"d":"0.00"}},{"v":0,"d":"0.00"},{"v":0,"d":"0.00"},{"v":0,"d":"0.00"},{"v":0,"d":"0.00"},{"v":0,"d":"0.00"},{"v":0,"d":"0.00"},{"v":0,"d":"0.00"},{"v":0,"d":"0.00"},{"v":0,"d":"0.00"},{"v":0,"d":"0.00"},{"v":0,"d":"0.00"},{"v":0,"d":"0.00"},{"v":0,"d":"0.00"},{"v":0,"d":"0.00"},{"v":0,"d":"0.00"},{"v":0,"d":"0.00"},{"v":0,"d":"0.00"},{"v":0,"d":"0.00"},{"v":0,"d":"0.00"},{"v":0,"d":"0.00"},{"v":0,"d":"0.00"},{"v":0,"d":"0.00"},{"v":0,"d":"0.00"},{"v":0,"d":"0.00"},{"v":0,"d":"0.00"},{"v":0,"d":"0.00"},{"v":0,"d":"0.00"},{"v":0,"d":"0.00"},{"v":0,"d":"0.00"},{"$f":"SUM(D418:AH418)","v":{"v":0,"d":"0.00"}}]
[]
[]
["nachrichtlich:"]
["Fehlzeiten (z.B. Urlaub, \nKrankheit, Fortbildung)",{"$nulls":33},{"$f":"SUM(D422:AH422)","v":{"v":0,"d":"0.00"}}]
[]
[]
["1)  ggf. Angabe des FKZ. anderer geförderter Projekte:"]
[]
[]
[]
[]
[]
[]
["Unterschrift des Vorgesetzten",{"$nulls":12},"Unterschrift des Mitarbeiters"]

{"sheet":"Jahresstd.satz Mitarbeiter F","index":12,"n_rows":38,"n_cols":15,"rows_kept":38,"merged":[[1,0,1,3],[1,8,1,10],[1,11,1,14],[5,0,5,14],[6,0,6,14],[10,0,10,14],[13,4,13,14],[16,0,17,1],[16,14,17,14],[18,0,18,1],[19,0,19,1],[20,0,20,1],[28,11,28,13],[29,6,29,8],[29,9,30,10],[29,11,30,13],[30,6,30,8]]}
[]
[{"$nulls":8},"Förderkennzeichen:       ",null,null,{"$f":"IF('Stundennachweise Mitarbeiter F'!AD2=0,\"\",'Stundennachweise Mitarbeiter F'!AD2)","v":""}]
["   Zuwendungsempfänger (Firmenstempel)"]
[]
[]
["Ermittlung des Jahresstundensatzes"]
["bei pauschalierter Abrechnung gemäß Nr. 6 ANBest-P-Kosten (Anlage 2 zum Verwendungsnachweis)"]
[]
[]
["Vorhabenthema"]
[{"$f":"IF('Stundennachweise Mitarbeiter F'!A10:AI10=\"\",\"\",'Stundennachweise Mitarbeiter F'!A10:AI10)","v":""}]
[]
["Jahr",{"$nulls":3},"Mitarbeiter(in) [Name, Vorname]"]
[{"$f":"IF('Stundennachweise Mitarbeiter F'!C13=\"\",\"\",'Stundennachweise Mitarbeiter F'!C13)","v":""},{"$nulls":3},{"$f":"IF('Stundennachweise Mitarbeiter F'!L13=\"\",\"\",'Stundennachweise Mitarbeiter F'!L13)","v":""}]
[]
["1. Jahresstunden lt. monatlichen Stundennachweisen"]
["Tätigkeiten",null,"Arbeitszeit in Stunden je Monat:",{"$nulls":11},"Summe der Jahresstunden"]
[null,null,"Januar","Februar","März","April","Mai","Juni","Juli","August","Sept.","Oktober","Nov.","Dez."]
["Vorhabenbezogen",null,{"$f":"'Stundennachweise Mitarbeiter F'!AI20","v":{"v":0,"d":"0.00"}},{"$f":"'Stundennachweise Mitarbeiter F'!AI56","v":{"v":0,"d":"0.00"}},{"$f":"'Stundennachweise Mitarbeiter F'!AI92","v":{"v":0,"d":"0.00"}},{"$f":"'Stundennachweise Mitarbeiter F'!AI128","v":{"v":0,"d":"0.00"}},{"$f":"'Stundennachweise Mitarbeiter F'!AI164","v":{"v":0,"d":"0.00"}},{"$f":"'Stundennachweise Mitarbeiter F'!AI200","v":{"v":0,"d":"0.00"}},{"$f":"'Stundennachweise Mitarbeiter F'!AI236","v":{"v":0,"d":"0.00"}},{"$f":"'Stundennachweise Mitarbeiter F'!AI272","v":{"v":0,"d":"0.00"}},{"$f":"'Stundennachweise Mitarbeiter F'!AI308","v":{"v":0,"d":"0.00"}},{"$f":"'Stundennachweise Mitarbeiter F'!AI344","v":{"v":0,"d":"0.00"}},{"$f":"'Stundennachweise Mitarbeiter F'!AI380","v":{"v":0,"d":"0.00"}},{"$f":"'Stundennachweise Mitarbeiter F'!AI416","v":{"v":0,"d":"0.00"}},{"$f":"SUM(C19:N19)","v":{"v":0,"d":"0.00"}}]
["Sonstige",null,{"$f":"'Stundennachweise Mitarbeiter F'!AI21","v":{"v":0,"d":"0.00"}},{"$f":"'Stundennachweise Mitarbeiter F'!AI57","v":{"v":0,"d":"0.00"}},{"$f":"'Stundennachweise Mitarbeiter F'!AI93","v":{"v":0,"d":"0.00"}},{"$f":"'Stundennachweise Mitarbeiter F'!AI129","v":{"v":0,"d":"0.00"}},{"$f":"'Stundennachweise Mitarbeiter F'!AI165","v":{"v":0,"d":"0.00"}},{"$f":"'Stundennachweise Mitarbeiter F'!AI201","v":{"v":0,"d":"0.00"}},{"$f":"'Stundennachweise Mitarbeiter F'!AI237","v":{"v":0,"d":"0.00"}},{"$f":"'Stundennachweise Mitarbeiter F'!AI273","v":{"v":0,"d":"0.00"}},{"$f":"'Stundennachweise Mitarbeiter F'!AI309","v":{"v":0,"d":"0.00"}},{"$f":"'Stundennachweise Mitarbeiter F'!AI345","v":{"v":0,"d":"0.00"}},{"$f":"'Stundennachweise Mitarbeiter F'!AI381","v":{"v":0,"d":"0.00"}},{"$f":"'Stundennachweise Mitarbeiter F'!AI417","v":{"v":0,"d":"0.00"}},{"$f":"SUM(C20:N20)","v":{"v":0,"d":"0.00"}}]
["Produktive Gesamtstunden",null,{"$f":"'Stundennachweise Mitarbeiter F'!AI22","v":{"v":0,"d":"0.00"}},{"$f":"'Stundennachweise Mitarbeiter F'!AI58","v":{"v":0,"d":"0.00"}},{"$f":"'Stundennachweise Mitarbeiter F'!AI94","v":{"v":0,"d":"0.00"}},{"$f":"'Stundennachweise Mitarbeiter F'!AI130","v":{"v":0,"d":"0.00"}},{"$f":"'Stundennachweise Mitarbeiter F'!AI166","v":{"v":0,"d":"0.00"}},{"$f":"'Stundennachweise Mitarbeiter F'!AI202","v":{"v":0,"d":"0.00"}},{"$f":"'Stundennachweise Mitarbeiter F'!AI238","v":{"v":0,"d":"0.00"}},{"$f":"'Stundennachweise Mitarbeiter F'!AI274","v":{"v":0,"d":"0.00"}},{"$f":"'Stundennachweise Mitarbeiter F'!AI310","v":{"v":0,"d":"0.00"}},{"$f":"'Stundennachweise Mitarbeiter F'!AI346","v":{"v":0,"d":"0.00"}},{"$f":"'Stundennachweise Mitarbeiter F'!AI382","v":{"v":0,"d":"0.00"}},{"$f":"'Stundennachweise Mitarbeiter F'!AI418","v":{"v":0,"d":"0.00"}},{"$f":"SUM(C21:N21)","v":{"v":0,"d":"0.00"}}]
[]
["nachrichtlich:"]
["Fehlzeiten (z.B. Urlaub, Krankheit, Fortbildung)",null,{"$f":"'Stundennachweise Mitarbeiter F'!AI26","v":{"v":0,"d":"0.00"}},{"$f":"'Stundennachweise Mitarbeiter F'!AI62","v":{"v":0,"d":"0.00"}},{"$f":"'Stundennachweise Mitarbeiter F'!AI98","v":{"v":0,"d":"0.00"}},{"$f":"'Stundennachweise Mitarbeiter F'!AI134","v":{"v":0,"d":"0.00"}},{"$f":"'Stundennachweise Mitarbeiter F'!AI170","v":{"v":0,"d":"0.00"}},{"$f":"'Stundennachweise Mitarbeiter F'!AI206","v":{"v":0,"d":"0.00"}},{"$f":"'Stundennachweise Mitarbeiter F'!AI242","v":{"v":0,"d":"0.00"}},{"$f":"'Stundennachweise Mitarbeiter F'!AI278","v":{"v":0,"d":"0.00"}},{"$f":"'Stundennachweise Mitarbeiter F'!AI314","v":{"v":0,"d":"0.00"}},{"$f":"'Stundennachweise Mitarbeiter F'!AI350","v":{"v":0,"d":"0.00"}},{"$f":"'Stundennachweise Mitarbeiter F'!AI386","v":{"v":0,"d":"0.00"}},{"$f":"'Stundennachweise Mitarbeiter F'!AI422","v":{"v":0,"d":"0.00"}},{"$f":"SUM(C24:N24)","v":{"v":0,"d":"0.00"}}]
[]
[]
["2. Berechnung des Jahresstundensatzes"]
[]
[{"$nulls":11},"Jahresstundensatz"]
["Bruttojahreslohn/ -gehalt 1)",{"$nulls":8},"=",null,{"$f":"IF(G30=\"\",\"\",G30/G31)","v":""}]
["Jahresarbeitsstunden lt. Tarifvertrag/Betriebsvereinbarung/Arbeitsvertrag 2)"]
[]
[]
[]
[]
["1)   Personalkosten i.S. der Nr. 6.1.3 ANBest-P-Kosten"]
[]
["2)   Bei tatsächlich mehr geleisteten produktiven Gesamtstunden (vorhabenbezogene und sonstige) gelten diese Gesamtsunden als Divisor"]

{"sheet":"Stundennachweise Mitarbeiter G","index":13,"n_rows":432,"n_cols":35,"rows_kept":432,"merged":[[1,0,1,7],[1,29,1,34],[3,0,3,34],[4,0,4,34],[9,0,9,34],[12,11,12,34],[17,0,18,2],[17,34,18,34],[19,0,19,2],[20,0,20,2],[21,0,21,2],[25,0,25,2],[28,10,28,16],[29,10,29,16],[37,0,37,7],[37,29,37,34],[39,0,39,34],[40,0,40,34],[45,0,45,34],[48,11,48,34],[53,0,54,2],[53,34,54,34],[55,0,55,2],[56,0,56,2],[57,0,57,2],[61,0,61,2],[64,10,64,16],[65,10,65,16],[73,0,73,7],[73,29,73,34],[75,0,75,34],[76,0,76,34],[81,0,81,34],[84,11,84,34],[89,0,90,2],[89,34,90,34],[91,0,91,2],[92,0,92,2],[93,0,93,2],[97,0,97,2],[100,10,100,16],[101,10,101,16],[109,0,109,7],[109,29,109,34],[111,0,111,34],[112,0,112,34],[117,0,117,34],[120,11,120,34],[125,0,126,2],[125,34,126,34],[127,0,127,2],[128,0,128,2],[129,0,129,2],[133,0,133,2],[136,10,136,16],[137,10,137,16],[145,0,145,7],[145,29,145,34],[147,0,147,34],[148,0,148,34],[153,0,153,34],[156,11,156,34],[161,0,162,2],[161,34,162,34],[163,0,163,2],[164,0,164,2],[165,0,165,2],[169,0,169,2],[172,10,172,16],[173,10,173,16],[181,0,181,7],[181,29,181,34],[183,0,183,34],[184,0,184,34],[189,0,189,34],[192,11,192,34],[197,0,198,2],[197,34,198,34],[199,0,199,2],[200,0,200,2],[201,0,201,2],[205,0,205,2],[208,10,208,16],[209,10,209,16],[217,0,217,7],[217,29,217,34],[219,0,219,34],[220,0,220,34],[225,0,225,34],[228,11,228,34],[233,0,234,2],[233,34,234,34],[235,0,235,2],[236,0,236,2],[237,0,237,2],[241,0,241,2],[244,10,244,16],[245,10,245,16],[253,0,253,7],[253,29,253,34],[255,0,255,34],[256,0,256,34],[261,0,261,34],[264,11,264,34],[269,0,270,2],[269,34,270,34],[271,0,271,2],[272,0,272,2],[273,0,273,2],[277,0,277,2],[280,10,280,16],[281,10,281,16],[289,0,289,7],[289,29,289,34],[291,0,291,34],[292,0,292,34],[297,0,297,34],[300,11,300,34],[305,0,306,2],[305,34,306,34],[307,0,307,2],[308,0,308,2],[309,0,309,2],[313,0,313,2],[316,10,316,16],[317,10,317,16],[325,0,325,7],[325,29,325,34],[327,0,327,34],[328,0,328,34],[333,0,333,34],[336,11,336,34],[341,0,342,2],[341,34,342,34],[343,0,343,2],[344,0,344,2],[345,0,345,2],[349,0,349,2],[352,10,352,16],[353,10,353,16],[361,0,361,7],[361,29,361,34],[363,0,363,34],[364,0,364,34],[369,0,369,34],[372,11,372,34],[377,0,378,2],[377,34,378,34],[379,0,379,2],[380,0,380,2],[381,0,381,2],[385,0,385,2],[388,10,388,16],[389,10,389,16],[397,0,397,7],[397,29,397,34],[399,0,399,34],[400,0,400,34],[405,0,405,34],[408,11,408,34],[413,0,414,2],[413,34,414,34],[415,0,415,2],[416,0,416,2],[417,0,417,2],[421,0,421,2],[424,10,424,16],[425,10,425,16]]}
[]
[{"$nulls":23},"Förderkennzeichen :"]
["   Zuwendungsempfänger (Firmenstempel)"]
["Stundennachweis"]
["für pauschalierte Abrechnung gemäß Nr. 6 ANBest-P-Kosten (Anlage 1 zum Verwendungsnachweis)"]
[]
["Der Original-Stundennachweis verbleibt beim Zuwendungsempfänger."]
[]
["Vorhabenthema"]
[]
[]
["Monat",null,"Jahr",{"$nulls":8},"Mitarbeiter(in) [Name, Vorname]"]
["Januar"]
[]
["Die zu Lasten des Vorhabens abzurechnenden Personalstunden sind täglich eingenhändig von der betreffenden Person zu erfassen. Nur die produktiven, für das Vorhaben"]
["geleisteten Stundenn sind zuwendungsfähig."]
[]
["Tätigkeiten",null,null,"Arbeitszeiten in Stunden je Kalendertag",{"$nulls":30},"Summe der \nMonats- stunden"]
[{"$nulls":3},1,2,3,4,5,6,7,8,9,10,11,12,13,14,15,16,17,18,19,20,21,22,23,24,25,26,27,28,29,30,31]
["Vorhabenbezogen",{"$nulls":33},{"$f":"SUM(D20:AH20)","v":{"v":0,"d":"0.00"}}]
["Sonstige 1)",{"$nulls":33},{"$f":"SUM(D21:AH21)","v":{"v":0,"d":"0.00"}}]
["Produktive Gesamtstunden",null,null,{"$f":"SUM(D20:D21)","v":{"v":0,"d":"0.00"}},{"$f":"SUM(E20:E21)","v":{"v":0,"d":"0.00"}},{"v":0,"d":"0.00"},{"v":0,"d":"0.00"},{"v":0,"d":"0.00"},{"v":0,"d":"0.00"},{"v":0,"d":"0.00"},{"v":0,"d":"0.00"},{"v":0,"d":"0.00"},{"v":0,"d":"0.00"},{"v":0,"d":"0.00"},{"v":0,"d":"0.00"},{"v":0,"d":"0.00"},{"v":0,"d":"0.00"},{"v":0,"d":"0.00"},{"v":0,"d":"0.00"},{"v":0,"d":"0.00"},{"v":0,"d":"0.00"},{"v":0,"d":"0.00"},{"v":0,"d":"0.00"},{"v":0,"d":"0.00"},{"v":0,"d":"0.00"},{"v":0,"d":"0.00"},{"v":0,"d":"0.00"},{"v":0,"d":"0.00"},{"v":0,"d":"0.00"},{"v":0,"d":"0.00"},{"v":0,"d":"0.00"},{"v":0,"d":"0.00"},{"v":0,"d":"0.00"},{"v":0,"d":"0.00"},{"$f":"SUM(D22:AH22)","v":{"v":0,"d":"0.00"}}]
[]
[]
["nachrichtlich:"]
["Fehlzeiten (z.B. Urlaub, \nKrankheit, Fortbildung)",{"$nulls":33},{"$f":"SUM(D26:AH26)","v":{"v":0,"d":"0.00"}}]
[]
[]
["1)  ggf. Angabe des FKZ. anderer geförderter Projekte:"]
[]
[]
[]
[]
[]
[]
["Unterschrift des Vorgesetzten",{"$nulls":12},"Unterschrift des Mitarbeiters"]
[]
[{"$nulls":23},"Förderkennzeichen :",{"$nulls":5},{"$f":"IF($AD$2=\"\",\"\",$AD$2)","v":""}]
["   Zuwendungsempfänger (Firmenstempel)"]
["Stundennachweis"]
["für pauschalierte Abrechnung gemäß Nr. 6 ANBest-P-Kosten (Anlage 1 zum Verwendungsnachweis)"]
[]
["Der Original-Stundennachweis verbleibt beim Zuwendungsempfänger."]
[]
["Vorhabenthema"]
[{"$f":"IF($A$10=\"\",\"\",$A10)","v":""}]
[]
["Monat",null,"Jahr",{"$nulls":8},"Mitarbeiter(in) [Name, Vorname]"]
["Februar",null,{"$f":"C13","v":0},{"$nulls":8},{"$f":"IF($L$13=\"\",\"\",$L$13)","v":""}]
[]
["Die zu Lasten des Vorhabens abzurechnenden Personalstunden sind täglich eingenhändig von der betreffenden Person zu erfassen. Nur die produktiven, für das Vorhaben"]
["geleisteten Stundenn sind zuwendungsfähig."]
[]
["Tätigkeiten",null,null,"Arbeitszeiten in Stunden je Kalendertag",{"$nulls":30},"Summe der \nMonats- stunden"]
[{"$nulls":3},1,2,3,4,5,6,7,8,9,10,11,12,13,14,15,16,17,18,19,20,21,22,23,24,25,26,27,28,29,30,31]
["Vorhabenbezogen",{"$nulls":33},{"$f":"SUM(D56:AH56)","v":{"v":0,"d":"0.00"}}]
["Sonstige 1)",{"$nulls":33},{"$f":"SUM(D57:AH57)","v":{"v":0,"d":"0.00"}}]
["Produktive Gesamtstunden",null,null,{"$f":"SUM(D56:D57)","v":{"v":0,"d":"0.00"}},{"$f":"SUM(E56:E57)","v":{"v":0,"d":"0.00"}},{"v":0,"d":"0.00"},{"v":0,"d":"0.00"},{"v":0,"d":"0.00"},{"v":0,"d":"0.00"},{"v":0,"d":"0.00"},{"v":0,"d":"0.00"},{"v":0,"d":"0.00"},{"v":0,"d":"0.00"},{"v":0,"d":"0.00"},{"v":0,"d":"0.00"},{"v":0,"d":"0.00"},{"v":0,"d":"0.00"},{"v":0,"d":"0.00"},{"v":0,"d":"0.00"},{"v":0,"d":"0.00"},{"v":0,"d":"0.00"},{"v":0,"d":"0.00"},{"v":0,"d":"0.00"},{"v":0,"d":"0.00"},{"v":0,"d":"0.00"},{"v":0,"d":"0.00"},{"v":0,"d":"0.00"},{"v":0,"d":"0.00"},{"v":0,"d":"0.00"},{"v":0,"d":"0.00"},{"v":0,"d":"0.00"},{"v":0,"d":"0.00"},{"v":0,"d":"0.00"},{"v":0,"d":"0.00"},{"$f":"SUM(D58:AH58)","v":{"v":0,"d":"0.00"}}]
[]
[]
["nachrichtlich:"]
["Fehlzeiten (z.B. Urlaub, \nKrankheit, Fortbildung)",{"$nulls":33},{"$f":"SUM(D62:AH62)","v":{"v":0,"d":"0.00"}}]
[]
[]
["1)  ggf. Angabe des FKZ. anderer geförderter Projekte:"]
[]
[]
[]
[]
[]
[]
["Unterschrift des Vorgesetzten",{"$nulls":12},"Unterschrift des Mitarbeiters"]
[]
[{"$nulls":23},"Förderkennzeichen :",{"$nulls":5},{"$f":"IF($AD$2=\"\",\"\",$AD$2)","v":""}]
["   Zuwendungsempfänger (Firmenstempel)"]
["Stundennachweis"]
["für pauschalierte Abrechnung gemäß Nr. 6 ANBest-P-Kosten (Anlage 1 zum Verwendungsnachweis)"]
[]
["Der Original-Stundennachweis verbleibt beim Zuwendungsempfänger."]
[]
["Vorhabenthema"]
[{"$f":"IF($A$10=\"\",\"\",$A46)","v":""}]
[]
["Monat",null,"Jahr",{"$nulls":8},"Mitarbeiter(in) [Name, Vorname]"]
["März",null,{"$f":"C13","v":0},{"$nulls":8},{"$f":"IF($L$13=\"\",\"\",$L$13)","v":""}]
[]
["Die zu Lasten des Vorhabens abzurechnenden Personalstunden sind täglich eingenhändig von der betreffenden Person zu erfassen. Nur die produktiven, für das Vorhaben"]
["geleisteten Stundenn sind zuwendungsfähig."]
[]
["Tätigkeiten",null,null,"Arbeitszeiten in Stunden je Kalendertag",{"$nulls":30},"Summe der \nMonats- stunden"]
[{"$nulls":3},1,2,3,4,5,6,7,8,9,10,11,12,13,14,15,16,17,18,19,20,21,22,23,24,25,26,27,28,29,30,31]
["Vorhabenbezogen",{"$nulls":33},{"$f":"SUM(D92:AH92)","v":{"v":0,"d":"0.00"}}]
["Sonstige 1)",{"$nulls":33},{"$f":"SUM(D93:AH93)","v":{"v":0,"d":"0.00"}}]
["Produktive Gesamtstunden",null,null,{"$f":"SUM(D92:D93)","v":{"v":0,"d":"0.00"}},{"$f":"SUM(E92:E93)","v":{"v":0,"d":"0.00"}},{"v":0,"d":"0.00"},{"v":0,"d":"0.00"},{"v":0,"d":"0.00"},{"v":0,"d":"0.00"},{"v":0,"d":"0.00"},{"v":0,"d":"0.00"},{"v":0,"d":"0.00"},{"v":0,"d":"0.00"},{"v":0,"d":"0.00"},{"v":0,"d":"0.00"},{"v":0,"d":"0.00"},{"v":0,"d":"0.00"},{"v":0,"d":"0.00"},{"v":0,"d":"0.00"},{"v":0,"d":"0.00"},{"v":0,"d":"0.00"},{"v":0,"d":"0.00"},{"v":0,"d":"0.00"},{"v":0,"d":"0.00"},{"v":0,"d":"0.00"},{"v":0,"d":"0.00"},{"v":0,"d":"0.00"},{"v":0,"d":"0.00"},{"v":0,"d":"0.00"},{"v":0,"d":"0.00"},{"v":0,"d":"0.00"},{"v":0,"d":"0.00"},{"v":0,"d":"0.00"},{"v":0,"d":"0.00"},{"$f":"SUM(D94:AH94)","v":{"v":0,"d":"0.00"}}]
[]
[]
["nachrichtlich:"]
["Fehlzeiten (z.B. Urlaub, \nKrankheit, Fortbildung)",{"$nulls":33},{"$f":"SUM(D98:AH98)","v":{"v":0,"d":"0.00"}}]
[]
[]
["1)  ggf. Angabe des FKZ. anderer geförderter Projekte:"]
[]
[]
[]
[]
[]
[]
["Unterschrift des Vorgesetzten",{"$nulls":12},"Unterschrift des Mitarbeiters"]
[]
[{"$nulls":23},"Förderkennzeichen :",{"$nulls":5},{"$f":"IF($AD$2=\"\",\"\",$AD$2)","v":""}]
["   Zuwendungsempfänger (Firmenstempel)"]
["Stundennachweis"]
["für pauschalierte Abrechnung gemäß Nr. 6 ANBest-P-Kosten (Anlage 1 zum Verwendungsnachweis)"]
[]
["Der Original-Stundennachweis verbleibt beim Zuwendungsempfänger."]
[]
["Vorhabenthema"]
[{"$f":"IF($A$10=\"\",\"\",$A82)","v":""}]
[]
["Monat",null,"Jahr",{"$nulls":8},"Mitarbeiter(in) [Name, Vorname]"]
["April",null,{"$f":"C13","v":0},{"$nulls":8},{"$f":"IF($L$13=\"\",\"\",$L$13)","v":""}]
[]
["Die zu Lasten des Vorhabens abzurechnenden Personalstunden sind täglich eingenhändig von der betreffenden Person zu erfassen. Nur die produktiven, für das Vorhaben"]
["geleisteten Stundenn sind zuwendungsfähig."]
[]
["Tätigkeiten",null,null,"Arbeitszeiten in Stunden je Kalendertag",{"$nulls":30},"Summe der \nMonats- stunden"]
[{"$nulls":3},1,2,3,4,5,6,7,8,9,10,11,12,13,14,15,16,17,18,19,20,21,22,23,24,25,26,27,28,29,30,31]
["Vorhabenbezogen",{"$nulls":33},{"$f":"SUM(D128:AH128)","v":{"v":0,"d":"0.00"}}]
["Sonstige 1)",{"$nulls":33},{"$f":"SUM(D129:AH129)","v":{"v":0,"d":"0.00"}}]
["Produktive Gesamtstunden",null,null,{"$f":"SUM(D128:D129)","v":{"v":0,"d":"0.00"}},{"$f":"SUM(E128:E129)","v":{"v":0,"d":"0.00"}},{"v":0,"d":"0.00"},{"v":0,"d":"0.00"},{"v":0,"d":"0.00"},{"v":0,"d":"0.00"},{"v":0,"d":"0.00"},{"v":0,"d":"0.00"},{"v":0,"d":"0.00"},{"v":0,"d":"0.00"},{"v":0,"d":"0.00"},{"v":0,"d":"0.00"},{"v":0,"d":"0.00"},{"v":0,"d":"0.00"},{"v":0,"d":"0.00"},{"v":0,"d":"0.00"},{"v":0,"d":"0.00"},{"v":0,"d":"0.00"},{"v":0,"d":"0.00"},{"v":0,"d":"0.00"},{"v":0,"d":"0.00"},{"v":0,"d":"0.00"},{"v":0,"d":"0.00"},{"v":0,"d":"0.00"},{"v":0,"d":"0.00"},{"v":0,"d":"0.00"},{"v":0,"d":"0.00"},{"v":0,"d":"0.00"},{"v":0,"d":"0.00"},{"v":0,"d":"0.00"},{"v":0,"d":"0.00"},{"$f":"SUM(D130:AH130)","v":{"v":0,"d":"0.00"}}]
[]
[]
["nachrichtlich:"]
["Fehlzeiten (z.B. Urlaub, \nKrankheit, Fortbildung)",{"$nulls":33},{"$f":"SUM(D134:AH134)","v":{"v":0,"d":"0.00"}}]
[]
[]
["1)  ggf. Angabe des FKZ. anderer geförderter Projekte:"]
[]
[]
[]
[]
[]
[]
["Unterschrift des Vorgesetzten",{"$nulls":12},"Unterschrift des Mitarbeiters"]
[]
[{"$nulls":23},"Förderkennzeichen :",{"$nulls":5},{"$f":"IF($AD$2=\"\",\"\",$AD$2)","v":""}]
["   Zuwendungsempfänger (Firmenstempel)"]
["Stundennachweis"]
["für pauschalierte Abrechnung gemäß Nr. 6 ANBest-P-Kosten (Anlage 1 zum Verwendungsnachweis)"]
[]
["Der Original-Stundennachweis verbleibt beim Zuwendungsempfänger."]
[]
["Vorhabenthema"]
[{"$f":"IF($A$10=\"\",\"\",$A118)","v":""}]
[]
["Monat",null,"Jahr",{"$nulls":8},"Mitarbeiter(in) [Name, Vorname]"]
["Mai",null,{"$f":"C13","v":0},{"$nulls":8},{"$f":"IF($L$13=\"\",\"\",$L$13)","v":""}]
[]
["Die zu Lasten des Vorhabens abzurechnenden Personalstunden sind täglich eingenhändig von der betreffenden Person zu erfassen. Nur die produktiven, für das Vorhaben"]
["geleisteten Stundenn sind zuwendungsfähig."]
[]
["Tätigkeiten",null,null,"Arbeitszeiten in Stunden je Kalendertag",{"$nulls":30},"Summe der \nMonats- stunden"]
[{"$nulls":3},1,2,3,4,5,6,7,8,9,10,11,12,13,14,15,16,17,18,19,20,21,22,23,24,25,26,27,28,29,30,31]
["Vorhabenbezogen",{"$nulls":33},{"$f":"SUM(D164:AH164)","v":{"v":0,"d":"0.00"}}]
["Sonstige 1)",{"$nulls":33},{"$f":"SUM(D165:AH165)","v":{"v":0,"d":"0.00"}}]
["Produktive Gesamtstunden",null,null,{"$f":"SUM(D164:D165)","v":{"v":0,"d":"0.00"}},{"$f":"SUM(E164:E165)","v":{"v":0,"d":"0.00"}},{"v":0,"d":"0.00"},{"v":0,"d":"0.00"},{"v":0,"d":"0.00"},{"v":0,"d":"0.00"},{"v":0,"d":"0.00"},{"v":0,"d":"0.00"},{"v":0,"d":"0.00"},{"v":0,"d":"0.00"},{"v":0,"d":"0.00"},{"v":0,"d":"0.00"},{"v":0,"d":"0.00"},{"v":0,"d":"0.00"},{"v":0,"d":"0.00"},{"v":0,"d":"0.00"},{"v":0,"d":"0.00"},{"v":0,"d":"0.00"},{"v":0,"d":"0.00"},{"v":0,"d":"0.00"},{"v":0,"d":"0.00"},{"v":0,"d":"0.00"},{"v":0,"d":"0.00"},{"v":0,"d":"0.00"},{"v":0,"d":"0.00"},{"v":0,"d":"0.00"},{"v":0,"d":"0.00"},{"v":0,"d":"0.00"},{"v":0,"d":"0.00"},{"v":0,"d":"0.00"},{"v":0,"d":"0.00"},{"$f":"SUM(D166:AH166)","v":{"v":0,"d":"0.00"}}]
[]
[]
["nachrichtlich:"]
["Fehlzeiten (z.B. Urlaub, \nKrankheit, Fortbildung)",{"$nulls":33},{"$f":"SUM(D170:AH170)","v":{"v":0,"d":"0.00"}}]
[]
[]
["1)  ggf. Angabe des FKZ. anderer geförderter Projekte:"]
[]
[]
[]
[]
[]
[]
["Unterschrift des Vorgesetzten",{"$nulls":12},"Unterschrift des Mitarbeiters"]
[]
[{"$nulls":23},"Förderkennzeichen :",{"$nulls":5},{"$f":"IF($AD$2=\"\",\"\",$AD$2)","v":""}]
["   Zuwendungsempfänger (Firmenstempel)"]
["Stundennachweis"]
["für pauschalierte Abrechnung gemäß Nr. 6 ANBest-P-Kosten (Anlage 1 zum Verwendungsnachweis)"]
[]
["Der Original-Stundennachweis verbleibt beim Zuwendungsempfänger."]
[]
["Vorhabenthema"]
[{"$f":"IF($A$10=\"\",\"\",$A154)","v":""}]
[]
["Monat",null,"Jahr",{"$nulls":8},"Mitarbeiter(in) [Name, Vorname]"]
["Juni",null,{"$f":"C13","v":0},{"$nulls":8},{"$f":"IF($L$13=\"\",\"\",$L$13)","v":""}]
[]
["Die zu Lasten des Vorhabens abzurechnenden Personalstunden sind täglich eingenhändig von der betreffenden Person zu erfassen. Nur die produktiven, für das Vorhaben"]
["geleisteten Stundenn sind zuwendungsfähig."]
[]
["Tätigkeiten",null,null,"Arbeitszeiten in Stunden je Kalendertag",{"$nulls":30},"Summe der \nMonats- stunden"]
[{"$nulls":3},1,2,3,4,5,6,7,8,9,10,11,12,13,14,15,16,17,18,19,20,21,22,23,24,25,26,27,28,29,30,31]
["Vorhabenbezogen",{"$nulls":33},{"$f":"SUM(D200:AH200)","v":{"v":0,"d":"0.00"}}]
["Sonstige 1)",{"$nulls":33},{"$f":"SUM(D201:AH201)","v":{"v":0,"d":"0.00"}}]
["Produktive Gesamtstunden",null,null,{"$f":"SUM(D200:D201)","v":{"v":0,"d":"0.00"}},{"$f":"SUM(E200:E201)","v":{"v":0,"d":"0.00"}},{"v":0,"d":"0.00"},{"v":0,"d":"0.00"},{"v":0,"d":"0.00"},{"v":0,"d":"0.00"},{"v":0,"d":"0.00"},{"v":0,"d":"0.00"},{"v":0,"d":"0.00"},{"v":0,"d":"0.00"},{"v":0,"d":"0.00"},{"v":0,"d":"0.00"},{"v":0,"d":"0.00"},{"v":0,"d":"0.00"},{"v":0,"d":"0.00"},{"v":0,"d":"0.00"},{"v":0,"d":"0.00"},{"v":0,"d":"0.00"},{"v":0,"d":"0.00"},{"v":0,"d":"0.00"},{"v":0,"d":"0.00"},{"v":0,"d":"0.00"},{"v":0,"d":"0.00"},{"v":0,"d":"0.00"},{"v":0,"d":"0.00"},{"v":0,"d":"0.00"},{"v":0,"d":"0.00"},{"v":0,"d":"0.00"},{"v":0,"d":"0.00"},{"v":0,"d":"0.00"},{"v":0,"d":"0.00"},{"$f":"SUM(D202:AH202)","v":{"v":0,"d":"0.00"}}]
[]
[]
["nachrichtlich:"]
["Fehlzeiten (z.B. Urlaub, \nKrankheit, Fortbildung)",{"$nulls":33},{"$f":"SUM(D206:AH206)","v":{"v":0,"d":"0.00"}}]
[]
[]
["1)  ggf. Angabe des FKZ. anderer geförderter Projekte:"]
[]
[]
[]
[]
[]
[]
["Unterschrift des Vorgesetzten",{"$nulls":12},"Unterschrift des Mitarbeiters"]
[]
[{"$nulls":23},"Förderkennzeichen :",{"$nulls":5},{"$f":"IF($AD$2=\"\",\"\",$AD$2)","v":""}]
["   Zuwendungsempfänger (Firmenstempel)"]
["Stundennachweis"]
["für pauschalierte Abrechnung gemäß Nr. 6 ANBest-P-Kosten (Anlage 1 zum Verwendungsnachweis)"]
[]
["Der Original-Stundennachweis verbleibt beim Zuwendungsempfänger."]
[]
["Vorhabenthema"]
[{"$f":"IF($A$10=\"\",\"\",$A190)","v":""}]
[]
["Monat",null,"Jahr",{"$nulls":8},"Mitarbeiter(in) [Name, Vorname]"]
["Juli",null,{"$f":"C13","v":0},{"$nulls":8},{"$f":"IF($L$13=\"\",\"\",$L$13)","v":""}]
[]
["Die zu Lasten des Vorhabens abzurechnenden Personalstunden sind täglich eingenhändig von der betreffenden Person zu erfassen. Nur die produktiven, für das Vorhaben"]
["geleisteten Stundenn sind zuwendungsfähig."]
[]
["Tätigkeiten",null,null,"Arbeitszeiten in Stunden je Kalendertag",{"$nulls":30},"Summe der \nMonats- stunden"]
[{"$nulls":3},1,2,3,4,5,6,7,8,9,10,11,12,13,14,15,16,17,18,19,20,21,22,23,24,25,26,27,28,29,30,31]
["Vorhabenbezogen",{"$nulls":33},{"$f":"SUM(D236:AH236)","v":{"v":0,"d":"0.00"}}]
["Sonstige 1)",{"$nulls":33},{"$f":"SUM(D237:AH237)","v":{"v":0,"d":"0.00"}}]
["Produktive Gesamtstunden",null,null,{"$f":"SUM(D236:D237)","v":{"v":0,"d":"0.00"}},{"$f":"SUM(E236:E237)","v":{"v":0,"d":"0.00"}},{"v":0,"d":"0.00"},{"v":0,"d":"0.00"},{"v":0,"d":"0.00"},{"v":0,"d":"0.00"},{"v":0,"d":"0.00"},{"v":0,"d":"0.00"},{"v":0,"d":"0.00"},{"v":0,"d":"0.00"},{"v":0,"d":"0.00"},{"v":0,"d":"0.00"},{"v":0,"d":"0.00"},{"v":0,"d":"0.00"},{"v":0,"d":"0.00"},{"v":0,"d":"0.00"},{"v":0,"d":"0.00"},{"v":0,"d":"0.00"},{"v":0,"d":"0.00"},{"v":0,"d":"0.00"},{"v":0,"d":"0.00"},{"v":0,"d":"0.00"},{"v":0,"d":"0.00"},{"v":0,"d":"0.00"},{"v":0,"d":"0.00"},{"v":0,"d":"0.00"},{"v":0,"d":"0.00"},{"v":0,"d":"0.00"},{"v":0,"d":"0.00"},{"v":0,"d":"0.00"},{"v":0,"d":"0.00"},{"$f":"SUM(D238:AH238)","v":{"v":0,"d":"0.00"}}]
[]
[]
["nachrichtlich:"]
["Fehlzeiten (z.B. Urlaub, \nKrankheit, Fortbildung)",{"$nulls":33},{"$f":"SUM(D242:AH242)","v":{"v":0,"d":"0.00"}}]
[]
[]
["1)  ggf. Angabe des FKZ. anderer geförderter Projekte:"]
[]
[]
[]
[]
[]
[]
["Unterschrift des Vorgesetzten",{"$nulls":12},"Unterschrift des Mitarbeiters"]
[]
[{"$nulls":23},"Förderkennzeichen :",{"$nulls":5},{"$f":"IF($AD$2=\"\",\"\",$AD$2)","v":""}]
["   Zuwendungsempfänger (Firmenstempel)"]
["Stundennachweis"]
["für pauschalierte Abrechnung gemäß Nr. 6 ANBest-P-Kosten (Anlage 1 zum Verwendungsnachweis)"]
[]
["Der Original-Stundennachweis verbleibt beim Zuwendungsempfänger."]
[]
["Vorhabenthema"]
[{"$f":"IF($A$10=\"\",\"\",$A226)","v":""}]
[]
["Monat",null,"Jahr",{"$nulls":8},"Mitarbeiter(in) [Name, Vorname]"]
["August",null,{"$f":"C13","v":0},{"$nulls":8},{"$f":"IF($L$13=\"\",\"\",$L$13)","v":""}]
[]
["Die zu Lasten des Vorhabens abzurechnenden Personalstunden sind täglich eingenhändig von der betreffenden Person zu erfassen. Nur die produktiven, für das Vorhaben"]
["geleisteten Stundenn sind zuwendungsfähig."]
[]
["Tätigkeiten",null,null,"Arbeitszeiten in Stunden je Kalendertag",{"$nulls":30},"Summe der \nMonats- stunden"]
[{"$nulls":3},1,2,3,4,5,6,7,8,9,10,11,12,13,14,15,16,17,18,19,20,21,22,23,24,25,26,27,28,29,30,31]
["Vorhabenbezogen",{"$nulls":33},{"$f":"SUM(D272:AH272)","v":{"v":0,"d":"0.00"}}]
["Sonstige 1)",{"$nulls":33},{"$f":"SUM(D273:AH273)","v":{"v":0,"d":"0.00"}}]
["Produktive Gesamtstunden",null,null,{"$f":"SUM(D272:D273)","v":{"v":0,"d":"0.00"}},{"$f":"SUM(E272:E273)","v":{"v":0,"d":"0.00"}},{"v":0,"d":"0.00"},{"v":0,"d":"0.00"},{"v":0,"d":"0.00"},{"v":0,"d":"0.00"},{"v":0,"d":"0.00"},{"v":0,"d":"0.00"},{"v":0,"d":"0.00"},{"v":0,"d":"0.00"},{"v":0,"d":"0.00"},{"v":0,"d":"0.00"},{"v":0,"d":"0.00"},{"v":0,"d":"0.00"},{"v":0,"d":"0.00"},{"v":0,"d":"0.00"},{"v":0,"d":"0.00"},{"v":0,"d":"0.00"},{"v":0,"d":"0.00"},{"v":0,"d":"0.00"},{"v":0,"d":"0.00"},{"v":0,"d":"0.00"},{"v":0,"d":"0.00"},{"v":0,"d":"0.00"},{"v":0,"d":"0.00"},{"v":0,"d":"0.00"},{"v":0,"d":"0.00"},{"v":0,"d":"0.00"},{"v":0,"d":"0.00"},{"v":0,"d":"0.00"},{"v":0,"d":"0.00"},{"$f":"SUM(D274:AH274)","v":{"v":0,"d":"0.00"}}]
[]
[]
["nachrichtlich:"]
["Fehlzeiten (z.B. Urlaub, \nKrankheit, Fortbildung)",{"$nulls":33},{"$f":"SUM(D278:AH278)","v":{"v":0,"d":"0.00"}}]
[]
[]
["1)  ggf. Angabe des FKZ. anderer geförderter Projekte:"]
[]
[]
[]
[]
[]
[]
["Unterschrift des Vorgesetzten",{"$nulls":12},"Unterschrift des Mitarbeiters"]
[]
[{"$nulls":23},"Förderkennzeichen :",{"$nulls":5},{"$f":"IF($AD$2=\"\",\"\",$AD$2)","v":""}]
["   Zuwendungsempfänger (Firmenstempel)"]
["Stundennachweis"]
["für pauschalierte Abrechnung gemäß Nr. 6 ANBest-P-Kosten (Anlage 1 zum Verwendungsnachweis)"]
[]
["Der Original-Stundennachweis verbleibt beim Zuwendungsempfänger."]
[]
["Vorhabenthema"]
[{"$f":"IF($A$10=\"\",\"\",$A262)","v":""}]
[]
["Monat",null,"Jahr",{"$nulls":8},"Mitarbeiter(in) [Name, Vorname]"]
["September",null,{"$f":"C13","v":0},{"$nulls":8},{"$f":"IF($L$13=\"\",\"\",$L$13)","v":""}]
[]
["Die zu Lasten des Vorhabens abzurechnenden Personalstunden sind täglich eingenhändig von der betreffenden Person zu erfassen. Nur die produktiven, für das Vorhaben"]
["geleisteten Stundenn sind zuwendungsfähig."]
[]
["Tätigkeiten",null,null,"Arbeitszeiten in Stunden je Kalendertag",{"$nulls":30},"Summe der \nMonats- stunden"]
[{"$nulls":3},1,2,3,4,5,6,7,8,9,10,11,12,13,14,15,16,17,18,19,20,21,22,23,24,25,26,27,28,29,30,31]
["Vorhabenbezogen",{"$nulls":33},{"$f":"SUM(D308:AH308)","v":{"v":0,"d":"0.00"}}]
["Sonstige 1)",{"$nulls":33},{"$f":"SUM(D309:AH309)","v":{"v":0,"d":"0.00"}}]
["Produktive Gesamtstunden",null,null,{"$f":"SUM(D308:D309)","v":{"v":0,"d":"0.00"}},{"$f":"SUM(E308:E309)","v":{"v":0,"d":"0.00"}},{"v":0,"d":"0.00"},{"v":0,"d":"0.00"},{"v":0,"d":"0.00"},{"v":0,"d":"0.00"},{"v":0,"d":"0.00"},{"v":0,"d":"0.00"},{"v":0,"d":"0.00"},{"v":0,"d":"0.00"},{"v":0,"d":"0.00"},{"v":0,"d":"0.00"},{"v":0,"d":"0.00"},{"v":0,"d":"0.00"},{"v":0,"d":"0.00"},{"v":0,"d":"0.00"},{"v":0,"d":"0.00"},{"v":0,"d":"0.00"},{"v":0,"d":"0.00"},{"v":0,"d":"0.00"},{"v":0,"d":"0.00"},{"v":0,"d":"0.00"},{"v":0,"d":"0.00"},{"v":0,"d":"0.00"},{"v":0,"d":"0.00"},{"v":0,"d":"0.00"},{"v":0,"d":"0.00"},{"v":0,"d":"0.00"},{"v":0,"d":"0.00"},{"v":0,"d":"0.00"},{"v":0,"d":"0.00"},{"$f":"SUM(D310:AH310)","v":{"v":0,"d":"0.00"}}]
[]
[]
["nachrichtlich:"]
["Fehlzeiten (z.B. Urlaub, \nKrankheit, Fortbildung)",{"$nulls":33},{"$f":"SUM(D314:AH314)","v":{"v":0,"d":"0.00"}}]
[]
[]
["1)  ggf. Angabe des FKZ. anderer geförderter Projekte:"]
[]
[]
[]
[]
[]
[]
["Unterschrift des Vorgesetzten",{"$nulls":12},"Unterschrift des Mitarbeiters"]
[]
[{"$nulls":23},"Förderkennzeichen :",{"$nulls":5},{"$f":"IF($AD$2=\"\",\"\",$AD$2)","v":""}]
["   Zuwendungsempfänger (Firmenstempel)"]
["Stundennachweis"]
["für pauschalierte Abrechnung gemäß Nr. 6 ANBest-P-Kosten (Anlage 1 zum Verwendungsnachweis)"]
[]
["Der Original-Stundennachweis verbleibt beim Zuwendungsempfänger."]
[]
["Vorhabenthema"]
[{"$f":"IF($A$10=\"\",\"\",$A298)","v":""}]
[]
["Monat",null,"Jahr",{"$nulls":8},"Mitarbeiter(in) [Name, Vorname]"]
["Oktober",null,{"$f":"C13","v":0},{"$nulls":8},{"$f":"IF($L$13=\"\",\"\",$L$13)","v":""}]
[]
["Die zu Lasten des Vorhabens abzurechnenden Personalstunden sind täglich eingenhändig von der betreffenden Person zu erfassen. Nur die produktiven, für das Vorhaben"]
["geleisteten Stundenn sind zuwendungsfähig."]
[]
["Tätigkeiten",null,null,"Arbeitszeiten in Stunden je Kalendertag",{"$nulls":30},"Summe der \nMonats- stunden"]
[{"$nulls":3},1,2,3,4,5,6,7,8,9,10,11,12,13,14,15,16,17,18,19,20,21,22,23,24,25,26,27,28,29,30,31]
["Vorhabenbezogen",{"$nulls":33},{"$f":"SUM(D344:AH344)","v":{"v":0,"d":"0.00"}}]
["Sonstige 1)",{"$nulls":33},{"$f":"SUM(D345:AH345)","v":{"v":0,"d":"0.00"}}]
["Produktive Gesamtstunden",null,null,{"$f":"SUM(D344:D345)","v":{"v":0,"d":"0.00"}},{"$f":"SUM(E344:E345)","v":{"v":0,"d":"0.00"}},{"v":0,"d":"0.00"},{"v":0,"d":"0.00"},{"v":0,"d":"0.00"},{"v":0,"d":"0.00"},{"v":0,"d":"0.00"},{"v":0,"d":"0.00"},{"v":0,"d":"0.00"},{"v":0,"d":"0.00"},{"v":0,"d":"0.00"},{"v":0,"d":"0.00"},{"v":0,"d":"0.00"},{"v":0,"d":"0.00"},{"v":0,"d":"0.00"},{"v":0,"d":"0.00"},{"v":0,"d":"0.00"},{"v":0,"d":"0.00"},{"v":0,"d":"0.00"},{"v":0,"d":"0.00"},{"v":0,"d":"0.00"},{"v":0,"d":"0.00"},{"v":0,"d":"0.00"},{"v":0,"d":"0.00"},{"v":0,"d":"0.00"},{"v":0,"d":"0.00"},{"v":0,"d":"0.00"},{"v":0,"d":"0.00"},{"v":0,"d":"0.00"},{"v":0,"d":"0.00"},{"v":0,"d":"0.00"},{"$f":"SUM(D346:AH346)","v":{"v":0,"d":"0.00"}}]
[]
[]
["nachrichtlich:"]
["Fehlzeiten (z.B. Urlaub, \nKrankheit, Fortbildung)",{"$nulls":33},{"$f":"SUM(D350:AH350)","v":{"v":0,"d":"0.00"}}]
[]
[]
["1)  ggf. Angabe des FKZ. anderer geförderter Projekte:"]
[]
[]
[]
[]
[]
[]
["Unterschrift des Vorgesetzten",{"$nulls":12},"Unterschrift des Mitarbeiters"]
[]
[{"$nulls":23},"Förderkennzeichen :",{"$nulls":5},{"$f":"IF($AD$2=\"\",\"\",$AD$2)","v":""}]
["   Zuwendungsempfänger (Firmenstempel)"]
["Stundennachweis"]
["für pauschalierte Abrechnung gemäß Nr. 6 ANBest-P-Kosten (Anlage 1 zum Verwendungsnachweis)"]
[]
["Der Original-Stundennachweis verbleibt beim Zuwendungsempfänger."]
[]
["Vorhabenthema"]
[{"$f":"IF($A$10=\"\",\"\",$A334)","v":""}]
[]
["Monat",null,"Jahr",{"$nulls":8},"Mitarbeiter(in) [Name, Vorname]"]
["November",null,{"$f":"C13","v":0},{"$nulls":8},{"$f":"IF($L$13=\"\",\"\",$L$13)","v":""}]
[]
["Die zu Lasten des Vorhabens abzurechnenden Personalstunden sind täglich eingenhändig von der betreffenden Person zu erfassen. Nur die produktiven, für das Vorhaben"]
["geleisteten Stundenn sind zuwendungsfähig."]
[]
["Tätigkeiten",null,null,"Arbeitszeiten in Stunden je Kalendertag",{"$nulls":30},"Summe der \nMonats- stunden"]
[{"$nulls":3},1,2,3,4,5,6,7,8,9,10,11,12,13,14,15,16,17,18,19,20,21,22,23,24,25,26,27,28,29,30,31]
["Vorhabenbezogen",{"$nulls":33},{"$f":"SUM(D380:AH380)","v":{"v":0,"d":"0.00"}}]
["Sonstige 1)",{"$nulls":33},{"$f":"SUM(D381:AH381)","v":{"v":0,"d":"0.00"}}]
["Produktive Gesamtstunden",null,null,{"$f":"SUM(D380:D381)","v":{"v":0,"d":"0.00"}},{"$f":"SUM(E380:E381)","v":{"v":0,"d":"0.00"}},{"v":0,"d":"0.00"},{"v":0,"d":"0.00"},{"v":0,"d":"0.00"},{"v":0,"d":"0.00"},{"v":0,"d":"0.00"},{"v":0,"d":"0.00"},{"v":0,"d":"0.00"},{"v":0,"d":"0.00"},{"v":0,"d":"0.00"},{"v":0,"d":"0.00"},{"v":0,"d":"0.00"},{"v":0,"d":"0.00"},{"v":0,"d":"0.00"},{"v":0,"d":"0.00"},{"v":0,"d":"0.00"},{"v":0,"d":"0.00"},{"v":0,"d":"0.00"},{"v":0,"d":"0.00"},{"v":0,"d":"0.00"},{"v":0,"d":"0.00"},{"v":0,"d":"0.00"},{"v":0,"d":"0.00"},{"v":0,"d":"0.00"},{"v":0,"d":"0.00"},{"v":0,"d":"0.00"},{"v":0,"d":"0.00"},{"v":0,"d":"0.00"},{"v":0,"d":"0.00"},{"v":0,"d":"0.00"},{"$f":"SUM(D382:AH382)","v":{"v":0,"d":"0.00"}}]
[]
[]
["nachrichtlich:"]
["Fehlzeiten (z.B. Urlaub, \nKrankheit, Fortbildung)",{"$nulls":33},{"$f":"SUM(D386:AH386)","v":{"v":0,"d":"0.00"}}]
[]
[]
["1)  ggf. Angabe des FKZ. anderer geförderter Projekte:"]
[]
[]
[]
[]
[]
[]
["Unterschrift des Vorgesetzten",{"$nulls":12},"Unterschrift des Mitarbeiters"]
[]
[{"$nulls":23},"Förderkennzeichen :",{"$nulls":5},{"$f":"IF($AD$2=\"\",\"\",$AD$2)","v":""}]
["   Zuwendungsempfänger (Firmenstempel)"]
["Stundennachweis"]
["für pauschalierte Abrechnung gemäß Nr. 6 ANBest-P-Kosten (Anlage 1 zum Verwendungsnachweis)"]
[]
["Der Original-Stundennachweis verbleibt beim Zuwendungsempfänger."]
[]
["Vorhabenthema"]
[{"$f":"IF($A$10=\"\",\"\",$A370)","v":""}]
[]
["Monat",null,"Jahr",{"$nulls":8},"Mitarbeiter(in) [Name, Vorname]"]
["Dezember",null,{"$f":"C13","v":0},{"$nulls":8},{"$f":"IF($L$13=\"\",\"\",$L$13)","v":""}]
[]
["Die zu Lasten des Vorhabens abzurechnenden Personalstunden sind täglich eingenhändig von der betreffenden Person zu erfassen. Nur die produktiven, für das Vorhaben"]
["geleisteten Stundenn sind zuwendungsfähig."]
[]
["Tätigkeiten",null,null,"Arbeitszeiten in Stunden je Kalendertag",{"$nulls":30},"Summe der \nMonats- stunden"]
[{"$nulls":3},1,2,3,4,5,6,7,8,9,10,11,12,13,14,15,16,17,18,19,20,21,22,23,24,25,26,27,28,29,30,31]
["Vorhabenbezogen",{"$nulls":33},{"$f":"SUM(D416:AH416)","v":{"v":0,"d":"0.00"}}]
["Sonstige 1)",{"$nulls":33},{"$f":"SUM(D417:AH417)","v":{"v":0,"d":"0.00"}}]
["Produktive Gesamtstunden",null,null,{"$f":"SUM(D416:D417)","v":0},{"$f":"SUM(E416:E417)","v":{"v":0,"d":"0.00"}},{"v":0,"d":"0.00"},{"v":0,"d":"0.00"},{"v":0,"d":"0.00"},{"v":0,"d":"0.00"},{"v":0,"d":"0.00"},{"v":0,"d":"0.00"},{"v":0,"d":"0.00"},{"v":0,"d":"0.00"},{"v":0,"d":"0.00"},{"v":0,"d":"0.00"},{"v":0,"d":"0.00"},{"v":0,"d":"0.00"},{"v":0,"d":"0.00"},{"v":0,"d":"0.00"},{"v":0,"d":"0.00"},{"v":0,"d":"0.00"},{"v":0,"d":"0.00"},{"v":0,"d":"0.00"},{"v":0,"d":"0.00"},{"v":0,"d":"0.00"},{"v":0,"d":"0.00"},{"v":0,"d":"0.00"},{"v":0,"d":"0.00"},{"v":0,"d":"0.00"},{"v":0,"d":"0.00"},{"v":0,"d":"0.00"},{"v":0,"d":"0.00"},{"v":0,"d":"0.00"},{"v":0,"d":"0.00"},{"$f":"SUM(D418:AH418)","v":{"v":0,"d":"0.00"}}]
[]
[]
["nachrichtlich:"]
["Fehlzeiten (z.B. Urlaub, \nKrankheit, Fortbildung)",{"$nulls":33},{"$f":"SUM(D422:AH422)","v":{"v":0,"d":"0.00"}}]
[]
[]
["1)  ggf. Angabe des FKZ. anderer geförderter Projekte:"]
[]
[]
[]
[]
[]
[]
["Unterschrift des Vorgesetzten",{"$nulls":12},"Unterschrift des Mitarbeiters"]

{"sheet":"Jahresstd.satz Mitarbeiter G","index":14,"n_rows":38,"n_cols":15,"rows_kept":38,"merged":[[1,0,1,3],[1,8,1,10],[1,11,1,14],[5,0,5,14],[6,0,6,14],[10,0,10,14],[13,4,13,14],[16,0,17,1],[16,14,17,14],[18,0,18,1],[19,0,19,1],[20,0,20,1],[28,11,28,13],[29,6,29,8],[29,9,30,10],[29,11,30,13],[30,6,30,8]]}
[]
[{"$nulls":8},"Förderkennzeichen:       ",null,null,{"$f":"IF('Stundennachweise Mitarbeiter G'!AD2=0,\"\",'Stundennachweise Mitarbeiter G'!AD2)","v":""}]
["   Zuwendungsempfänger (Firmenstempel)"]
[]
[]
["Ermittlung des Jahresstundensatzes"]
["bei pauschalierter Abrechnung gemäß Nr. 6 ANBest-P-Kosten (Anlage 2 zum Verwendungsnachweis)"]
[]
[]
["Vorhabenthema"]
[{"$f":"IF('Stundennachweise Mitarbeiter G'!A10:AI10=\"\",\"\",'Stundennachweise Mitarbeiter G'!A10:AI10)","v":""}]
[]
["Jahr",{"$nulls":3},"Mitarbeiter(in) [Name, Vorname]"]
[{"$f":"IF('Stundennachweise Mitarbeiter G'!C13=\"\",\"\",'Stundennachweise Mitarbeiter G'!C13)","v":""},{"$nulls":3},{"$f":"IF('Stundennachweise Mitarbeiter G'!L13=\"\",\"\",'Stundennachweise Mitarbeiter G'!L13)","v":""}]
[]
["1. Jahresstunden lt. monatlichen Stundennachweisen"]
["Tätigkeiten",null,"Arbeitszeit in Stunden je Monat:",{"$nulls":11},"Summe der Jahresstunden"]
[null,null,"Januar","Februar","März","April","Mai","Juni","Juli","August","Sept.","Oktober","Nov.","Dez."]
["Vorhabenbezogen",null,{"$f":"'Stundennachweise Mitarbeiter G'!AI20","v":{"v":0,"d":"0.00"}},{"$f":"'Stundennachweise Mitarbeiter G'!AI56","v":{"v":0,"d":"0.00"}},{"$f":"'Stundennachweise Mitarbeiter G'!AI92","v":{"v":0,"d":"0.00"}},{"$f":"'Stundennachweise Mitarbeiter G'!AI128","v":{"v":0,"d":"0.00"}},{"$f":"'Stundennachweise Mitarbeiter G'!AI164","v":{"v":0,"d":"0.00"}},{"$f":"'Stundennachweise Mitarbeiter G'!AI200","v":{"v":0,"d":"0.00"}},{"$f":"'Stundennachweise Mitarbeiter G'!AI236","v":{"v":0,"d":"0.00"}},{"$f":"'Stundennachweise Mitarbeiter G'!AI272","v":{"v":0,"d":"0.00"}},{"$f":"'Stundennachweise Mitarbeiter G'!AI308","v":{"v":0,"d":"0.00"}},{"$f":"'Stundennachweise Mitarbeiter G'!AI344","v":{"v":0,"d":"0.00"}},{"$f":"'Stundennachweise Mitarbeiter G'!AI380","v":{"v":0,"d":"0.00"}},{"$f":"'Stundennachweise Mitarbeiter G'!AI416","v":{"v":0,"d":"0.00"}},{"$f":"SUM(C19:N19)","v":{"v":0,"d":"0.00"}}]
["Sonstige",null,{"$f":"'Stundennachweise Mitarbeiter G'!AI21","v":{"v":0,"d":"0.00"}},{"$f":"'Stundennachweise Mitarbeiter G'!AI57","v":{"v":0,"d":"0.00"}},{"$f":"'Stundennachweise Mitarbeiter G'!AI93","v":{"v":0,"d":"0.00"}},{"$f":"'Stundennachweise Mitarbeiter G'!AI129","v":{"v":0,"d":"0.00"}},{"$f":"'Stundennachweise Mitarbeiter G'!AI165","v":{"v":0,"d":"0.00"}},{"$f":"'Stundennachweise Mitarbeiter G'!AI201","v":{"v":0,"d":"0.00"}},{"$f":"'Stundennachweise Mitarbeiter G'!AI237","v":{"v":0,"d":"0.00"}},{"$f":"'Stundennachweise Mitarbeiter G'!AI273","v":{"v":0,"d":"0.00"}},{"$f":"'Stundennachweise Mitarbeiter G'!AI309","v":{"v":0,"d":"0.00"}},{"$f":"'Stundennachweise Mitarbeiter G'!AI345","v":{"v":0,"d":"0.00"}},{"$f":"'Stundennachweise Mitarbeiter G'!AI381","v":{"v":0,"d":"0.00"}},{"$f":"'Stundennachweise Mitarbeiter G'!AI417","v":{"v":0,"d":"0.00"}},{"$f":"SUM(C20:N20)","v":{"v":0,"d":"0.00"}}]
["Produktive Gesamtstunden",null,{"$f":"'Stundennachweise Mitarbeiter G'!AI22","v":{"v":0,"d":"0.00"}},{"$f":"'Stundennachweise Mitarbeiter G'!AI58","v":{"v":0,"d":"0.00"}},{"$f":"'Stundennachweise Mitarbeiter G'!AI94","v":{"v":0,"d":"0.00"}},{"$f":"'Stundennachweise Mitarbeiter G'!AI130","v":{"v":0,"d":"0.00"}},{"$f":"'Stundennachweise Mitarbeiter G'!AI166","v":{"v":0,"d":"0.00"}},{"$f":"'Stundennachweise Mitarbeiter G'!AI202","v":{"v":0,"d":"0.00"}},{"$f":"'Stundennachweise Mitarbeiter G'!AI238","v":{"v":0,"d":"0.00"}},{"$f":"'Stundennachweise Mitarbeiter G'!AI274","v":{"v":0,"d":"0.00"}},{"$f":"'Stundennachweise Mitarbeiter G'!AI310","v":{"v":0,"d":"0.00"}},{"$f":"'Stundennachweise Mitarbeiter G'!AI346","v":{"v":0,"d":"0.00"}},{"$f":"'Stundennachweise Mitarbeiter G'!AI382","v":{"v":0,"d":"0.00"}},{"$f":"'Stundennachweise Mitarbeiter G'!AI418","v":{"v":0,"d":"0.00"}},{"$f":"SUM(C21:N21)","v":{"v":0,"d":"0.00"}}]
[]
["nachrichtlich:"]
["Fehlzeiten (z.B. Urlaub, Krankheit, Fortbildung)",null,{"$f":"'Stundennachweise Mitarbeiter G'!AI26","v":{"v":0,"d":"0.00"}},{"$f":"'Stundennachweise Mitarbeiter G'!AI62","v":{"v":0,"d":"0.00"}},{"$f":"'Stundennachweise Mitarbeiter G'!AI98","v":{"v":0,"d":"0.00"}},{"$f":"'Stundennachweise Mitarbeiter G'!AI134","v":{"v":0,"d":"0.00"}},{"$f":"'Stundennachweise Mitarbeiter G'!AI170","v":{"v":0,"d":"0.00"}},{"$f":"'Stundennachweise Mitarbeiter G'!AI206","v":{"v":0,"d":"0.00"}},{"$f":"'Stundennachweise Mitarbeiter G'!AI242","v":{"v":0,"d":"0.00"}},{"$f":"'Stundennachweise Mitarbeiter G'!AI278","v":{"v":0,"d":"0.00"}},{"$f":"'Stundennachweise Mitarbeiter G'!AI314","v":{"v":0,"d":"0.00"}},{"$f":"'Stundennachweise Mitarbeiter G'!AI350","v":{"v":0,"d":"0.00"}},{"$f":"'Stundennachweise Mitarbeiter G'!AI386","v":{"v":0,"d":"0.00"}},{"$f":"'Stundennachweise Mitarbeiter G'!AI422","v":{"v":0,"d":"0.00"}},{"$f":"SUM(C24:N24)","v":{"v":0,"d":"0.00"}}]
[]
[]
["2. Berechnung des Jahresstundensatzes"]
[]
[{"$nulls":11},"Jahresstundensatz"]
["Bruttojahreslohn/ -gehalt 1)",{"$nulls":8},"=",null,{"$f":"IF(G30=\"\",\"\",G30/G31)","v":""}]
["Jahresarbeitsstunden lt. Tarifvertrag/Betriebsvereinbarung/Arbeitsvertrag 2)"]
[]
[]
[]
[]
["1)   Personalkosten i.S. der Nr. 6.1.3 ANBest-P-Kosten"]
[]
["2)   Bei tatsächlich mehr geleisteten produktiven Gesamtstunden (vorhabenbezogene und sonstige) gelten diese Gesamtsunden als Divisor"]

{"sheet":"Stundennachweise Mitarbeiter H","index":15,"n_rows":432,"n_cols":35,"rows_kept":432,"merged":[[1,0,1,7],[1,29,1,34],[3,0,3,34],[4,0,4,34],[9,0,9,34],[12,11,12,34],[17,0,18,2],[17,34,18,34],[19,0,19,2],[20,0,20,2],[21,0,21,2],[25,0,25,2],[28,10,28,16],[29,10,29,16],[37,0,37,7],[37,29,37,34],[39,0,39,34],[40,0,40,34],[45,0,45,34],[48,11,48,34],[53,0,54,2],[53,34,54,34],[55,0,55,2],[56,0,56,2],[57,0,57,2],[61,0,61,2],[64,10,64,16],[65,10,65,16],[73,0,73,7],[73,29,73,34],[75,0,75,34],[76,0,76,34],[81,0,81,34],[84,11,84,34],[89,0,90,2],[89,34,90,34],[91,0,91,2],[92,0,92,2],[93,0,93,2],[97,0,97,2],[100,10,100,16],[101,10,101,16],[109,0,109,7],[109,29,109,34],[111,0,111,34],[112,0,112,34],[117,0,117,34],[120,11,120,34],[125,0,126,2],[125,34,126,34],[127,0,127,2],[128,0,128,2],[129,0,129,2],[133,0,133,2],[136,10,136,16],[137,10,137,16],[145,0,145,7],[145,29,145,34],[147,0,147,34],[148,0,148,34],[153,0,153,34],[156,11,156,34],[161,0,162,2],[161,34,162,34],[163,0,163,2],[164,0,164,2],[165,0,165,2],[169,0,169,2],[172,10,172,16],[173,10,173,16],[181,0,181,7],[181,29,181,34],[183,0,183,34],[184,0,184,34],[189,0,189,34],[192,11,192,34],[197,0,198,2],[197,34,198,34],[199,0,199,2],[200,0,200,2],[201,0,201,2],[205,0,205,2],[208,10,208,16],[209,10,209,16],[217,0,217,7],[217,29,217,34],[219,0,219,34],[220,0,220,34],[225,0,225,34],[228,11,228,34],[233,0,234,2],[233,34,234,34],[235,0,235,2],[236,0,236,2],[237,0,237,2],[241,0,241,2],[244,10,244,16],[245,10,245,16],[253,0,253,7],[253,29,253,34],[255,0,255,34],[256,0,256,34],[261,0,261,34],[264,11,264,34],[269,0,270,2],[269,34,270,34],[271,0,271,2],[272,0,272,2],[273,0,273,2],[277,0,277,2],[280,10,280,16],[281,10,281,16],[289,0,289,7],[289,29,289,34],[291,0,291,34],[292,0,292,34],[297,0,297,34],[300,11,300,34],[305,0,306,2],[305,34,306,34],[307,0,307,2],[308,0,308,2],[309,0,309,2],[313,0,313,2],[316,10,316,16],[317,10,317,16],[325,0,325,7],[325,29,325,34],[327,0,327,34],[328,0,328,34],[333,0,333,34],[336,11,336,34],[341,0,342,2],[341,34,342,34],[343,0,343,2],[344,0,344,2],[345,0,345,2],[349,0,349,2],[352,10,352,16],[353,10,353,16],[361,0,361,7],[361,29,361,34],[363,0,363,34],[364,0,364,34],[369,0,369,34],[372,11,372,34],[377,0,378,2],[377,34,378,34],[379,0,379,2],[380,0,380,2],[381,0,381,2],[385,0,385,2],[388,10,388,16],[389,10,389,16],[397,0,397,7],[397,29,397,34],[399,0,399,34],[400,0,400,34],[405,0,405,34],[408,11,408,34],[413,0,414,2],[413,34,414,34],[415,0,415,2],[416,0,416,2],[417,0,417,2],[421,0,421,2],[424,10,424,16],[425,10,425,16]]}
[]
[{"$nulls":23},"Förderkennzeichen :"]
["   Zuwendungsempfänger (Firmenstempel)"]
["Stundennachweis"]
["für pauschalierte Abrechnung gemäß Nr. 6 ANBest-P-Kosten (Anlage 1 zum Verwendungsnachweis)"]
[]
["Der Original-Stundennachweis verbleibt beim Zuwendungsempfänger."]
[]
["Vorhabenthema"]
[]
[]
["Monat",null,"Jahr",{"$nulls":8},"Mitarbeiter(in) [Name, Vorname]"]
["Januar"]
[]
["Die zu Lasten des Vorhabens abzurechnenden Personalstunden sind täglich eingenhändig von der betreffenden Person zu erfassen. Nur die produktiven, für das Vorhaben"]
["geleisteten Stundenn sind zuwendungsfähig."]
[]
["Tätigkeiten",null,null,"Arbeitszeiten in Stunden je Kalendertag",{"$nulls":30},"Summe der \nMonats- stunden"]
[{"$nulls":3},1,2,3,4,5,6,7,8,9,10,11,12,13,14,15,16,17,18,19,20,21,22,23,24,25,26,27,28,29,30,31]
["Vorhabenbezogen",{"$nulls":33},{"$f":"SUM(D20:AH20)","v":{"v":0,"d":"0.00"}}]
["Sonstige 1)",{"$nulls":33},{"$f":"SUM(D21:AH21)","v":{"v":0,"d":"0.00"}}]
["Produktive Gesamtstunden",null,null,{"$f":"SUM(D20:D21)","v":{"v":0,"d":"0.00"}},{"$f":"SUM(E20:E21)","v":{"v":0,"d":"0.00"}},{"v":0,"d":"0.00"},{"v":0,"d":"0.00"},{"v":0,"d":"0.00"},{"v":0,"d":"0.00"},{"v":0,"d":"0.00"},{"v":0,"d":"0.00"},{"v":0,"d":"0.00"},{"v":0,"d":"0.00"},{"v":0,"d":"0.00"},{"v":0,"d":"0.00"},{"v":0,"d":"0.00"},{"v":0,"d":"0.00"},{"v":0,"d":"0.00"},{"v":0,"d":"0.00"},{"v":0,"d":"0.00"},{"v":0,"d":"0.00"},{"v":0,"d":"0.00"},{"v":0,"d":"0.00"},{"v":0,"d":"0.00"},{"v":0,"d":"0.00"},{"v":0,"d":"0.00"},{"v":0,"d":"0.00"},{"v":0,"d":"0.00"},{"v":0,"d":"0.00"},{"v":0,"d":"0.00"},{"v":0,"d":"0.00"},{"v":0,"d":"0.00"},{"v":0,"d":"0.00"},{"v":0,"d":"0.00"},{"$f":"SUM(D22:AH22)","v":{"v":0,"d":"0.00"}}]
[]
[]
["nachrichtlich:"]
["Fehlzeiten (z.B. Urlaub, \nKrankheit, Fortbildung)",{"$nulls":33},{"$f":"SUM(D26:AH26)","v":{"v":0,"d":"0.00"}}]
[]
[]
["1)  ggf. Angabe des FKZ. anderer geförderter Projekte:"]
[]
[]
[]
[]
[]
[]
["Unterschrift des Vorgesetzten",{"$nulls":12},"Unterschrift des Mitarbeiters"]
[]
[{"$nulls":23},"Förderkennzeichen :",{"$nulls":5},{"$f":"IF($AD$2=\"\",\"\",$AD$2)","v":""}]
["   Zuwendungsempfänger (Firmenstempel)"]
["Stundennachweis"]
["für pauschalierte Abrechnung gemäß Nr. 6 ANBest-P-Kosten (Anlage 1 zum Verwendungsnachweis)"]
[]
["Der Original-Stundennachweis verbleibt beim Zuwendungsempfänger."]
[]
["Vorhabenthema"]
[{"$f":"IF($A$10=\"\",\"\",$A10)","v":""}]
[]
["Monat",null,"Jahr",{"$nulls":8},"Mitarbeiter(in) [Name, Vorname]"]
["Februar",null,{"$f":"C13","v":0},{"$nulls":8},{"$f":"IF($L$13=\"\",\"\",$L$13)","v":""}]
[]
["Die zu Lasten des Vorhabens abzurechnenden Personalstunden sind täglich eingenhändig von der betreffenden Person zu erfassen. Nur die produktiven, für das Vorhaben"]
["geleisteten Stundenn sind zuwendungsfähig."]
[]
["Tätigkeiten",null,null,"Arbeitszeiten in Stunden je Kalendertag",{"$nulls":30},"Summe der \nMonats- stunden"]
[{"$nulls":3},1,2,3,4,5,6,7,8,9,10,11,12,13,14,15,16,17,18,19,20,21,22,23,24,25,26,27,28,29,30,31]
["Vorhabenbezogen",{"$nulls":33},{"$f":"SUM(D56:AH56)","v":{"v":0,"d":"0.00"}}]
["Sonstige 1)",{"$nulls":33},{"$f":"SUM(D57:AH57)","v":{"v":0,"d":"0.00"}}]
["Produktive Gesamtstunden",null,null,{"$f":"SUM(D56:D57)","v":{"v":0,"d":"0.00"}},{"$f":"SUM(E56:E57)","v":{"v":0,"d":"0.00"}},{"v":0,"d":"0.00"},{"v":0,"d":"0.00"},{"v":0,"d":"0.00"},{"v":0,"d":"0.00"},{"v":0,"d":"0.00"},{"v":0,"d":"0.00"},{"v":0,"d":"0.00"},{"v":0,"d":"0.00"},{"v":0,"d":"0.00"},{"v":0,"d":"0.00"},{"v":0,"d":"0.00"},{"v":0,"d":"0.00"},{"v":0,"d":"0.00"},{"v":0,"d":"0.00"},{"v":0,"d":"0.00"},{"v":0,"d":"0.00"},{"v":0,"d":"0.00"},{"v":0,"d":"0.00"},{"v":0,"d":"0.00"},{"v":0,"d":"0.00"},{"v":0,"d":"0.00"},{"v":0,"d":"0.00"},{"v":0,"d":"0.00"},{"v":0,"d":"0.00"},{"v":0,"d":"0.00"},{"v":0,"d":"0.00"},{"v":0,"d":"0.00"},{"v":0,"d":"0.00"},{"v":0,"d":"0.00"},{"$f":"SUM(D58:AH58)","v":{"v":0,"d":"0.00"}}]
[]
[]
["nachrichtlich:"]
["Fehlzeiten (z.B. Urlaub, \nKrankheit, Fortbildung)",{"$nulls":33},{"$f":"SUM(D62:AH62)","v":{"v":0,"d":"0.00"}}]
[]
[]
["1)  ggf. Angabe des FKZ. anderer geförderter Projekte:"]
[]
[]
[]
[]
[]
[]
["Unterschrift des Vorgesetzten",{"$nulls":12},"Unterschrift des Mitarbeiters"]
[]
[{"$nulls":23},"Förderkennzeichen :",{"$nulls":5},{"$f":"IF($AD$2=\"\",\"\",$AD$2)","v":""}]
["   Zuwendungsempfänger (Firmenstempel)"]
["Stundennachweis"]
["für pauschalierte Abrechnung gemäß Nr. 6 ANBest-P-Kosten (Anlage 1 zum Verwendungsnachweis)"]
[]
["Der Original-Stundennachweis verbleibt beim Zuwendungsempfänger."]
[]
["Vorhabenthema"]
[{"$f":"IF($A$10=\"\",\"\",$A46)","v":""}]
[]
["Monat",null,"Jahr",{"$nulls":8},"Mitarbeiter(in) [Name, Vorname]"]
["März",null,{"$f":"C13","v":0},{"$nulls":8},{"$f":"IF($L$13=\"\",\"\",$L$13)","v":""}]
[]
["Die zu Lasten des Vorhabens abzurechnenden Personalstunden sind täglich eingenhändig von der betreffenden Person zu erfassen. Nur die produktiven, für das Vorhaben"]
["geleisteten Stundenn sind zuwendungsfähig."]
[]
["Tätigkeiten",null,null,"Arbeitszeiten in Stunden je Kalendertag",{"$nulls":30},"Summe der \nMonats- stunden"]
[{"$nulls":3},1,2,3,4,5,6,7,8,9,10,11,12,13,14,15,16,17,18,19,20,21,22,23,24,25,26,27,28,29,30,31]
["Vorhabenbezogen",{"$nulls":33},{"$f":"SUM(D92:AH92)","v":{"v":0,"d":"0.00"}}]
["Sonstige 1)",{"$nulls":33},{"$f":"SUM(D93:AH93)","v":{"v":0,"d":"0.00"}}]
["Produktive Gesamtstunden",null,null,{"$f":"SUM(D92:D93)","v":{"v":0,"d":"0.00"}},{"$f":"SUM(E92:E93)","v":{"v":0,"d":"0.00"}},{"v":0,"d":"0.00"},{"v":0,"d":"0.00"},{"v":0,"d":"0.00"},{"v":0,"d":"0.00"},{"v":0,"d":"0.00"},{"v":0,"d":"0.00"},{"v":0,"d":"0.00"},{"v":0,"d":"0.00"},{"v":0,"d":"0.00"},{"v":0,"d":"0.00"},{"v":0,"d":"0.00"},{"v":0,"d":"0.00"},{"v":0,"d":"0.00"},{"v":0,"d":"0.00"},{"v":0,"d":"0.00"},{"v":0,"d":"0.00"},{"v":0,"d":"0.00"},{"v":0,"d":"0.00"},{"v":0,"d":"0.00"},{"v":0,"d":"0.00"},{"v":0,"d":"0.00"},{"v":0,"d":"0.00"},{"v":0,"d":"0.00"},{"v":0,"d":"0.00"},{"v":0,"d":"0.00"},{"v":0,"d":"0.00"},{"v":0,"d":"0.00"},{"v":0,"d":"0.00"},{"v":0,"d":"0.00"},{"$f":"SUM(D94:AH94)","v":{"v":0,"d":"0.00"}}]
[]
[]
["nachrichtlich:"]
["Fehlzeiten (z.B. Urlaub, \nKrankheit, Fortbildung)",{"$nulls":33},{"$f":"SUM(D98:AH98)","v":{"v":0,"d":"0.00"}}]
[]
[]
["1)  ggf. Angabe des FKZ. anderer geförderter Projekte:"]
[]
[]
[]
[]
[]
[]
["Unterschrift des Vorgesetzten",{"$nulls":12},"Unterschrift des Mitarbeiters"]
[]
[{"$nulls":23},"Förderkennzeichen :",{"$nulls":5},{"$f":"IF($AD$2=\"\",\"\",$AD$2)","v":""}]
["   Zuwendungsempfänger (Firmenstempel)"]
["Stundennachweis"]
["für pauschalierte Abrechnung gemäß Nr. 6 ANBest-P-Kosten (Anlage 1 zum Verwendungsnachweis)"]
[]
["Der Original-Stundennachweis verbleibt beim Zuwendungsempfänger."]
[]
["Vorhabenthema"]
[{"$f":"IF($A$10=\"\",\"\",$A82)","v":""}]
[]
["Monat",null,"Jahr",{"$nulls":8},"Mitarbeiter(in) [Name, Vorname]"]
["April",null,{"$f":"C13","v":0},{"$nulls":8},{"$f":"IF($L$13=\"\",\"\",$L$13)","v":""}]
[]
["Die zu Lasten des Vorhabens abzurechnenden Personalstunden sind täglich eingenhändig von der betreffenden Person zu erfassen. Nur die produktiven, für das Vorhaben"]
["geleisteten Stundenn sind zuwendungsfähig."]
[]
["Tätigkeiten",null,null,"Arbeitszeiten in Stunden je Kalendertag",{"$nulls":30},"Summe der \nMonats- stunden"]
[{"$nulls":3},1,2,3,4,5,6,7,8,9,10,11,12,13,14,15,16,17,18,19,20,21,22,23,24,25,26,27,28,29,30,31]
["Vorhabenbezogen",{"$nulls":33},{"$f":"SUM(D128:AH128)","v":{"v":0,"d":"0.00"}}]
["Sonstige 1)",{"$nulls":33},{"$f":"SUM(D129:AH129)","v":{"v":0,"d":"0.00"}}]
["Produktive Gesamtstunden",null,null,{"$f":"SUM(D128:D129)","v":{"v":0,"d":"0.00"}},{"$f":"SUM(E128:E129)","v":{"v":0,"d":"0.00"}},{"v":0,"d":"0.00"},{"v":0,"d":"0.00"},{"v":0,"d":"0.00"},{"v":0,"d":"0.00"},{"v":0,"d":"0.00"},{"v":0,"d":"0.00"},{"v":0,"d":"0.00"},{"v":0,"d":"0.00"},{"v":0,"d":"0.00"},{"v":0,"d":"0.00"},{"v":0,"d":"0.00"},{"v":0,"d":"0.00"},{"v":0,"d":"0.00"},{"v":0,"d":"0.00"},{"v":0,"d":"0.00"},{"v":0,"d":"0.00"},{"v":0,"d":"0.00"},{"v":0,"d":"0.00"},{"v":0,"d":"0.00"},{"v":0,"d":"0.00"},{"v":0,"d":"0.00"},{"v":0,"d":"0.00"},{"v":0,"d":"0.00"},{"v":0,"d":"0.00"},{"v":0,"d":"0.00"},{"v":0,"d":"0.00"},{"v":0,"d":"0.00"},{"v":0,"d":"0.00"},{"v":0,"d":"0.00"},{"$f":"SUM(D130:AH130)","v":{"v":0,"d":"0.00"}}]
[]
[]
["nachrichtlich:"]
["Fehlzeiten (z.B. Urlaub, \nKrankheit, Fortbildung)",{"$nulls":33},{"$f":"SUM(D134:AH134)","v":{"v":0,"d":"0.00"}}]
[]
[]
["1)  ggf. Angabe des FKZ. anderer geförderter Projekte:"]
[]
[]
[]
[]
[]
[]
["Unterschrift des Vorgesetzten",{"$nulls":12},"Unterschrift des Mitarbeiters"]
[]
[{"$nulls":23},"Förderkennzeichen :",{"$nulls":5},{"$f":"IF($AD$2=\"\",\"\",$AD$2)","v":""}]
["   Zuwendungsempfänger (Firmenstempel)"]
["Stundennachweis"]
["für pauschalierte Abrechnung gemäß Nr. 6 ANBest-P-Kosten (Anlage 1 zum Verwendungsnachweis)"]
[]
["Der Original-Stundennachweis verbleibt beim Zuwendungsempfänger."]
[]
["Vorhabenthema"]
[{"$f":"IF($A$10=\"\",\"\",$A118)","v":""}]
[]
["Monat",null,"Jahr",{"$nulls":8},"Mitarbeiter(in) [Name, Vorname]"]
["Mai",null,{"$f":"C13","v":0},{"$nulls":8},{"$f":"IF($L$13=\"\",\"\",$L$13)","v":""}]
[]
["Die zu Lasten des Vorhabens abzurechnenden Personalstunden sind täglich eingenhändig von der betreffenden Person zu erfassen. Nur die produktiven, für das Vorhaben"]
["geleisteten Stundenn sind zuwendungsfähig."]
[]
["Tätigkeiten",null,null,"Arbeitszeiten in Stunden je Kalendertag",{"$nulls":30},"Summe der \nMonats- stunden"]
[{"$nulls":3},1,2,3,4,5,6,7,8,9,10,11,12,13,14,15,16,17,18,19,20,21,22,23,24,25,26,27,28,29,30,31]
["Vorhabenbezogen",{"$nulls":33},{"$f":"SUM(D164:AH164)","v":{"v":0,"d":"0.00"}}]
["Sonstige 1)",{"$nulls":33},{"$f":"SUM(D165:AH165)","v":{"v":0,"d":"0.00"}}]
["Produktive Gesamtstunden",null,null,{"$f":"SUM(D164:D165)","v":{"v":0,"d":"0.00"}},{"$f":"SUM(E164:E165)","v":{"v":0,"d":"0.00"}},{"v":0,"d":"0.00"},{"v":0,"d":"0.00"},{"v":0,"d":"0.00"},{"v":0,"d":"0.00"},{"v":0,"d":"0.00"},{"v":0,"d":"0.00"},{"v":0,"d":"0.00"},{"v":0,"d":"0.00"},{"v":0,"d":"0.00"},{"v":0,"d":"0.00"},{"v":0,"d":"0.00"},{"v":0,"d":"0.00"},{"v":0,"d":"0.00"},{"v":0,"d":"0.00"},{"v":0,"d":"0.00"},{"v":0,"d":"0.00"},{"v":0,"d":"0.00"},{"v":0,"d":"0.00"},{"v":0,"d":"0.00"},{"v":0,"d":"0.00"},{"v":0,"d":"0.00"},{"v":0,"d":"0.00"},{"v":0,"d":"0.00"},{"v":0,"d":"0.00"},{"v":0,"d":"0.00"},{"v":0,"d":"0.00"},{"v":0,"d":"0.00"},{"v":0,"d":"0.00"},{"v":0,"d":"0.00"},{"$f":"SUM(D166:AH166)","v":{"v":0,"d":"0.00"}}]
[]
[]
["nachrichtlich:"]
["Fehlzeiten (z.B. Urlaub, \nKrankheit, Fortbildung)",{"$nulls":33},{"$f":"SUM(D170:AH170)","v":{"v":0,"d":"0.00"}}]
[]
[]
["1)  ggf. Angabe des FKZ. anderer geförderter Projekte:"]
[]
[]
[]
[]
[]
[]
["Unterschrift des Vorgesetzten",{"$nulls":12},"Unterschrift des Mitarbeiters"]
[]
[{"$nulls":23},"Förderkennzeichen :",{"$nulls":5},{"$f":"IF($AD$2=\"\",\"\",$AD$2)","v":""}]
["   Zuwendungsempfänger (Firmenstempel)"]
["Stundennachweis"]
["für pauschalierte Abrechnung gemäß Nr. 6 ANBest-P-Kosten (Anlage 1 zum Verwendungsnachweis)"]
[]
["Der Original-Stundennachweis verbleibt beim Zuwendungsempfänger."]
[]
["Vorhabenthema"]
[{"$f":"IF($A$10=\"\",\"\",$A154)","v":""}]
[]
["Monat",null,"Jahr",{"$nulls":8},"Mitarbeiter(in) [Name, Vorname]"]
["Juni",null,{"$f":"C13","v":0},{"$nulls":8},{"$f":"IF($L$13=\"\",\"\",$L$13)","v":""}]
[]
["Die zu Lasten des Vorhabens abzurechnenden Personalstunden sind täglich eingenhändig von der betreffenden Person zu erfassen. Nur die produktiven, für das Vorhaben"]
["geleisteten Stundenn sind zuwendungsfähig."]
[]
["Tätigkeiten",null,null,"Arbeitszeiten in Stunden je Kalendertag",{"$nulls":30},"Summe der \nMonats- stunden"]
[{"$nulls":3},1,2,3,4,5,6,7,8,9,10,11,12,13,14,15,16,17,18,19,20,21,22,23,24,25,26,27,28,29,30,31]
["Vorhabenbezogen",{"$nulls":33},{"$f":"SUM(D200:AH200)","v":{"v":0,"d":"0.00"}}]
["Sonstige 1)",{"$nulls":33},{"$f":"SUM(D201:AH201)","v":{"v":0,"d":"0.00"}}]
["Produktive Gesamtstunden",null,null,{"$f":"SUM(D200:D201)","v":{"v":0,"d":"0.00"}},{"$f":"SUM(E200:E201)","v":{"v":0,"d":"0.00"}},{"v":0,"d":"0.00"},{"v":0,"d":"0.00"},{"v":0,"d":"0.00"},{"v":0,"d":"0.00"},{"v":0,"d":"0.00"},{"v":0,"d":"0.00"},{"v":0,"d":"0.00"},{"v":0,"d":"0.00"},{"v":0,"d":"0.00"},{"v":0,"d":"0.00"},{"v":0,"d":"0.00"},{"v":0,"d":"0.00"},{"v":0,"d":"0.00"},{"v":0,"d":"0.00"},{"v":0,"d":"0.00"},{"v":0,"d":"0.00"},{"v":0,"d":"0.00"},{"v":0,"d":"0.00"},{"v":0,"d":"0.00"},{"v":0,"d":"0.00"},{"v":0,"d":"0.00"},{"v":0,"d":"0.00"},{"v":0,"d":"0.00"},{"v":0,"d":"0.00"},{"v":0,"d":"0.00"},{"v":0,"d":"0.00"},{"v":0,"d":"0.00"},{"v":0,"d":"0.00"},{"v":0,"d":"0.00"},{"$f":"SUM(D202:AH202)","v":{"v":0,"d":"0.00"}}]
[]
[]
["nachrichtlich:"]
["Fehlzeiten (z.B. Urlaub, \nKrankheit, Fortbildung)",{"$nulls":33},{"$f":"SUM(D206:AH206)","v":{"v":0,"d":"0.00"}}]
[]
[]
["1)  ggf. Angabe des FKZ. anderer geförderter Projekte:"]
[]
[]
[]
[]
[]
[]
["Unterschrift des Vorgesetzten",{"$nulls":12},"Unterschrift des Mitarbeiters"]
[]
[{"$nulls":23},"Förderkennzeichen :",{"$nulls":5},{"$f":"IF($AD$2=\"\",\"\",$AD$2)","v":""}]
["   Zuwendungsempfänger (Firmenstempel)"]
["Stundennachweis"]
["für pauschalierte Abrechnung gemäß Nr. 6 ANBest-P-Kosten (Anlage 1 zum Verwendungsnachweis)"]
[]
["Der Original-Stundennachweis verbleibt beim Zuwendungsempfänger."]
[]
["Vorhabenthema"]
[{"$f":"IF($A$10=\"\",\"\",$A190)","v":""}]
[]
["Monat",null,"Jahr",{"$nulls":8},"Mitarbeiter(in) [Name, Vorname]"]
["Juli",null,{"$f":"C13","v":0},{"$nulls":8},{"$f":"IF($L$13=\"\",\"\",$L$13)","v":""}]
[]
["Die zu Lasten des Vorhabens abzurechnenden Personalstunden sind täglich eingenhändig von der betreffenden Person zu erfassen. Nur die produktiven, für das Vorhaben"]
["geleisteten Stundenn sind zuwendungsfähig."]
[]
["Tätigkeiten",null,null,"Arbeitszeiten in Stunden je Kalendertag",{"$nulls":30},"Summe der \nMonats- stunden"]
[{"$nulls":3},1,2,3,4,5,6,7,8,9,10,11,12,13,14,15,16,17,18,19,20,21,22,23,24,25,26,27,28,29,30,31]
["Vorhabenbezogen",{"$nulls":33},{"$f":"SUM(D236:AH236)","v":{"v":0,"d":"0.00"}}]
["Sonstige 1)",{"$nulls":33},{"$f":"SUM(D237:AH237)","v":{"v":0,"d":"0.00"}}]
["Produktive Gesamtstunden",null,null,{"$f":"SUM(D236:D237)","v":{"v":0,"d":"0.00"}},{"$f":"SUM(E236:E237)","v":{"v":0,"d":"0.00"}},{"v":0,"d":"0.00"},{"v":0,"d":"0.00"},{"v":0,"d":"0.00"},{"v":0,"d":"0.00"},{"v":0,"d":"0.00"},{"v":0,"d":"0.00"},{"v":0,"d":"0.00"},{"v":0,"d":"0.00"},{"v":0,"d":"0.00"},{"v":0,"d":"0.00"},{"v":0,"d":"0.00"},{"v":0,"d":"0.00"},{"v":0,"d":"0.00"},{"v":0,"d":"0.00"},{"v":0,"d":"0.00"},{"v":0,"d":"0.00"},{"v":0,"d":"0.00"},{"v":0,"d":"0.00"},{"v":0,"d":"0.00"},{"v":0,"d":"0.00"},{"v":0,"d":"0.00"},{"v":0,"d":"0.00"},{"v":0,"d":"0.00"},{"v":0,"d":"0.00"},{"v":0,"d":"0.00"},{"v":0,"d":"0.00"},{"v":0,"d":"0.00"},{"v":0,"d":"0.00"},{"v":0,"d":"0.00"},{"$f":"SUM(D238:AH238)","v":{"v":0,"d":"0.00"}}]
[]
[]
["nachrichtlich:"]
["Fehlzeiten (z.B. Urlaub, \nKrankheit, Fortbildung)",{"$nulls":33},{"$f":"SUM(D242:AH242)","v":{"v":0,"d":"0.00"}}]
[]
[]
["1)  ggf. Angabe des FKZ. anderer geförderter Projekte:"]
[]
[]
[]
[]
[]
[]
["Unterschrift des Vorgesetzten",{"$nulls":12},"Unterschrift des Mitarbeiters"]
[]
[{"$nulls":23},"Förderkennzeichen :",{"$nulls":5},{"$f":"IF($AD$2=\"\",\"\",$AD$2)","v":""}]
["   Zuwendungsempfänger (Firmenstempel)"]
["Stundennachweis"]
["für pauschalierte Abrechnung gemäß Nr. 6 ANBest-P-Kosten (Anlage 1 zum Verwendungsnachweis)"]
[]
["Der Original-Stundennachweis verbleibt beim Zuwendungsempfänger."]
[]
["Vorhabenthema"]
[{"$f":"IF($A$10=\"\",\"\",$A226)","v":""}]
[]
["Monat",null,"Jahr",{"$nulls":8},"Mitarbeiter(in) [Name, Vorname]"]
["August",null,{"$f":"C13","v":0},{"$nulls":8},{"$f":"IF($L$13=\"\",\"\",$L$13)","v":""}]
[]
["Die zu Lasten des Vorhabens abzurechnenden Personalstunden sind täglich eingenhändig von der betreffenden Person zu erfassen. Nur die produktiven, für das Vorhaben"]
["geleisteten Stundenn sind zuwendungsfähig."]
[]
["Tätigkeiten",null,null,"Arbeitszeiten in Stunden je Kalendertag",{"$nulls":30},"Summe der \nMonats- stunden"]
[{"$nulls":3},1,2,3,4,5,6,7,8,9,10,11,12,13,14,15,16,17,18,19,20,21,22,23,24,25,26,27,28,29,30,31]
["Vorhabenbezogen",{"$nulls":33},{"$f":"SUM(D272:AH272)","v":{"v":0,"d":"0.00"}}]
["Sonstige 1)",{"$nulls":33},{"$f":"SUM(D273:AH273)","v":{"v":0,"d":"0.00"}}]
["Produktive Gesamtstunden",null,null,{"$f":"SUM(D272:D273)","v":{"v":0,"d":"0.00"}},{"$f":"SUM(E272:E273)","v":{"v":0,"d":"0.00"}},{"v":0,"d":"0.00"},{"v":0,"d":"0.00"},{"v":0,"d":"0.00"},{"v":0,"d":"0.00"},{"v":0,"d":"0.00"},{"v":0,"d":"0.00"},{"v":0,"d":"0.00"},{"v":0,"d":"0.00"},{"v":0,"d":"0.00"},{"v":0,"d":"0.00"},{"v":0,"d":"0.00"},{"v":0,"d":"0.00"},{"v":0,"d":"0.00"},{"v":0,"d":"0.00"},{"v":0,"d":"0.00"},{"v":0,"d":"0.00"},{"v":0,"d":"0.00"},{"v":0,"d":"0.00"},{"v":0,"d":"0.00"},{"v":0,"d":"0.00"},{"v":0,"d":"0.00"},{"v":0,"d":"0.00"},{"v":0,"d":"0.00"},{"v":0,"d":"0.00"},{"v":0,"d":"0.00"},{"v":0,"d":"0.00"},{"v":0,"d":"0.00"},{"v":0,"d":"0.00"},{"v":0,"d":"0.00"},{"$f":"SUM(D274:AH274)","v":{"v":0,"d":"0.00"}}]
[]
[]
["nachrichtlich:"]
["Fehlzeiten (z.B. Urlaub, \nKrankheit, Fortbildung)",{"$nulls":33},{"$f":"SUM(D278:AH278)","v":{"v":0,"d":"0.00"}}]
[]
[]
["1)  ggf. Angabe des FKZ. anderer geförderter Projekte:"]
[]
[]
[]
[]
[]
[]
["Unterschrift des Vorgesetzten",{"$nulls":12},"Unterschrift des Mitarbeiters"]
[]
[{"$nulls":23},"Förderkennzeichen :",{"$nulls":5},{"$f":"IF($AD$2=\"\",\"\",$AD$2)","v":""}]
["   Zuwendungsempfänger (Firmenstempel)"]
["Stundennachweis"]
["für pauschalierte Abrechnung gemäß Nr. 6 ANBest-P-Kosten (Anlage 1 zum Verwendungsnachweis)"]
[]
["Der Original-Stundennachweis verbleibt beim Zuwendungsempfänger."]
[]
["Vorhabenthema"]
[{"$f":"IF($A$10=\"\",\"\",$A262)","v":""}]
[]
["Monat",null,"Jahr",{"$nulls":8},"Mitarbeiter(in) [Name, Vorname]"]
["September",null,{"$f":"C13","v":0},{"$nulls":8},{"$f":"IF($L$13=\"\",\"\",$L$13)","v":""}]
[]
["Die zu Lasten des Vorhabens abzurechnenden Personalstunden sind täglich eingenhändig von der betreffenden Person zu erfassen. Nur die produktiven, für das Vorhaben"]
["geleisteten Stundenn sind zuwendungsfähig."]
[]
["Tätigkeiten",null,null,"Arbeitszeiten in Stunden je Kalendertag",{"$nulls":30},"Summe der \nMonats- stunden"]
[{"$nulls":3},1,2,3,4,5,6,7,8,9,10,11,12,13,14,15,16,17,18,19,20,21,22,23,24,25,26,27,28,29,30,31]
["Vorhabenbezogen",{"$nulls":33},{"$f":"SUM(D308:AH308)","v":{"v":0,"d":"0.00"}}]
["Sonstige 1)",{"$nulls":33},{"$f":"SUM(D309:AH309)","v":{"v":0,"d":"0.00"}}]
["Produktive Gesamtstunden",null,null,{"$f":"SUM(D308:D309)","v":{"v":0,"d":"0.00"}},{"$f":"SUM(E308:E309)","v":{"v":0,"d":"0.00"}},{"v":0,"d":"0.00"},{"v":0,"d":"0.00"},{"v":0,"d":"0.00"},{"v":0,"d":"0.00"},{"v":0,"d":"0.00"},{"v":0,"d":"0.00"},{"v":0,"d":"0.00"},{"v":0,"d":"0.00"},{"v":0,"d":"0.00"},{"v":0,"d":"0.00"},{"v":0,"d":"0.00"},{"v":0,"d":"0.00"},{"v":0,"d":"0.00"},{"v":0,"d":"0.00"},{"v":0,"d":"0.00"},{"v":0,"d":"0.00"},{"v":0,"d":"0.00"},{"v":0,"d":"0.00"},{"v":0,"d":"0.00"},{"v":0,"d":"0.00"},{"v":0,"d":"0.00"},{"v":0,"d":"0.00"},{"v":0,"d":"0.00"},{"v":0,"d":"0.00"},{"v":0,"d":"0.00"},{"v":0,"d":"0.00"},{"v":0,"d":"0.00"},{"v":0,"d":"0.00"},{"v":0,"d":"0.00"},{"$f":"SUM(D310:AH310)","v":{"v":0,"d":"0.00"}}]
[]
[]
["nachrichtlich:"]
["Fehlzeiten (z.B. Urlaub, \nKrankheit, Fortbildung)",{"$nulls":33},{"$f":"SUM(D314:AH314)","v":{"v":0,"d":"0.00"}}]
[]
[]
["1)  ggf. Angabe des FKZ. anderer geförderter Projekte:"]
[]
[]
[]
[]
[]
[]
["Unterschrift des Vorgesetzten",{"$nulls":12},"Unterschrift des Mitarbeiters"]
[]
[{"$nulls":23},"Förderkennzeichen :",{"$nulls":5},{"$f":"IF($AD$2=\"\",\"\",$AD$2)","v":""}]
["   Zuwendungsempfänger (Firmenstempel)"]
["Stundennachweis"]
["für pauschalierte Abrechnung gemäß Nr. 6 ANBest-P-Kosten (Anlage 1 zum Verwendungsnachweis)"]
[]
["Der Original-Stundennachweis verbleibt beim Zuwendungsempfänger."]
[]
["Vorhabenthema"]
[{"$f":"IF($A$10=\"\",\"\",$A298)","v":""}]
[]
["Monat",null,"Jahr",{"$nulls":8},"Mitarbeiter(in) [Name, Vorname]"]
["Oktober",null,{"$f":"C13","v":0},{"$nulls":8},{"$f":"IF($L$13=\"\",\"\",$L$13)","v":""}]
[]
["Die zu Lasten des Vorhabens abzurechnenden Personalstunden sind täglich eingenhändig von der betreffenden Person zu erfassen. Nur die produktiven, für das Vorhaben"]
["geleisteten Stundenn sind zuwendungsfähig."]
[]
["Tätigkeiten",null,null,"Arbeitszeiten in Stunden je Kalendertag",{"$nulls":30},"Summe der \nMonats- stunden"]
[{"$nulls":3},1,2,3,4,5,6,7,8,9,10,11,12,13,14,15,16,17,18,19,20,21,22,23,24,25,26,27,28,29,30,31]
["Vorhabenbezogen",{"$nulls":33},{"$f":"SUM(D344:AH344)","v":{"v":0,"d":"0.00"}}]
["Sonstige 1)",{"$nulls":33},{"$f":"SUM(D345:AH345)","v":{"v":0,"d":"0.00"}}]
["Produktive Gesamtstunden",null,null,{"$f":"SUM(D344:D345)","v":{"v":0,"d":"0.00"}},{"$f":"SUM(E344:E345)","v":{"v":0,"d":"0.00"}},{"v":0,"d":"0.00"},{"v":0,"d":"0.00"},{"v":0,"d":"0.00"},{"v":0,"d":"0.00"},{"v":0,"d":"0.00"},{"v":0,"d":"0.00"},{"v":0,"d":"0.00"},{"v":0,"d":"0.00"},{"v":0,"d":"0.00"},{"v":0,"d":"0.00"},{"v":0,"d":"0.00"},{"v":0,"d":"0.00"},{"v":0,"d":"0.00"},{"v":0,"d":"0.00"},{"v":0,"d":"0.00"},{"v":0,"d":"0.00"},{"v":0,"d":"0.00"},{"v":0,"d":"0.00"},{"v":0,"d":"0.00"},{"v":0,"d":"0.00"},{"v":0,"d":"0.00"},{"v":0,"d":"0.00"},{"v":0,"d":"0.00"},{"v":0,"d":"0.00"},{"v":0,"d":"0.00"},{"v":0,"d":"0.00"},{"v":0,"d":"0.00"},{"v":0,"d":"0.00"},{"v":0,"d":"0.00"},{"$f":"SUM(D346:AH346)","v":{"v":0,"d":"0.00"}}]
[]
[]
["nachrichtlich:"]
["Fehlzeiten (z.B. Urlaub, \nKrankheit, Fortbildung)",{"$nulls":33},{"$f":"SUM(D350:AH350)","v":{"v":0,"d":"0.00"}}]
[]
[]
["1)  ggf. Angabe des FKZ. anderer geförderter Projekte:"]
[]
[]
[]
[]
[]
[]
["Unterschrift des Vorgesetzten",{"$nulls":12},"Unterschrift des Mitarbeiters"]
[]
[{"$nulls":23},"Förderkennzeichen :",{"$nulls":5},{"$f":"IF($AD$2=\"\",\"\",$AD$2)","v":""}]
["   Zuwendungsempfänger (Firmenstempel)"]
["Stundennachweis"]
["für pauschalierte Abrechnung gemäß Nr. 6 ANBest-P-Kosten (Anlage 1 zum Verwendungsnachweis)"]
[]
["Der Original-Stundennachweis verbleibt beim Zuwendungsempfänger."]
[]
["Vorhabenthema"]
[{"$f":"IF($A$10=\"\",\"\",$A334)","v":""}]
[]
["Monat",null,"Jahr",{"$nulls":8},"Mitarbeiter(in) [Name, Vorname]"]
["November",null,{"$f":"C13","v":0},{"$nulls":8},{"$f":"IF($L$13=\"\",\"\",$L$13)","v":""}]
[]
["Die zu Lasten des Vorhabens abzurechnenden Personalstunden sind täglich eingenhändig von der betreffenden Person zu erfassen. Nur die produktiven, für das Vorhaben"]
["geleisteten Stundenn sind zuwendungsfähig."]
[]
["Tätigkeiten",null,null,"Arbeitszeiten in Stunden je Kalendertag",{"$nulls":30},"Summe der \nMonats- stunden"]
[{"$nulls":3},1,2,3,4,5,6,7,8,9,10,11,12,13,14,15,16,17,18,19,20,21,22,23,24,25,26,27,28,29,30,31]
["Vorhabenbezogen",{"$nulls":33},{"$f":"SUM(D380:AH380)","v":{"v":0,"d":"0.00"}}]
["Sonstige 1)",{"$nulls":33},{"$f":"SUM(D381:AH381)","v":{"v":0,"d":"0.00"}}]
["Produktive Gesamtstunden",null,null,{"$f":"SUM(D380:D381)","v":{"v":0,"d":"0.00"}},{"$f":"SUM(E380:E381)","v":{"v":0,"d":"0.00"}},{"v":0,"d":"0.00"},{"v":0,"d":"0.00"},{"v":0,"d":"0.00"},{"v":0,"d":"0.00"},{"v":0,"d":"0.00"},{"v":0,"d":"0.00"},{"v":0,"d":"0.00"},{"v":0,"d":"0.00"},{"v":0,"d":"0.00"},{"v":0,"d":"0.00"},{"v":0,"d":"0.00"},{"v":0,"d":"0.00"},{"v":0,"d":"0.00"},{"v":0,"d":"0.00"},{"v":0,"d":"0.00"},{"v":0,"d":"0.00"},{"v":0,"d":"0.00"},{"v":0,"d":"0.00"},{"v":0,"d":"0.00"},{"v":0,"d":"0.00"},{"v":0,"d":"0.00"},{"v":0,"d":"0.00"},{"v":0,"d":"0.00"},{"v":0,"d":"0.00"},{"v":0,"d":"0.00"},{"v":0,"d":"0.00"},{"v":0,"d":"0.00"},{"v":0,"d":"0.00"},{"v":0,"d":"0.00"},{"$f":"SUM(D382:AH382)","v":{"v":0,"d":"0.00"}}]
[]
[]
["nachrichtlich:"]
["Fehlzeiten (z.B. Urlaub, \nKrankheit, Fortbildung)",{"$nulls":33},{"$f":"SUM(D386:AH386)","v":{"v":0,"d":"0.00"}}]
[]
[]
["1)  ggf. Angabe des FKZ. anderer geförderter Projekte:"]
[]
[]
[]
[]
[]
[]
["Unterschrift des Vorgesetzten",{"$nulls":12},"Unterschrift des Mitarbeiters"]
[]
[{"$nulls":23},"Förderkennzeichen :",{"$nulls":5},{"$f":"IF($AD$2=\"\",\"\",$AD$2)","v":""}]
["   Zuwendungsempfänger (Firmenstempel)"]
["Stundennachweis"]
["für pauschalierte Abrechnung gemäß Nr. 6 ANBest-P-Kosten (Anlage 1 zum Verwendungsnachweis)"]
[]
["Der Original-Stundennachweis verbleibt beim Zuwendungsempfänger."]
[]
["Vorhabenthema"]
[{"$f":"IF($A$10=\"\",\"\",$A370)","v":""}]
[]
["Monat",null,"Jahr",{"$nulls":8},"Mitarbeiter(in) [Name, Vorname]"]
["Dezember",null,{"$f":"C13","v":0},{"$nulls":8},{"$f":"IF($L$13=\"\",\"\",$L$13)","v":""}]
[]
["Die zu Lasten des Vorhabens abzurechnenden Personalstunden sind täglich eingenhändig von der betreffenden Person zu erfassen. Nur die produktiven, für das Vorhaben"]
["geleisteten Stundenn sind zuwendungsfähig."]
[]
["Tätigkeiten",null,null,"Arbeitszeiten in Stunden je Kalendertag",{"$nulls":30},"Summe der \nMonats- stunden"]
[{"$nulls":3},1,2,3,4,5,6,7,8,9,10,11,12,13,14,15,16,17,18,19,20,21,22,23,24,25,26,27,28,29,30,31]
["Vorhabenbezogen",{"$nulls":33},{"$f":"SUM(D416:AH416)","v":{"v":0,"d":"0.00"}}]
["Sonstige 1)",{"$nulls":33},{"$f":"SUM(D417:AH417)","v":{"v":0,"d":"0.00"}}]
["Produktive Gesamtstunden",null,null,{"$f":"SUM(D416:D417)","v":0},{"$f":"SUM(E416:E417)","v":{"v":0,"d":"0.00"}},{"v":0,"d":"0.00"},{"v":0,"d":"0.00"},{"v":0,"d":"0.00"},{"v":0,"d":"0.00"},{"v":0,"d":"0.00"},{"v":0,"d":"0.00"},{"v":0,"d":"0.00"},{"v":0,"d":"0.00"},{"v":0,"d":"0.00"},{"v":0,"d":"0.00"},{"v":0,"d":"0.00"},{"v":0,"d":"0.00"},{"v":0,"d":"0.00"},{"v":0,"d":"0.00"},{"v":0,"d":"0.00"},{"v":0,"d":"0.00"},{"v":0,"d":"0.00"},{"v":0,"d":"0.00"},{"v":0,"d":"0.00"},{"v":0,"d":"0.00"},{"v":0,"d":"0.00"},{"v":0,"d":"0.00"},{"v":0,"d":"0.00"},{"v":0,"d":"0.00"},{"v":0,"d":"0.00"},{"v":0,"d":"0.00"},{"v":0,"d":"0.00"},{"v":0,"d":"0.00"},{"v":0,"d":"0.00"},{"$f":"SUM(D418:AH418)","v":{"v":0,"d":"0.00"}}]
[]
[]
["nachrichtlich:"]
["Fehlzeiten (z.B. Urlaub, \nKrankheit, Fortbildung)",{"$nulls":33},{"$f":"SUM(D422:AH422)","v":{"v":0,"d":"0.00"}}]
[]
[]
["1)  ggf. Angabe des FKZ. anderer geförderter Projekte:"]
[]
[]
[]
[]
[]
[]
["Unterschrift des Vorgesetzten",{"$nulls":12},"Unterschrift des Mitarbeiters"]

{"sheet":"Jahresstd.satz Mitarbeiter H","index":16,"n_rows":38,"n_cols":15,"rows_kept":38,"merged":[[1,0,1,3],[1,8,1,10],[1,11,1,14],[5,0,5,14],[6,0,6,14],[10,0,10,14],[13,4,13,14],[16,0,17,1],[16,14,17,14],[18,0,18,1],[19,0,19,1],[20,0,20,1],[28,11,28,13],[29,6,29,8],[29,9,30,10],[29,11,30,13],[30,6,30,8]]}
[]
[{"$nulls":8},"Förderkennzeichen:       ",null,null,{"$f":"IF('Stundennachweise Mitarbeiter H'!AD2=0,\"\",'Stundennachweise Mitarbeiter H'!AD2)","v":""}]
["   Zuwendungsempfänger (Firmenstempel)"]
[]
[]
["Ermittlung des Jahresstundensatzes"]
["bei pauschalierter Abrechnung gemäß Nr. 6 ANBest-P-Kosten (Anlage 2 zum Verwendungsnachweis)"]
[]
[]
["Vorhabenthema"]
[{"$f":"IF('Stundennachweise Mitarbeiter H'!A10:AI10=\"\",\"\",'Stundennachweise Mitarbeiter H'!A10:AI10)","v":""}]
[]
["Jahr",{"$nulls":3},"Mitarbeiter(in) [Name, Vorname]"]
[{"$f":"IF('Stundennachweise Mitarbeiter H'!C13=\"\",\"\",'Stundennachweise Mitarbeiter H'!C13)","v":""},{"$nulls":3},{"$f":"IF('Stundennachweise Mitarbeiter H'!L13=\"\",\"\",'Stundennachweise Mitarbeiter H'!L13)","v":""}]
[]
["1. Jahresstunden lt. monatlichen Stundennachweisen"]
["Tätigkeiten",null,"Arbeitszeit in Stunden je Monat:",{"$nulls":11},"Summe der Jahresstunden"]
[null,null,"Januar","Februar","März","April","Mai","Juni","Juli","August","Sept.","Oktober","Nov.","Dez."]
["Vorhabenbezogen",null,{"$f":"'Stundennachweise Mitarbeiter H'!AI20","v":{"v":0,"d":"0.00"}},{"$f":"'Stundennachweise Mitarbeiter H'!AI56","v":{"v":0,"d":"0.00"}},{"$f":"'Stundennachweise Mitarbeiter H'!AI92","v":{"v":0,"d":"0.00"}},{"$f":"'Stundennachweise Mitarbeiter H'!AI128","v":{"v":0,"d":"0.00"}},{"$f":"'Stundennachweise Mitarbeiter H'!AI164","v":{"v":0,"d":"0.00"}},{"$f":"'Stundennachweise Mitarbeiter H'!AI200","v":{"v":0,"d":"0.00"}},{"$f":"'Stundennachweise Mitarbeiter H'!AI236","v":{"v":0,"d":"0.00"}},{"$f":"'Stundennachweise Mitarbeiter H'!AI272","v":{"v":0,"d":"0.00"}},{"$f":"'Stundennachweise Mitarbeiter H'!AI308","v":{"v":0,"d":"0.00"}},{"$f":"'Stundennachweise Mitarbeiter H'!AI344","v":{"v":0,"d":"0.00"}},{"$f":"'Stundennachweise Mitarbeiter H'!AI380","v":{"v":0,"d":"0.00"}},{"$f":"'Stundennachweise Mitarbeiter H'!AI416","v":{"v":0,"d":"0.00"}},{"$f":"SUM(C19:N19)","v":{"v":0,"d":"0.00"}}]
["Sonstige",null,{"$f":"'Stundennachweise Mitarbeiter H'!AI21","v":{"v":0,"d":"0.00"}},{"$f":"'Stundennachweise Mitarbeiter H'!AI57","v":{"v":0,"d":"0.00"}},{"$f":"'Stundennachweise Mitarbeiter H'!AI93","v":{"v":0,"d":"0.00"}},{"$f":"'Stundennachweise Mitarbeiter H'!AI129","v":{"v":0,"d":"0.00"}},{"$f":"'Stundennachweise Mitarbeiter H'!AI165","v":{"v":0,"d":"0.00"}},{"$f":"'Stundennachweise Mitarbeiter H'!AI201","v":{"v":0,"d":"0.00"}},{"$f":"'Stundennachweise Mitarbeiter H'!AI237","v":{"v":0,"d":"0.00"}},{"$f":"'Stundennachweise Mitarbeiter H'!AI273","v":{"v":0,"d":"0.00"}},{"$f":"'Stundennachweise Mitarbeiter H'!AI309","v":{"v":0,"d":"0.00"}},{"$f":"'Stundennachweise Mitarbeiter H'!AI345","v":{"v":0,"d":"0.00"}},{"$f":"'Stundennachweise Mitarbeiter H'!AI381","v":{"v":0,"d":"0.00"}},{"$f":"'Stundennachweise Mitarbeiter H'!AI417","v":{"v":0,"d":"0.00"}},{"$f":"SUM(C20:N20)","v":{"v":0,"d":"0.00"}}]
["Produktive Gesamtstunden",null,{"$f":"'Stundennachweise Mitarbeiter H'!AI22","v":{"v":0,"d":"0.00"}},{"$f":"'Stundennachweise Mitarbeiter H'!AI58","v":{"v":0,"d":"0.00"}},{"$f":"'Stundennachweise Mitarbeiter H'!AI94","v":{"v":0,"d":"0.00"}},{"$f":"'Stundennachweise Mitarbeiter H'!AI130","v":{"v":0,"d":"0.00"}},{"$f":"'Stundennachweise Mitarbeiter H'!AI166","v":{"v":0,"d":"0.00"}},{"$f":"'Stundennachweise Mitarbeiter H'!AI202","v":{"v":0,"d":"0.00"}},{"$f":"'Stundennachweise Mitarbeiter H'!AI238","v":{"v":0,"d":"0.00"}},{"$f":"'Stundennachweise Mitarbeiter H'!AI274","v":{"v":0,"d":"0.00"}},{"$f":"'Stundennachweise Mitarbeiter H'!AI310","v":{"v":0,"d":"0.00"}},{"$f":"'Stundennachweise Mitarbeiter H'!AI346","v":{"v":0,"d":"0.00"}},{"$f":"'Stundennachweise Mitarbeiter H'!AI382","v":{"v":0,"d":"0.00"}},{"$f":"'Stundennachweise Mitarbeiter H'!AI418","v":{"v":0,"d":"0.00"}},{"$f":"SUM(C21:N21)","v":{"v":0,"d":"0.00"}}]
[]
["nachrichtlich:"]
["Fehlzeiten (z.B. Urlaub, Krankheit, Fortbildung)",null,{"$f":"'Stundennachweise Mitarbeiter H'!AI26","v":{"v":0,"d":"0.00"}},{"$f":"'Stundennachweise Mitarbeiter H'!AI62","v":{"v":0,"d":"0.00"}},{"$f":"'Stundennachweise Mitarbeiter H'!AI98","v":{"v":0,"d":"0.00"}},{"$f":"'Stundennachweise Mitarbeiter H'!AI134","v":{"v":0,"d":"0.00"}},{"$f":"'Stundennachweise Mitarbeiter H'!AI170","v":{"v":0,"d":"0.00"}},{"$f":"'Stundennachweise Mitarbeiter H'!AI206","v":{"v":0,"d":"0.00"}},{"$f":"'Stundennachweise Mitarbeiter H'!AI242","v":{"v":0,"d":"0.00"}},{"$f":"'Stundennachweise Mitarbeiter H'!AI278","v":{"v":0,"d":"0.00"}},{"$f":"'Stundennachweise Mitarbeiter H'!AI314","v":{"v":0,"d":"0.00"}},{"$f":"'Stundennachweise Mitarbeiter H'!AI350","v":{"v":0,"d":"0.00"}},{"$f":"'Stundennachweise Mitarbeiter H'!AI386","v":{"v":0,"d":"0.00"}},{"$f":"'Stundennachweise Mitarbeiter H'!AI422","v":{"v":0,"d":"0.00"}},{"$f":"SUM(C24:N24)","v":{"v":0,"d":"0.00"}}]
[]
[]
["2. Berechnung des Jahresstundensatzes"]
[]
[{"$nulls":11},"Jahresstundensatz"]
["Bruttojahreslohn/ -gehalt 1)",{"$nulls":8},"=",null,{"$f":"IF(G30=\"\",\"\",G30/G31)","v":""}]
["Jahresarbeitsstunden lt. Tarifvertrag/Betriebsvereinbarung/Arbeitsvertrag 2)"]
[]
[]
[]
[]
["1)   Personalkosten i.S. der Nr. 6.1.3 ANBest-P-Kosten"]
[]
["2)   Bei tatsächlich mehr geleisteten produktiven Gesamtstunden (vorhabenbezogene und sonstige) gelten diese Gesamtsunden als Divisor"]

{"sheet":"Stundennachweise Mitarbeiter I","index":17,"n_rows":432,"n_cols":35,"rows_kept":432,"merged":[[1,0,1,7],[1,29,1,34],[3,0,3,34],[4,0,4,34],[9,0,9,34],[12,11,12,34],[17,0,18,2],[17,34,18,34],[19,0,19,2],[20,0,20,2],[21,0,21,2],[25,0,25,2],[28,10,28,16],[29,10,29,16],[37,0,37,7],[37,29,37,34],[39,0,39,34],[40,0,40,34],[45,0,45,34],[48,11,48,34],[53,0,54,2],[53,34,54,34],[55,0,55,2],[56,0,56,2],[57,0,57,2],[61,0,61,2],[64,10,64,16],[65,10,65,16],[73,0,73,7],[73,29,73,34],[75,0,75,34],[76,0,76,34],[81,0,81,34],[84,11,84,34],[89,0,90,2],[89,34,90,34],[91,0,91,2],[92,0,92,2],[93,0,93,2],[97,0,97,2],[100,10,100,16],[101,10,101,16],[109,0,109,7],[109,29,109,34],[111,0,111,34],[112,0,112,34],[117,0,117,34],[120,11,120,34],[125,0,126,2],[125,34,126,34],[127,0,127,2],[128,0,128,2],[129,0,129,2],[133,0,133,2],[136,10,136,16],[137,10,137,16],[145,0,145,7],[145,29,145,34],[147,0,147,34],[148,0,148,34],[153,0,153,34],[156,11,156,34],[161,0,162,2],[161,34,162,34],[163,0,163,2],[164,0,164,2],[165,0,165,2],[169,0,169,2],[172,10,172,16],[173,10,173,16],[181,0,181,7],[181,29,181,34],[183,0,183,34],[184,0,184,34],[189,0,189,34],[192,11,192,34],[197,0,198,2],[197,34,198,34],[199,0,199,2],[200,0,200,2],[201,0,201,2],[205,0,205,2],[208,10,208,16],[209,10,209,16],[217,0,217,7],[217,29,217,34],[219,0,219,34],[220,0,220,34],[225,0,225,34],[228,11,228,34],[233,0,234,2],[233,34,234,34],[235,0,235,2],[236,0,236,2],[237,0,237,2],[241,0,241,2],[244,10,244,16],[245,10,245,16],[253,0,253,7],[253,29,253,34],[255,0,255,34],[256,0,256,34],[261,0,261,34],[264,11,264,34],[269,0,270,2],[269,34,270,34],[271,0,271,2],[272,0,272,2],[273,0,273,2],[277,0,277,2],[280,10,280,16],[281,10,281,16],[289,0,289,7],[289,29,289,34],[291,0,291,34],[292,0,292,34],[297,0,297,34],[300,11,300,34],[305,0,306,2],[305,34,306,34],[307,0,307,2],[308,0,308,2],[309,0,309,2],[313,0,313,2],[316,10,316,16],[317,10,317,16],[325,0,325,7],[325,29,325,34],[327,0,327,34],[328,0,328,34],[333,0,333,34],[336,11,336,34],[341,0,342,2],[341,34,342,34],[343,0,343,2],[344,0,344,2],[345,0,345,2],[349,0,349,2],[352,10,352,16],[353,10,353,16],[361,0,361,7],[361,29,361,34],[363,0,363,34],[364,0,364,34],[369,0,369,34],[372,11,372,34],[377,0,378,2],[377,34,378,34],[379,0,379,2],[380,0,380,2],[381,0,381,2],[385,0,385,2],[388,10,388,16],[389,10,389,16],[397,0,397,7],[397,29,397,34],[399,0,399,34],[400,0,400,34],[405,0,405,34],[408,11,408,34],[413,0,414,2],[413,34,414,34],[415,0,415,2],[416,0,416,2],[417,0,417,2],[421,0,421,2],[424,10,424,16],[425,10,425,16]]}
[]
[{"$nulls":23},"Förderkennzeichen :"]
["   Zuwendungsempfänger (Firmenstempel)"]
["Stundennachweis"]
["für pauschalierte Abrechnung gemäß Nr. 6 ANBest-P-Kosten (Anlage 1 zum Verwendungsnachweis)"]
[]
["Der Original-Stundennachweis verbleibt beim Zuwendungsempfänger."]
[]
["Vorhabenthema"]
[]
[]
["Monat",null,"Jahr",{"$nulls":8},"Mitarbeiter(in) [Name, Vorname]"]
["Januar"]
[]
["Die zu Lasten des Vorhabens abzurechnenden Personalstunden sind täglich eingenhändig von der betreffenden Person zu erfassen. Nur die produktiven, für das Vorhaben"]
["geleisteten Stundenn sind zuwendungsfähig."]
[]
["Tätigkeiten",null,null,"Arbeitszeiten in Stunden je Kalendertag",{"$nulls":30},"Summe der \nMonats- stunden"]
[{"$nulls":3},1,2,3,4,5,6,7,8,9,10,11,12,13,14,15,16,17,18,19,20,21,22,23,24,25,26,27,28,29,30,31]
["Vorhabenbezogen",{"$nulls":33},{"$f":"SUM(D20:AH20)","v":{"v":0,"d":"0.00"}}]
["Sonstige 1)",{"$nulls":33},{"$f":"SUM(D21:AH21)","v":{"v":0,"d":"0.00"}}]
["Produktive Gesamtstunden",null,null,{"$f":"SUM(D20:D21)","v":{"v":0,"d":"0.00"}},{"$f":"SUM(E20:E21)","v":{"v":0,"d":"0.00"}},{"v":0,"d":"0.00"},{"v":0,"d":"0.00"},{"v":0,"d":"0.00"},{"v":0,"d":"0.00"},{"v":0,"d":"0.00"},{"v":0,"d":"0.00"},{"v":0,"d":"0.00"},{"v":0,"d":"0.00"},{"v":0,"d":"0.00"},{"v":0,"d":"0.00"},{"v":0,"d":"0.00"},{"v":0,"d":"0.00"},{"v":0,"d":"0.00"},{"v":0,"d":"0.00"},{"v":0,"d":"0.00"},{"v":0,"d":"0.00"},{"v":0,"d":"0.00"},{"v":0,"d":"0.00"},{"v":0,"d":"0.00"},{"v":0,"d":"0.00"},{"v":0,"d":"0.00"},{"v":0,"d":"0.00"},{"v":0,"d":"0.00"},{"v":0,"d":"0.00"},{"v":0,"d":"0.00"},{"v":0,"d":"0.00"},{"v":0,"d":"0.00"},{"v":0,"d":"0.00"},{"v":0,"d":"0.00"},{"$f":"SUM(D22:AH22)","v":{"v":0,"d":"0.00"}}]
[]
[]
["nachrichtlich:"]
["Fehlzeiten (z.B. Urlaub, \nKrankheit, Fortbildung)",{"$nulls":33},{"$f":"SUM(D26:AH26)","v":{"v":0,"d":"0.00"}}]
[]
[]
["1)  ggf. Angabe des FKZ. anderer geförderter Projekte:"]
[]
[]
[]
[]
[]
[]
["Unterschrift des Vorgesetzten",{"$nulls":12},"Unterschrift des Mitarbeiters"]
[]
[{"$nulls":23},"Förderkennzeichen :",{"$nulls":5},{"$f":"IF($AD$2=\"\",\"\",$AD$2)","v":""}]
["   Zuwendungsempfänger (Firmenstempel)"]
["Stundennachweis"]
["für pauschalierte Abrechnung gemäß Nr. 6 ANBest-P-Kosten (Anlage 1 zum Verwendungsnachweis)"]
[]
["Der Original-Stundennachweis verbleibt beim Zuwendungsempfänger."]
[]
["Vorhabenthema"]
[{"$f":"IF($A$10=\"\",\"\",$A10)","v":""}]
[]
["Monat",null,"Jahr",{"$nulls":8},"Mitarbeiter(in) [Name, Vorname]"]
["Februar",null,{"$f":"C13","v":0},{"$nulls":8},{"$f":"IF($L$13=\"\",\"\",$L$13)","v":""}]
[]
["Die zu Lasten des Vorhabens abzurechnenden Personalstunden sind täglich eingenhändig von der betreffenden Person zu erfassen. Nur die produktiven, für das Vorhaben"]
["geleisteten Stundenn sind zuwendungsfähig."]
[]
["Tätigkeiten",null,null,"Arbeitszeiten in Stunden je Kalendertag",{"$nulls":30},"Summe der \nMonats- stunden"]
[{"$nulls":3},1,2,3,4,5,6,7,8,9,10,11,12,13,14,15,16,17,18,19,20,21,22,23,24,25,26,27,28,29,30,31]
["Vorhabenbezogen",{"$nulls":33},{"$f":"SUM(D56:AH56)","v":{"v":0,"d":"0.00"}}]
["Sonstige 1)",{"$nulls":33},{"$f":"SUM(D57:AH57)","v":{"v":0,"d":"0.00"}}]
["Produktive Gesamtstunden",null,null,{"$f":"SUM(D56:D57)","v":{"v":0,"d":"0.00"}},{"$f":"SUM(E56:E57)","v":{"v":0,"d":"0.00"}},{"v":0,"d":"0.00"},{"v":0,"d":"0.00"},{"v":0,"d":"0.00"},{"v":0,"d":"0.00"},{"v":0,"d":"0.00"},{"v":0,"d":"0.00"},{"v":0,"d":"0.00"},{"v":0,"d":"0.00"},{"v":0,"d":"0.00"},{"v":0,"d":"0.00"},{"v":0,"d":"0.00"},{"v":0,"d":"0.00"},{"v":0,"d":"0.00"},{"v":0,"d":"0.00"},{"v":0,"d":"0.00"},{"v":0,"d":"0.00"},{"v":0,"d":"0.00"},{"v":0,"d":"0.00"},{"v":0,"d":"0.00"},{"v":0,"d":"0.00"},{"v":0,"d":"0.00"},{"v":0,"d":"0.00"},{"v":0,"d":"0.00"},{"v":0,"d":"0.00"},{"v":0,"d":"0.00"},{"v":0,"d":"0.00"},{"v":0,"d":"0.00"},{"v":0,"d":"0.00"},{"v":0,"d":"0.00"},{"$f":"SUM(D58:AH58)","v":{"v":0,"d":"0.00"}}]
[]
[]
["nachrichtlich:"]
["Fehlzeiten (z.B. Urlaub, \nKrankheit, Fortbildung)",{"$nulls":33},{"$f":"SUM(D62:AH62)","v":{"v":0,"d":"0.00"}}]
[]
[]
["1)  ggf. Angabe des FKZ. anderer geförderter Projekte:"]
[]
[]
[]
[]
[]
[]
["Unterschrift des Vorgesetzten",{"$nulls":12},"Unterschrift des Mitarbeiters"]
[]
[{"$nulls":23},"Förderkennzeichen :",{"$nulls":5},{"$f":"IF($AD$2=\"\",\"\",$AD$2)","v":""}]
["   Zuwendungsempfänger (Firmenstempel)"]
["Stundennachweis"]
["für pauschalierte Abrechnung gemäß Nr. 6 ANBest-P-Kosten (Anlage 1 zum Verwendungsnachweis)"]
[]
["Der Original-Stundennachweis verbleibt beim Zuwendungsempfänger."]
[]
["Vorhabenthema"]
[{"$f":"IF($A$10=\"\",\"\",$A46)","v":""}]
[]
["Monat",null,"Jahr",{"$nulls":8},"Mitarbeiter(in) [Name, Vorname]"]
["März",null,{"$f":"C13","v":0},{"$nulls":8},{"$f":"IF($L$13=\"\",\"\",$L$13)","v":""}]
[]
["Die zu Lasten des Vorhabens abzurechnenden Personalstunden sind täglich eingenhändig von der betreffenden Person zu erfassen. Nur die produktiven, für das Vorhaben"]
["geleisteten Stundenn sind zuwendungsfähig."]
[]
["Tätigkeiten",null,null,"Arbeitszeiten in Stunden je Kalendertag",{"$nulls":30},"Summe der \nMonats- stunden"]
[{"$nulls":3},1,2,3,4,5,6,7,8,9,10,11,12,13,14,15,16,17,18,19,20,21,22,23,24,25,26,27,28,29,30,31]
["Vorhabenbezogen",{"$nulls":33},{"$f":"SUM(D92:AH92)","v":{"v":0,"d":"0.00"}}]
["Sonstige 1)",{"$nulls":33},{"$f":"SUM(D93:AH93)","v":{"v":0,"d":"0.00"}}]
["Produktive Gesamtstunden",null,null,{"$f":"SUM(D92:D93)","v":{"v":0,"d":"0.00"}},{"$f":"SUM(E92:E93)","v":{"v":0,"d":"0.00"}},{"v":0,"d":"0.00"},{"v":0,"d":"0.00"},{"v":0,"d":"0.00"},{"v":0,"d":"0.00"},{"v":0,"d":"0.00"},{"v":0,"d":"0.00"},{"v":0,"d":"0.00"},{"v":0,"d":"0.00"},{"v":0,"d":"0.00"},{"v":0,"d":"0.00"},{"v":0,"d":"0.00"},{"v":0,"d":"0.00"},{"v":0,"d":"0.00"},{"v":0,"d":"0.00"},{"v":0,"d":"0.00"},{"v":0,"d":"0.00"},{"v":0,"d":"0.00"},{"v":0,"d":"0.00"},{"v":0,"d":"0.00"},{"v":0,"d":"0.00"},{"v":0,"d":"0.00"},{"v":0,"d":"0.00"},{"v":0,"d":"0.00"},{"v":0,"d":"0.00"},{"v":0,"d":"0.00"},{"v":0,"d":"0.00"},{"v":0,"d":"0.00"},{"v":0,"d":"0.00"},{"v":0,"d":"0.00"},{"$f":"SUM(D94:AH94)","v":{"v":0,"d":"0.00"}}]
[]
[]
["nachrichtlich:"]
["Fehlzeiten (z.B. Urlaub, \nKrankheit, Fortbildung)",{"$nulls":33},{"$f":"SUM(D98:AH98)","v":{"v":0,"d":"0.00"}}]
[]
[]
["1)  ggf. Angabe des FKZ. anderer geförderter Projekte:"]
[]
[]
[]
[]
[]
[]
["Unterschrift des Vorgesetzten",{"$nulls":12},"Unterschrift des Mitarbeiters"]
[]
[{"$nulls":23},"Förderkennzeichen :",{"$nulls":5},{"$f":"IF($AD$2=\"\",\"\",$AD$2)","v":""}]
["   Zuwendungsempfänger (Firmenstempel)"]
["Stundennachweis"]
["für pauschalierte Abrechnung gemäß Nr. 6 ANBest-P-Kosten (Anlage 1 zum Verwendungsnachweis)"]
[]
["Der Original-Stundennachweis verbleibt beim Zuwendungsempfänger."]
[]
["Vorhabenthema"]
[{"$f":"IF($A$10=\"\",\"\",$A82)","v":""}]
[]
["Monat",null,"Jahr",{"$nulls":8},"Mitarbeiter(in) [Name, Vorname]"]
["April",null,{"$f":"C13","v":0},{"$nulls":8},{"$f":"IF($L$13=\"\",\"\",$L$13)","v":""}]
[]
["Die zu Lasten des Vorhabens abzurechnenden Personalstunden sind täglich eingenhändig von der betreffenden Person zu erfassen. Nur die produktiven, für das Vorhaben"]
["geleisteten Stundenn sind zuwendungsfähig."]
[]
["Tätigkeiten",null,null,"Arbeitszeiten in Stunden je Kalendertag",{"$nulls":30},"Summe der \nMonats- stunden"]
[{"$nulls":3},1,2,3,4,5,6,7,8,9,10,11,12,13,14,15,16,17,18,19,20,21,22,23,24,25,26,27,28,29,30,31]
["Vorhabenbezogen",{"$nulls":33},{"$f":"SUM(D128:AH128)","v":{"v":0,"d":"0.00"}}]
["Sonstige 1)",{"$nulls":33},{"$f":"SUM(D129:AH129)","v":{"v":0,"d":"0.00"}}]
["Produktive Gesamtstunden",null,null,{"$f":"SUM(D128:D129)","v":{"v":0,"d":"0.00"}},{"$f":"SUM(E128:E129)","v":{"v":0,"d":"0.00"}},{"v":0,"d":"0.00"},{"v":0,"d":"0.00"},{"v":0,"d":"0.00"},{"v":0,"d":"0.00"},{"v":0,"d":"0.00"},{"v":0,"d":"0.00"},{"v":0,"d":"0.00"},{"v":0,"d":"0.00"},{"v":0,"d":"0.00"},{"v":0,"d":"0.00"},{"v":0,"d":"0.00"},{"v":0,"d":"0.00"},{"v":0,"d":"0.00"},{"v":0,"d":"0.00"},{"v":0,"d":"0.00"},{"v":0,"d":"0.00"},{"v":0,"d":"0.00"},{"v":0,"d":"0.00"},{"v":0,"d":"0.00"},{"v":0,"d":"0.00"},{"v":0,"d":"0.00"},{"v":0,"d":"0.00"},{"v":0,"d":"0.00"},{"v":0,"d":"0.00"},{"v":0,"d":"0.00"},{"v":0,"d":"0.00"},{"v":0,"d":"0.00"},{"v":0,"d":"0.00"},{"v":0,"d":"0.00"},{"$f":"SUM(D130:AH130)","v":{"v":0,"d":"0.00"}}]
[]
[]
["nachrichtlich:"]
["Fehlzeiten (z.B. Urlaub, \nKrankheit, Fortbildung)",{"$nulls":33},{"$f":"SUM(D134:AH134)","v":{"v":0,"d":"0.00"}}]
[]
[]
["1)  ggf. Angabe des FKZ. anderer geförderter Projekte:"]
[]
[]
[]
[]
[]
[]
["Unterschrift des Vorgesetzten",{"$nulls":12},"Unterschrift des Mitarbeiters"]
[]
[{"$nulls":23},"Förderkennzeichen :",{"$nulls":5},{"$f":"IF($AD$2=\"\",\"\",$AD$2)","v":""}]
["   Zuwendungsempfänger (Firmenstempel)"]
["Stundennachweis"]
["für pauschalierte Abrechnung gemäß Nr. 6 ANBest-P-Kosten (Anlage 1 zum Verwendungsnachweis)"]
[]
["Der Original-Stundennachweis verbleibt beim Zuwendungsempfänger."]
[]
["Vorhabenthema"]
[{"$f":"IF($A$10=\"\",\"\",$A118)","v":""}]
[]
["Monat",null,"Jahr",{"$nulls":8},"Mitarbeiter(in) [Name, Vorname]"]
["Mai",null,{"$f":"C13","v":0},{"$nulls":8},{"$f":"IF($L$13=\"\",\"\",$L$13)","v":""}]
[]
["Die zu Lasten des Vorhabens abzurechnenden Personalstunden sind täglich eingenhändig von der betreffenden Person zu erfassen. Nur die produktiven, für das Vorhaben"]
["geleisteten Stundenn sind zuwendungsfähig."]
[]
["Tätigkeiten",null,null,"Arbeitszeiten in Stunden je Kalendertag",{"$nulls":30},"Summe der \nMonats- stunden"]
[{"$nulls":3},1,2,3,4,5,6,7,8,9,10,11,12,13,14,15,16,17,18,19,20,21,22,23,24,25,26,27,28,29,30,31]
["Vorhabenbezogen",{"$nulls":33},{"$f":"SUM(D164:AH164)","v":{"v":0,"d":"0.00"}}]
["Sonstige 1)",{"$nulls":33},{"$f":"SUM(D165:AH165)","v":{"v":0,"d":"0.00"}}]
["Produktive Gesamtstunden",null,null,{"$f":"SUM(D164:D165)","v":{"v":0,"d":"0.00"}},{"$f":"SUM(E164:E165)","v":{"v":0,"d":"0.00"}},{"v":0,"d":"0.00"},{"v":0,"d":"0.00"},{"v":0,"d":"0.00"},{"v":0,"d":"0.00"},{"v":0,"d":"0.00"},{"v":0,"d":"0.00"},{"v":0,"d":"0.00"},{"v":0,"d":"0.00"},{"v":0,"d":"0.00"},{"v":0,"d":"0.00"},{"v":0,"d":"0.00"},{"v":0,"d":"0.00"},{"v":0,"d":"0.00"},{"v":0,"d":"0.00"},{"v":0,"d":"0.00"},{"v":0,"d":"0.00"},{"v":0,"d":"0.00"},{"v":0,"d":"0.00"},{"v":0,"d":"0.00"},{"v":0,"d":"0.00"},{"v":0,"d":"0.00"},{"v":0,"d":"0.00"},{"v":0,"d":"0.00"},{"v":0,"d":"0.00"},{"v":0,"d":"0.00"},{"v":0,"d":"0.00"},{"v":0,"d":"0.00"},{"v":0,"d":"0.00"},{"v":0,"d":"0.00"},{"$f":"SUM(D166:AH166)","v":{"v":0,"d":"0.00"}}]
[]
[]
["nachrichtlich:"]
["Fehlzeiten (z.B. Urlaub, \nKrankheit, Fortbildung)",{"$nulls":33},{"$f":"SUM(D170:AH170)","v":{"v":0,"d":"0.00"}}]
[]
[]
["1)  ggf. Angabe des FKZ. anderer geförderter Projekte:"]
[]
[]
[]
[]
[]
[]
["Unterschrift des Vorgesetzten",{"$nulls":12},"Unterschrift des Mitarbeiters"]
[]
[{"$nulls":23},"Förderkennzeichen :",{"$nulls":5},{"$f":"IF($AD$2=\"\",\"\",$AD$2)","v":""}]
["   Zuwendungsempfänger (Firmenstempel)"]
["Stundennachweis"]
["für pauschalierte Abrechnung gemäß Nr. 6 ANBest-P-Kosten (Anlage 1 zum Verwendungsnachweis)"]
[]
["Der Original-Stundennachweis verbleibt beim Zuwendungsempfänger."]
[]
["Vorhabenthema"]
[{"$f":"IF($A$10=\"\",\"\",$A154)","v":""}]
[]
["Monat",null,"Jahr",{"$nulls":8},"Mitarbeiter(in) [Name, Vorname]"]
["Juni",null,{"$f":"C13","v":0},{"$nulls":8},{"$f":"IF($L$13=\"\",\"\",$L$13)","v":""}]
[]
["Die zu Lasten des Vorhabens abzurechnenden Personalstunden sind täglich eingenhändig von der betreffenden Person zu erfassen. Nur die produktiven, für das Vorhaben"]
["geleisteten Stundenn sind zuwendungsfähig."]
[]
["Tätigkeiten",null,null,"Arbeitszeiten in Stunden je Kalendertag",{"$nulls":30},"Summe der \nMonats- stunden"]
[{"$nulls":3},1,2,3,4,5,6,7,8,9,10,11,12,13,14,15,16,17,18,19,20,21,22,23,24,25,26,27,28,29,30,31]
["Vorhabenbezogen",{"$nulls":33},{"$f":"SUM(D200:AH200)","v":{"v":0,"d":"0.00"}}]
["Sonstige 1)",{"$nulls":33},{"$f":"SUM(D201:AH201)","v":{"v":0,"d":"0.00"}}]
["Produktive Gesamtstunden",null,null,{"$f":"SUM(D200:D201)","v":{"v":0,"d":"0.00"}},{"$f":"SUM(E200:E201)","v":{"v":0,"d":"0.00"}},{"v":0,"d":"0.00"},{"v":0,"d":"0.00"},{"v":0,"d":"0.00"},{"v":0,"d":"0.00"},{"v":0,"d":"0.00"},{"v":0,"d":"0.00"},{"v":0,"d":"0.00"},{"v":0,"d":"0.00"},{"v":0,"d":"0.00"},{"v":0,"d":"0.00"},{"v":0,"d":"0.00"},{"v":0,"d":"0.00"},{"v":0,"d":"0.00"},{"v":0,"d":"0.00"},{"v":0,"d":"0.00"},{"v":0,"d":"0.00"},{"v":0,"d":"0.00"},{"v":0,"d":"0.00"},{"v":0,"d":"0.00"},{"v":0,"d":"0.00"},{"v":0,"d":"0.00"},{"v":0,"d":"0.00"},{"v":0,"d":"0.00"},{"v":0,"d":"0.00"},{"v":0,"d":"0.00"},{"v":0,"d":"0.00"},{"v":0,"d":"0.00"},{"v":0,"d":"0.00"},{"v":0,"d":"0.00"},{"$f":"SUM(D202:AH202)","v":{"v":0,"d":"0.00"}}]
[]
[]
["nachrichtlich:"]
["Fehlzeiten (z.B. Urlaub, \nKrankheit, Fortbildung)",{"$nulls":33},{"$f":"SUM(D206:AH206)","v":{"v":0,"d":"0.00"}}]
[]
[]
["1)  ggf. Angabe des FKZ. anderer geförderter Projekte:"]
[]
[]
[]
[]
[]
[]
["Unterschrift des Vorgesetzten",{"$nulls":12},"Unterschrift des Mitarbeiters"]
[]
[{"$nulls":23},"Förderkennzeichen :",{"$nulls":5},{"$f":"IF($AD$2=\"\",\"\",$AD$2)","v":""}]
["   Zuwendungsempfänger (Firmenstempel)"]
["Stundennachweis"]
["für pauschalierte Abrechnung gemäß Nr. 6 ANBest-P-Kosten (Anlage 1 zum Verwendungsnachweis)"]
[]
["Der Original-Stundennachweis verbleibt beim Zuwendungsempfänger."]
[]
["Vorhabenthema"]
[{"$f":"IF($A$10=\"\",\"\",$A190)","v":""}]
[]
["Monat",null,"Jahr",{"$nulls":8},"Mitarbeiter(in) [Name, Vorname]"]
["Juli",null,{"$f":"C13","v":0},{"$nulls":8},{"$f":"IF($L$13=\"\",\"\",$L$13)","v":""}]
[]
["Die zu Lasten des Vorhabens abzurechnenden Personalstunden sind täglich eingenhändig von der betreffenden Person zu erfassen. Nur die produktiven, für das Vorhaben"]
["geleisteten Stundenn sind zuwendungsfähig."]
[]
["Tätigkeiten",null,null,"Arbeitszeiten in Stunden je Kalendertag",{"$nulls":30},"Summe der \nMonats- stunden"]
[{"$nulls":3},1,2,3,4,5,6,7,8,9,10,11,12,13,14,15,16,17,18,19,20,21,22,23,24,25,26,27,28,29,30,31]
["Vorhabenbezogen",{"$nulls":33},{"$f":"SUM(D236:AH236)","v":{"v":0,"d":"0.00"}}]
["Sonstige 1)",{"$nulls":33},{"$f":"SUM(D237:AH237)","v":{"v":0,"d":"0.00"}}]
["Produktive Gesamtstunden",null,null,{"$f":"SUM(D236:D237)","v":{"v":0,"d":"0.00"}},{"$f":"SUM(E236:E237)","v":{"v":0,"d":"0.00"}},{"v":0,"d":"0.00"},{"v":0,"d":"0.00"},{"v":0,"d":"0.00"},{"v":0,"d":"0.00"},{"v":0,"d":"0.00"},{"v":0,"d":"0.00"},{"v":0,"d":"0.00"},{"v":0,"d":"0.00"},{"v":0,"d":"0.00"},{"v":0,"d":"0.00"},{"v":0,"d":"0.00"},{"v":0,"d":"0.00"},{"v":0,"d":"0.00"},{"v":0,"d":"0.00"},{"v":0,"d":"0.00"},{"v":0,"d":"0.00"},{"v":0,"d":"0.00"},{"v":0,"d":"0.00"},{"v":0,"d":"0.00"},{"v":0,"d":"0.00"},{"v":0,"d":"0.00"},{"v":0,"d":"0.00"},{"v":0,"d":"0.00"},{"v":0,"d":"0.00"},{"v":0,"d":"0.00"},{"v":0,"d":"0.00"},{"v":0,"d":"0.00"},{"v":0,"d":"0.00"},{"v":0,"d":"0.00"},{"$f":"SUM(D238:AH238)","v":{"v":0,"d":"0.00"}}]
[]
[]
["nachrichtlich:"]
["Fehlzeiten (z.B. Urlaub, \nKrankheit, Fortbildung)",{"$nulls":33},{"$f":"SUM(D242:AH242)","v":{"v":0,"d":"0.00"}}]
[]
[]
["1)  ggf. Angabe des FKZ. anderer geförderter Projekte:"]
[]
[]
[]
[]
[]
[]
["Unterschrift des Vorgesetzten",{"$nulls":12},"Unterschrift des Mitarbeiters"]
[]
[{"$nulls":23},"Förderkennzeichen :",{"$nulls":5},{"$f":"IF($AD$2=\"\",\"\",$AD$2)","v":""}]
["   Zuwendungsempfänger (Firmenstempel)"]
["Stundennachweis"]
["für pauschalierte Abrechnung gemäß Nr. 6 ANBest-P-Kosten (Anlage 1 zum Verwendungsnachweis)"]
[]
["Der Original-Stundennachweis verbleibt beim Zuwendungsempfänger."]
[]
["Vorhabenthema"]
[{"$f":"IF($A$10=\"\",\"\",$A226)","v":""}]
[]
["Monat",null,"Jahr",{"$nulls":8},"Mitarbeiter(in) [Name, Vorname]"]
["August",null,{"$f":"C13","v":0},{"$nulls":8},{"$f":"IF($L$13=\"\",\"\",$L$13)","v":""}]
[]
["Die zu Lasten des Vorhabens abzurechnenden Personalstunden sind täglich eingenhändig von der betreffenden Person zu erfassen. Nur die produktiven, für das Vorhaben"]
["geleisteten Stundenn sind zuwendungsfähig."]
[]
["Tätigkeiten",null,null,"Arbeitszeiten in Stunden je Kalendertag",{"$nulls":30},"Summe der \nMonats- stunden"]
[{"$nulls":3},1,2,3,4,5,6,7,8,9,10,11,12,13,14,15,16,17,18,19,20,21,22,23,24,25,26,27,28,29,30,31]
["Vorhabenbezogen",{"$nulls":33},{"$f":"SUM(D272:AH272)","v":{"v":0,"d":"0.00"}}]
["Sonstige 1)",{"$nulls":33},{"$f":"SUM(D273:AH273)","v":{"v":0,"d":"0.00"}}]
["Produktive Gesamtstunden",null,null,{"$f":"SUM(D272:D273)","v":{"v":0,"d":"0.00"}},{"$f":"SUM(E272:E273)","v":{"v":0,"d":"0.00"}},{"v":0,"d":"0.00"},{"v":0,"d":"0.00"},{"v":0,"d":"0.00"},{"v":0,"d":"0.00"},{"v":0,"d":"0.00"},{"v":0,"d":"0.00"},{"v":0,"d":"0.00"},{"v":0,"d":"0.00"},{"v":0,"d":"0.00"},{"v":0,"d":"0.00"},{"v":0,"d":"0.00"},{"v":0,"d":"0.00"},{"v":0,"d":"0.00"},{"v":0,"d":"0.00"},{"v":0,"d":"0.00"},{"v":0,"d":"0.00"},{"v":0,"d":"0.00"},{"v":0,"d":"0.00"},{"v":0,"d":"0.00"},{"v":0,"d":"0.00"},{"v":0,"d":"0.00"},{"v":0,"d":"0.00"},{"v":0,"d":"0.00"},{"v":0,"d":"0.00"},{"v":0,"d":"0.00"},{"v":0,"d":"0.00"},{"v":0,"d":"0.00"},{"v":0,"d":"0.00"},{"v":0,"d":"0.00"},{"$f":"SUM(D274:AH274)","v":{"v":0,"d":"0.00"}}]
[]
[]
["nachrichtlich:"]
["Fehlzeiten (z.B. Urlaub, \nKrankheit, Fortbildung)",{"$nulls":33},{"$f":"SUM(D278:AH278)","v":{"v":0,"d":"0.00"}}]
[]
[]
["1)  ggf. Angabe des FKZ. anderer geförderter Projekte:"]
[]
[]
[]
[]
[]
[]
["Unterschrift des Vorgesetzten",{"$nulls":12},"Unterschrift des Mitarbeiters"]
[]
[{"$nulls":23},"Förderkennzeichen :",{"$nulls":5},{"$f":"IF($AD$2=\"\",\"\",$AD$2)","v":""}]
["   Zuwendungsempfänger (Firmenstempel)"]
["Stundennachweis"]
["für pauschalierte Abrechnung gemäß Nr. 6 ANBest-P-Kosten (Anlage 1 zum Verwendungsnachweis)"]
[]
["Der Original-Stundennachweis verbleibt beim Zuwendungsempfänger."]
[]
["Vorhabenthema"]
[{"$f":"IF($A$10=\"\",\"\",$A262)","v":""}]
[]
["Monat",null,"Jahr",{"$nulls":8},"Mitarbeiter(in) [Name, Vorname]"]
["September",null,{"$f":"C13","v":0},{"$nulls":8},{"$f":"IF($L$13=\"\",\"\",$L$13)","v":""}]
[]
["Die zu Lasten des Vorhabens abzurechnenden Personalstunden sind täglich eingenhändig von der betreffenden Person zu erfassen. Nur die produktiven, für das Vorhaben"]
["geleisteten Stundenn sind zuwendungsfähig."]
[]
["Tätigkeiten",null,null,"Arbeitszeiten in Stunden je Kalendertag",{"$nulls":30},"Summe der \nMonats- stunden"]
[{"$nulls":3},1,2,3,4,5,6,7,8,9,10,11,12,13,14,15,16,17,18,19,20,21,22,23,24,25,26,27,28,29,30,31]
["Vorhabenbezogen",{"$nulls":33},{"$f":"SUM(D308:AH308)","v":{"v":0,"d":"0.00"}}]
["Sonstige 1)",{"$nulls":33},{"$f":"SUM(D309:AH309)","v":{"v":0,"d":"0.00"}}]
["Produktive Gesamtstunden",null,null,{"$f":"SUM(D308:D309)","v":{"v":0,"d":"0.00"}},{"$f":"SUM(E308:E309)","v":{"v":0,"d":"0.00"}},{"v":0,"d":"0.00"},{"v":0,"d":"0.00"},{"v":0,"d":"0.00"},{"v":0,"d":"0.00"},{"v":0,"d":"0.00"},{"v":0,"d":"0.00"},{"v":0,"d":"0.00"},{"v":0,"d":"0.00"},{"v":0,"d":"0.00"},{"v":0,"d":"0.00"},{"v":0,"d":"0.00"},{"v":0,"d":"0.00"},{"v":0,"d":"0.00"},{"v":0,"d":"0.00"},{"v":0,"d":"0.00"},{"v":0,"d":"0.00"},{"v":0,"d":"0.00"},{"v":0,"d":"0.00"},{"v":0,"d":"0.00"},{"v":0,"d":"0.00"},{"v":0,"d":"0.00"},{"v":0,"d":"0.00"},{"v":0,"d":"0.00"},{"v":0,"d":"0.00"},{"v":0,"d":"0.00"},{"v":0,"d":"0.00"},{"v":0,"d":"0.00"},{"v":0,"d":"0.00"},{"v":0,"d":"0.00"},{"$f":"SUM(D310:AH310)","v":{"v":0,"d":"0.00"}}]
[]
[]
["nachrichtlich:"]
["Fehlzeiten (z.B. Urlaub, \nKrankheit, Fortbildung)",{"$nulls":33},{"$f":"SUM(D314:AH314)","v":{"v":0,"d":"0.00"}}]
[]
[]
["1)  ggf. Angabe des FKZ. anderer geförderter Projekte:"]
[]
[]
[]
[]
[]
[]
["Unterschrift des Vorgesetzten",{"$nulls":12},"Unterschrift des Mitarbeiters"]
[]
[{"$nulls":23},"Förderkennzeichen :",{"$nulls":5},{"$f":"IF($AD$2=\"\",\"\",$AD$2)","v":""}]
["   Zuwendungsempfänger (Firmenstempel)"]
["Stundennachweis"]
["für pauschalierte Abrechnung gemäß Nr. 6 ANBest-P-Kosten (Anlage 1 zum Verwendungsnachweis)"]
[]
["Der Original-Stundennachweis verbleibt beim Zuwendungsempfänger."]
[]
["Vorhabenthema"]
[{"$f":"IF($A$10=\"\",\"\",$A298)","v":""}]
[]
["Monat",null,"Jahr",{"$nulls":8},"Mitarbeiter(in) [Name, Vorname]"]
["Oktober",null,{"$f":"C13","v":0},{"$nulls":8},{"$f":"IF($L$13=\"\",\"\",$L$13)","v":""}]
[]
["Die zu Lasten des Vorhabens abzurechnenden Personalstunden sind täglich eingenhändig von der betreffenden Person zu erfassen. Nur die produktiven, für das Vorhaben"]
["geleisteten Stundenn sind zuwendungsfähig."]
[]
["Tätigkeiten",null,null,"Arbeitszeiten in Stunden je Kalendertag",{"$nulls":30},"Summe der \nMonats- stunden"]
[{"$nulls":3},1,2,3,4,5,6,7,8,9,10,11,12,13,14,15,16,17,18,19,20,21,22,23,24,25,26,27,28,29,30,31]
["Vorhabenbezogen",{"$nulls":33},{"$f":"SUM(D344:AH344)","v":{"v":0,"d":"0.00"}}]
["Sonstige 1)",{"$nulls":33},{"$f":"SUM(D345:AH345)","v":{"v":0,"d":"0.00"}}]
["Produktive Gesamtstunden",null,null,{"$f":"SUM(D344:D345)","v":{"v":0,"d":"0.00"}},{"$f":"SUM(E344:E345)","v":{"v":0,"d":"0.00"}},{"v":0,"d":"0.00"},{"v":0,"d":"0.00"},{"v":0,"d":"0.00"},{"v":0,"d":"0.00"},{"v":0,"d":"0.00"},{"v":0,"d":"0.00"},{"v":0,"d":"0.00"},{"v":0,"d":"0.00"},{"v":0,"d":"0.00"},{"v":0,"d":"0.00"},{"v":0,"d":"0.00"},{"v":0,"d":"0.00"},{"v":0,"d":"0.00"},{"v":0,"d":"0.00"},{"v":0,"d":"0.00"},{"v":0,"d":"0.00"},{"v":0,"d":"0.00"},{"v":0,"d":"0.00"},{"v":0,"d":"0.00"},{"v":0,"d":"0.00"},{"v":0,"d":"0.00"},{"v":0,"d":"0.00"},{"v":0,"d":"0.00"},{"v":0,"d":"0.00"},{"v":0,"d":"0.00"},{"v":0,"d":"0.00"},{"v":0,"d":"0.00"},{"v":0,"d":"0.00"},{"v":0,"d":"0.00"},{"$f":"SUM(D346:AH346)","v":{"v":0,"d":"0.00"}}]
[]
[]
["nachrichtlich:"]
["Fehlzeiten (z.B. Urlaub, \nKrankheit, Fortbildung)",{"$nulls":33},{"$f":"SUM(D350:AH350)","v":{"v":0,"d":"0.00"}}]
[]
[]
["1)  ggf. Angabe des FKZ. anderer geförderter Projekte:"]
[]
[]
[]
[]
[]
[]
["Unterschrift des Vorgesetzten",{"$nulls":12},"Unterschrift des Mitarbeiters"]
[]
[{"$nulls":23},"Förderkennzeichen :",{"$nulls":5},{"$f":"IF($AD$2=\"\",\"\",$AD$2)","v":""}]
["   Zuwendungsempfänger (Firmenstempel)"]
["Stundennachweis"]
["für pauschalierte Abrechnung gemäß Nr. 6 ANBest-P-Kosten (Anlage 1 zum Verwendungsnachweis)"]
[]
["Der Original-Stundennachweis verbleibt beim Zuwendungsempfänger."]
[]
["Vorhabenthema"]
[{"$f":"IF($A$10=\"\",\"\",$A334)","v":""}]
[]
["Monat",null,"Jahr",{"$nulls":8},"Mitarbeiter(in) [Name, Vorname]"]
["November",null,{"$f":"C13","v":0},{"$nulls":8},{"$f":"IF($L$13=\"\",\"\",$L$13)","v":""}]
[]
["Die zu Lasten des Vorhabens abzurechnenden Personalstunden sind täglich eingenhändig von der betreffenden Person zu erfassen. Nur die produktiven, für das Vorhaben"]
["geleisteten Stundenn sind zuwendungsfähig."]
[]
["Tätigkeiten",null,null,"Arbeitszeiten in Stunden je Kalendertag",{"$nulls":30},"Summe der \nMonats- stunden"]
[{"$nulls":3},1,2,3,4,5,6,7,8,9,10,11,12,13,14,15,16,17,18,19,20,21,22,23,24,25,26,27,28,29,30,31]
["Vorhabenbezogen",{"$nulls":33},{"$f":"SUM(D380:AH380)","v":{"v":0,"d":"0.00"}}]
["Sonstige 1)",{"$nulls":33},{"$f":"SUM(D381:AH381)","v":{"v":0,"d":"0.00"}}]
["Produktive Gesamtstunden",null,null,{"$f":"SUM(D380:D381)","v":{"v":0,"d":"0.00"}},{"$f":"SUM(E380:E381)","v":{"v":0,"d":"0.00"}},{"v":0,"d":"0.00"},{"v":0,"d":"0.00"},{"v":0,"d":"0.00"},{"v":0,"d":"0.00"},{"v":0,"d":"0.00"},{"v":0,"d":"0.00"},{"v":0,"d":"0.00"},{"v":0,"d":"0.00"},{"v":0,"d":"0.00"},{"v":0,"d":"0.00"},{"v":0,"d":"0.00"},{"v":0,"d":"0.00"},{"v":0,"d":"0.00"},{"v":0,"d":"0.00"},{"v":0,"d":"0.00"},{"v":0,"d":"0.00"},{"v":0,"d":"0.00"},{"v":0,"d":"0.00"},{"v":0,"d":"0.00"},{"v":0,"d":"0.00"},{"v":0,"d":"0.00"},{"v":0,"d":"0.00"},{"v":0,"d":"0.00"},{"v":0,"d":"0.00"},{"v":0,"d":"0.00"},{"v":0,"d":"0.00"},{"v":0,"d":"0.00"},{"v":0,"d":"0.00"},{"v":0,"d":"0.00"},{"$f":"SUM(D382:AH382)","v":{"v":0,"d":"0.00"}}]
[]
[]
["nachrichtlich:"]
["Fehlzeiten (z.B. Urlaub, \nKrankheit, Fortbildung)",{"$nulls":33},{"$f":"SUM(D386:AH386)","v":{"v":0,"d":"0.00"}}]
[]
[]
["1)  ggf. Angabe des FKZ. anderer geförderter Projekte:"]
[]
[]
[]
[]
[]
[]
["Unterschrift des Vorgesetzten",{"$nulls":12},"Unterschrift des Mitarbeiters"]
[]
[{"$nulls":23},"Förderkennzeichen :",{"$nulls":5},{"$f":"IF($AD$2=\"\",\"\",$AD$2)","v":""}]
["   Zuwendungsempfänger (Firmenstempel)"]
["Stundennachweis"]
["für pauschalierte Abrechnung gemäß Nr. 6 ANBest-P-Kosten (Anlage 1 zum Verwendungsnachweis)"]
[]
["Der Original-Stundennachweis verbleibt beim Zuwendungsempfänger."]
[]
["Vorhabenthema"]
[{"$f":"IF($A$10=\"\",\"\",$A370)","v":""}]
[]
["Monat",null,"Jahr",{"$nulls":8},"Mitarbeiter(in) [Name, Vorname]"]
["Dezember",null,{"$f":"C13","v":0},{"$nulls":8},{"$f":"IF($L$13=\"\",\"\",$L$13)","v":""}]
[]
["Die zu Lasten des Vorhabens abzurechnenden Personalstunden sind täglich eingenhändig von der betreffenden Person zu erfassen. Nur die produktiven, für das Vorhaben"]
["geleisteten Stundenn sind zuwendungsfähig."]
[]
["Tätigkeiten",null,null,"Arbeitszeiten in Stunden je Kalendertag",{"$nulls":30},"Summe der \nMonats- stunden"]
[{"$nulls":3},1,2,3,4,5,6,7,8,9,10,11,12,13,14,15,16,17,18,19,20,21,22,23,24,25,26,27,28,29,30,31]
["Vorhabenbezogen",{"$nulls":33},{"$f":"SUM(D416:AH416)","v":{"v":0,"d":"0.00"}}]
["Sonstige 1)",{"$nulls":33},{"$f":"SUM(D417:AH417)","v":{"v":0,"d":"0.00"}}]
["Produktive Gesamtstunden",null,null,{"$f":"SUM(D416:D417)","v":0},{"$f":"SUM(E416:E417)","v":{"v":0,"d":"0.00"}},{"v":0,"d":"0.00"},{"v":0,"d":"0.00"},{"v":0,"d":"0.00"},{"v":0,"d":"0.00"},{"v":0,"d":"0.00"},{"v":0,"d":"0.00"},{"v":0,"d":"0.00"},{"v":0,"d":"0.00"},{"v":0,"d":"0.00"},{"v":0,"d":"0.00"},{"v":0,"d":"0.00"},{"v":0,"d":"0.00"},{"v":0,"d":"0.00"},{"v":0,"d":"0.00"},{"v":0,"d":"0.00"},{"v":0,"d":"0.00"},{"v":0,"d":"0.00"},{"v":0,"d":"0.00"},{"v":0,"d":"0.00"},{"v":0,"d":"0.00"},{"v":0,"d":"0.00"},{"v":0,"d":"0.00"},{"v":0,"d":"0.00"},{"v":0,"d":"0.00"},{"v":0,"d":"0.00"},{"v":0,"d":"0.00"},{"v":0,"d":"0.00"},{"v":0,"d":"0.00"},{"v":0,"d":"0.00"},{"$f":"SUM(D418:AH418)","v":{"v":0,"d":"0.00"}}]
[]
[]
["nachrichtlich:"]
["Fehlzeiten (z.B. Urlaub, \nKrankheit, Fortbildung)",{"$nulls":33},{"$f":"SUM(D422:AH422)","v":{"v":0,"d":"0.00"}}]
[]
[]
["1)  ggf. Angabe des FKZ. anderer geförderter Projekte:"]
[]
[]
[]
[]
[]
[]
["Unterschrift des Vorgesetzten",{"$nulls":12},"Unterschrift des Mitarbeiters"]

{"sheet":"Jahresstd.satz Mitarbeiter I","index":18,"n_rows":38,"n_cols":15,"rows_kept":38,"merged":[[1,0,1,3],[1,8,1,10],[1,11,1,14],[5,0,5,14],[6,0,6,14],[10,0,10,14],[13,4,13,14],[16,0,17,1],[16,14,17,14],[18,0,18,1],[19,0,19,1],[20,0,20,1],[28,11,28,13],[29,6,29,8],[29,9,30,10],[29,11,30,13],[30,6,30,8]]}
[]
[{"$nulls":8},"Förderkennzeichen:       ",null,null,{"$f":"IF('Stundennachweise Mitarbeiter I'!AD2=0,\"\",'Stundennachweise Mitarbeiter I'!AD2)","v":""}]
["   Zuwendungsempfänger (Firmenstempel)"]
[]
[]
["Ermittlung des Jahresstundensatzes"]
["bei pauschalierter Abrechnung gemäß Nr. 6 ANBest-P-Kosten (Anlage 2 zum Verwendungsnachweis)"]
[]
[]
["Vorhabenthema"]
[{"$f":"IF('Stundennachweise Mitarbeiter I'!A10:AI10=\"\",\"\",'Stundennachweise Mitarbeiter I'!A10:AI10)","v":""}]
[]
["Jahr",{"$nulls":3},"Mitarbeiter(in) [Name, Vorname]"]
[{"$f":"IF('Stundennachweise Mitarbeiter I'!C13=\"\",\"\",'Stundennachweise Mitarbeiter I'!C13)","v":""},{"$nulls":3},{"$f":"IF('Stundennachweise Mitarbeiter I'!L13=\"\",\"\",'Stundennachweise Mitarbeiter I'!L13)","v":""}]
[]
["1. Jahresstunden lt. monatlichen Stundennachweisen"]
["Tätigkeiten",null,"Arbeitszeit in Stunden je Monat:",{"$nulls":11},"Summe der Jahresstunden"]
[null,null,"Januar","Februar","März","April","Mai","Juni","Juli","August","Sept.","Oktober","Nov.","Dez."]
["Vorhabenbezogen",null,{"$f":"'Stundennachweise Mitarbeiter I'!AI20","v":{"v":0,"d":"0.00"}},{"$f":"'Stundennachweise Mitarbeiter I'!AI56","v":{"v":0,"d":"0.00"}},{"$f":"'Stundennachweise Mitarbeiter I'!AI92","v":{"v":0,"d":"0.00"}},{"$f":"'Stundennachweise Mitarbeiter I'!AI128","v":{"v":0,"d":"0.00"}},{"$f":"'Stundennachweise Mitarbeiter I'!AI164","v":{"v":0,"d":"0.00"}},{"$f":"'Stundennachweise Mitarbeiter I'!AI200","v":{"v":0,"d":"0.00"}},{"$f":"'Stundennachweise Mitarbeiter I'!AI236","v":{"v":0,"d":"0.00"}},{"$f":"'Stundennachweise Mitarbeiter I'!AI272","v":{"v":0,"d":"0.00"}},{"$f":"'Stundennachweise Mitarbeiter I'!AI308","v":{"v":0,"d":"0.00"}},{"$f":"'Stundennachweise Mitarbeiter I'!AI344","v":{"v":0,"d":"0.00"}},{"$f":"'Stundennachweise Mitarbeiter I'!AI380","v":{"v":0,"d":"0.00"}},{"$f":"'Stundennachweise Mitarbeiter I'!AI416","v":{"v":0,"d":"0.00"}},{"$f":"SUM(C19:N19)","v":{"v":0,"d":"0.00"}}]
["Sonstige",null,{"$f":"'Stundennachweise Mitarbeiter I'!AI21","v":{"v":0,"d":"0.00"}},{"$f":"'Stundennachweise Mitarbeiter I'!AI57","v":{"v":0,"d":"0.00"}},{"$f":"'Stundennachweise Mitarbeiter I'!AI93","v":{"v":0,"d":"0.00"}},{"$f":"'Stundennachweise Mitarbeiter I'!AI129","v":{"v":0,"d":"0.00"}},{"$f":"'Stundennachweise Mitarbeiter I'!AI165","v":{"v":0,"d":"0.00"}},{"$f":"'Stundennachweise Mitarbeiter I'!AI201","v":{"v":0,"d":"0.00"}},{"$f":"'Stundennachweise Mitarbeiter I'!AI237","v":{"v":0,"d":"0.00"}},{"$f":"'Stundennachweise Mitarbeiter I'!AI273","v":{"v":0,"d":"0.00"}},{"$f":"'Stundennachweise Mitarbeiter I'!AI309","v":{"v":0,"d":"0.00"}},{"$f":"'Stundennachweise Mitarbeiter I'!AI345","v":{"v":0,"d":"0.00"}},{"$f":"'Stundennachweise Mitarbeiter I'!AI381","v":{"v":0,"d":"0.00"}},{"$f":"'Stundennachweise Mitarbeiter I'!AI417","v":{"v":0,"d":"0.00"}},{"$f":"SUM(C20:N20)","v":{"v":0,"d":"0.00"}}]
["Produktive Gesamtstunden",null,{"$f":"'Stundennachweise Mitarbeiter I'!AI22","v":{"v":0,"d":"0.00"}},{"$f":"'Stundennachweise Mitarbeiter I'!AI58","v":{"v":0,"d":"0.00"}},{"$f":"'Stundennachweise Mitarbeiter I'!AI94","v":{"v":0,"d":"0.00"}},{"$f":"'Stundennachweise Mitarbeiter I'!AI130","v":{"v":0,"d":"0.00"}},{"$f":"'Stundennachweise Mitarbeiter I'!AI166","v":{"v":0,"d":"0.00"}},{"$f":"'Stundennachweise Mitarbeiter I'!AI202","v":{"v":0,"d":"0.00"}},{"$f":"'Stundennachweise Mitarbeiter I'!AI238","v":{"v":0,"d":"0.00"}},{"$f":"'Stundennachweise Mitarbeiter I'!AI274","v":{"v":0,"d":"0.00"}},{"$f":"'Stundennachweise Mitarbeiter I'!AI310","v":{"v":0,"d":"0.00"}},{"$f":"'Stundennachweise Mitarbeiter I'!AI346","v":{"v":0,"d":"0.00"}},{"$f":"'Stundennachweise Mitarbeiter I'!AI382","v":{"v":0,"d":"0.00"}},{"$f":"'Stundennachweise Mitarbeiter I'!AI418","v":{"v":0,"d":"0.00"}},{"$f":"SUM(C21:N21)","v":{"v":0,"d":"0.00"}}]
[]
["nachrichtlich:"]
["Fehlzeiten (z.B. Urlaub, Krankheit, Fortbildung)",null,{"$f":"'Stundennachweise Mitarbeiter I'!AI26","v":{"v":0,"d":"0.00"}},{"$f":"'Stundennachweise Mitarbeiter I'!AI62","v":{"v":0,"d":"0.00"}},{"$f":"'Stundennachweise Mitarbeiter I'!AI98","v":{"v":0,"d":"0.00"}},{"$f":"'Stundennachweise Mitarbeiter I'!AI134","v":{"v":0,"d":"0.00"}},{"$f":"'Stundennachweise Mitarbeiter I'!AI170","v":{"v":0,"d":"0.00"}},{"$f":"'Stundennachweise Mitarbeiter I'!AI206","v":{"v":0,"d":"0.00"}},{"$f":"'Stundennachweise Mitarbeiter I'!AI242","v":{"v":0,"d":"0.00"}},{"$f":"'Stundennachweise Mitarbeiter I'!AI278","v":{"v":0,"d":"0.00"}},{"$f":"'Stundennachweise Mitarbeiter I'!AI314","v":{"v":0,"d":"0.00"}},{"$f":"'Stundennachweise Mitarbeiter I'!AI350","v":{"v":0,"d":"0.00"}},{"$f":"'Stundennachweise Mitarbeiter I'!AI386","v":{"v":0,"d":"0.00"}},{"$f":"'Stundennachweise Mitarbeiter I'!AI422","v":{"v":0,"d":"0.00"}},{"$f":"SUM(C24:N24)","v":{"v":0,"d":"0.00"}}]
[]
[]
["2. Berechnung des Jahresstundensatzes"]
[]
[{"$nulls":11},"Jahresstundensatz"]
["Bruttojahreslohn/ -gehalt 1)",{"$nulls":8},"=",null,{"$f":"IF(G30=\"\",\"\",G30/G31)","v":""}]
["Jahresarbeitsstunden lt. Tarifvertrag/Betriebsvereinbarung/Arbeitsvertrag 2)"]
[]
[]
[]
[]
["1)   Personalkosten i.S. der Nr. 6.1.3 ANBest-P-Kosten"]
[]
["2)   Bei tatsächlich mehr geleisteten produktiven Gesamtstunden (vorhabenbezogene und sonstige) gelten diese Gesamtsunden als Divisor"]

{"sheet":"Stundennachweise Mitarbeiter J","index":19,"n_rows":432,"n_cols":35,"rows_kept":432,"merged":[[1,0,1,7],[1,29,1,34],[3,0,3,34],[4,0,4,34],[9,0,9,34],[12,11,12,34],[17,0,18,2],[17,34,18,34],[19,0,19,2],[20,0,20,2],[21,0,21,2],[25,0,25,2],[28,10,28,16],[29,10,29,16],[37,0,37,7],[37,29,37,34],[39,0,39,34],[40,0,40,34],[45,0,45,34],[48,11,48,34],[53,0,54,2],[53,34,54,34],[55,0,55,2],[56,0,56,2],[57,0,57,2],[61,0,61,2],[64,10,64,16],[65,10,65,16],[73,0,73,7],[73,29,73,34],[75,0,75,34],[76,0,76,34],[81,0,81,34],[84,11,84,34],[89,0,90,2],[89,34,90,34],[91,0,91,2],[92,0,92,2],[93,0,93,2],[97,0,97,2],[100,10,100,16],[101,10,101,16],[109,0,109,7],[109,29,109,34],[111,0,111,34],[112,0,112,34],[117,0,117,34],[120,11,120,34],[125,0,126,2],[125,34,126,34],[127,0,127,2],[128,0,128,2],[129,0,129,2],[133,0,133,2],[136,10,136,16],[137,10,137,16],[145,0,145,7],[145,29,145,34],[147,0,147,34],[148,0,148,34],[153,0,153,34],[156,11,156,34],[161,0,162,2],[161,34,162,34],[163,0,163,2],[164,0,164,2],[165,0,165,2],[169,0,169,2],[172,10,172,16],[173,10,173,16],[181,0,181,7],[181,29,181,34],[183,0,183,34],[184,0,184,34],[189,0,189,34],[192,11,192,34],[197,0,198,2],[197,34,198,34],[199,0,199,2],[200,0,200,2],[201,0,201,2],[205,0,205,2],[208,10,208,16],[209,10,209,16],[217,0,217,7],[217,29,217,34],[219,0,219,34],[220,0,220,34],[225,0,225,34],[228,11,228,34],[233,0,234,2],[233,34,234,34],[235,0,235,2],[236,0,236,2],[237,0,237,2],[241,0,241,2],[244,10,244,16],[245,10,245,16],[253,0,253,7],[253,29,253,34],[255,0,255,34],[256,0,256,34],[261,0,261,34],[264,11,264,34],[269,0,270,2],[269,34,270,34],[271,0,271,2],[272,0,272,2],[273,0,273,2],[277,0,277,2],[280,10,280,16],[281,10,281,16],[289,0,289,7],[289,29,289,34],[291,0,291,34],[292,0,292,34],[297,0,297,34],[300,11,300,34],[305,0,306,2],[305,34,306,34],[307,0,307,2],[308,0,308,2],[309,0,309,2],[313,0,313,2],[316,10,316,16],[317,10,317,16],[325,0,325,7],[325,29,325,34],[327,0,327,34],[328,0,328,34],[333,0,333,34],[336,11,336,34],[341,0,342,2],[341,34,342,34],[343,0,343,2],[344,0,344,2],[345,0,345,2],[349,0,349,2],[352,10,352,16],[353,10,353,16],[361,0,361,7],[361,29,361,34],[363,0,363,34],[364,0,364,34],[369,0,369,34],[372,11,372,34],[377,0,378,2],[377,34,378,34],[379,0,379,2],[380,0,380,2],[381,0,381,2],[385,0,385,2],[388,10,388,16],[389,10,389,16],[397,0,397,7],[397,29,397,34],[399,0,399,34],[400,0,400,34],[405,0,405,34],[408,11,408,34],[413,0,414,2],[413,34,414,34],[415,0,415,2],[416,0,416,2],[417,0,417,2],[421,0,421,2],[424,10,424,16],[425,10,425,16]]}
[]
[{"$nulls":23},"Förderkennzeichen :"]
["   Zuwendungsempfänger (Firmenstempel)"]
["Stundennachweis"]
["für pauschalierte Abrechnung gemäß Nr. 6 ANBest-P-Kosten (Anlage 1 zum Verwendungsnachweis)"]
[]
["Der Original-Stundennachweis verbleibt beim Zuwendungsempfänger."]
[]
["Vorhabenthema"]
[]
[]
["Monat",null,"Jahr",{"$nulls":8},"Mitarbeiter(in) [Name, Vorname]"]
["Januar"]
[]
["Die zu Lasten des Vorhabens abzurechnenden Personalstunden sind täglich eingenhändig von der betreffenden Person zu erfassen. Nur die produktiven, für das Vorhaben"]
["geleisteten Stundenn sind zuwendungsfähig."]
[]
["Tätigkeiten",null,null,"Arbeitszeiten in Stunden je Kalendertag",{"$nulls":30},"Summe der \nMonats- stunden"]
[{"$nulls":3},1,2,3,4,5,6,7,8,9,10,11,12,13,14,15,16,17,18,19,20,21,22,23,24,25,26,27,28,29,30,31]
["Vorhabenbezogen",{"$nulls":33},{"$f":"SUM(D20:AH20)","v":{"v":0,"d":"0.00"}}]
["Sonstige 1)",{"$nulls":33},{"$f":"SUM(D21:AH21)","v":{"v":0,"d":"0.00"}}]
["Produktive Gesamtstunden",null,null,{"$f":"SUM(D20:D21)","v":{"v":0,"d":"0.00"}},{"$f":"SUM(E20:E21)","v":{"v":0,"d":"0.00"}},{"v":0,"d":"0.00"},{"v":0,"d":"0.00"},{"v":0,"d":"0.00"},{"v":0,"d":"0.00"},{"v":0,"d":"0.00"},{"v":0,"d":"0.00"},{"v":0,"d":"0.00"},{"v":0,"d":"0.00"},{"v":0,"d":"0.00"},{"v":0,"d":"0.00"},{"v":0,"d":"0.00"},{"v":0,"d":"0.00"},{"v":0,"d":"0.00"},{"v":0,"d":"0.00"},{"v":0,"d":"0.00"},{"v":0,"d":"0.00"},{"v":0,"d":"0.00"},{"v":0,"d":"0.00"},{"v":0,"d":"0.00"},{"v":0,"d":"0.00"},{"v":0,"d":"0.00"},{"v":0,"d":"0.00"},{"v":0,"d":"0.00"},{"v":0,"d":"0.00"},{"v":0,"d":"0.00"},{"v":0,"d":"0.00"},{"v":0,"d":"0.00"},{"v":0,"d":"0.00"},{"v":0,"d":"0.00"},{"$f":"SUM(D22:AH22)","v":{"v":0,"d":"0.00"}}]
[]
[]
["nachrichtlich:"]
["Fehlzeiten (z.B. Urlaub, \nKrankheit, Fortbildung)",{"$nulls":33},{"$f":"SUM(D26:AH26)","v":{"v":0,"d":"0.00"}}]
[]
[]
["1)  ggf. Angabe des FKZ. anderer geförderter Projekte:"]
[]
[]
[]
[]
[]
[]
["Unterschrift des Vorgesetzten",{"$nulls":12},"Unterschrift des Mitarbeiters"]
[]
[{"$nulls":23},"Förderkennzeichen :",{"$nulls":5},{"$f":"IF($AD$2=\"\",\"\",$AD$2)","v":""}]
["   Zuwendungsempfänger (Firmenstempel)"]
["Stundennachweis"]
["für pauschalierte Abrechnung gemäß Nr. 6 ANBest-P-Kosten (Anlage 1 zum Verwendungsnachweis)"]
[]
["Der Original-Stundennachweis verbleibt beim Zuwendungsempfänger."]
[]
["Vorhabenthema"]
[{"$f":"IF($A$10=\"\",\"\",$A10)","v":""}]
[]
["Monat",null,"Jahr",{"$nulls":8},"Mitarbeiter(in) [Name, Vorname]"]
["Februar",null,{"$f":"C13","v":0},{"$nulls":8},{"$f":"IF($L$13=\"\",\"\",$L$13)","v":""}]
[]
["Die zu Lasten des Vorhabens abzurechnenden Personalstunden sind täglich eingenhändig von der betreffenden Person zu erfassen. Nur die produktiven, für das Vorhaben"]
["geleisteten Stundenn sind zuwendungsfähig."]
[]
["Tätigkeiten",null,null,"Arbeitszeiten in Stunden je Kalendertag",{"$nulls":30},"Summe der \nMonats- stunden"]
[{"$nulls":3},1,2,3,4,5,6,7,8,9,10,11,12,13,14,15,16,17,18,19,20,21,22,23,24,25,26,27,28,29,30,31]
["Vorhabenbezogen",{"$nulls":33},{"$f":"SUM(D56:AH56)","v":{"v":0,"d":"0.00"}}]
["Sonstige 1)",{"$nulls":33},{"$f":"SUM(D57:AH57)","v":{"v":0,"d":"0.00"}}]
["Produktive Gesamtstunden",null,null,{"$f":"SUM(D56:D57)","v":{"v":0,"d":"0.00"}},{"$f":"SUM(E56:E57)","v":{"v":0,"d":"0.00"}},{"v":0,"d":"0.00"},{"v":0,"d":"0.00"},{"v":0,"d":"0.00"},{"v":0,"d":"0.00"},{"v":0,"d":"0.00"},{"v":0,"d":"0.00"},{"v":0,"d":"0.00"},{"v":0,"d":"0.00"},{"v":0,"d":"0.00"},{"v":0,"d":"0.00"},{"v":0,"d":"0.00"},{"v":0,"d":"0.00"},{"v":0,"d":"0.00"},{"v":0,"d":"0.00"},{"v":0,"d":"0.00"},{"v":0,"d":"0.00"},{"v":0,"d":"0.00"},{"v":0,"d":"0.00"},{"v":0,"d":"0.00"},{"v":0,"d":"0.00"},{"v":0,"d":"0.00"},{"v":0,"d":"0.00"},{"v":0,"d":"0.00"},{"v":0,"d":"0.00"},{"v":0,"d":"0.00"},{"v":0,"d":"0.00"},{"v":0,"d":"0.00"},{"v":0,"d":"0.00"},{"v":0,"d":"0.00"},{"$f":"SUM(D58:AH58)","v":{"v":0,"d":"0.00"}}]
[]
[]
["nachrichtlich:"]
["Fehlzeiten (z.B. Urlaub, \nKrankheit, Fortbildung)",{"$nulls":33},{"$f":"SUM(D62:AH62)","v":{"v":0,"d":"0.00"}}]
[]
[]
["1)  ggf. Angabe des FKZ. anderer geförderter Projekte:"]
[]
[]
[]
[]
[]
[]
["Unterschrift des Vorgesetzten",{"$nulls":12},"Unterschrift des Mitarbeiters"]
[]
[{"$nulls":23},"Förderkennzeichen :",{"$nulls":5},{"$f":"IF($AD$2=\"\",\"\",$AD$2)","v":""}]
["   Zuwendungsempfänger (Firmenstempel)"]
["Stundennachweis"]
["für pauschalierte Abrechnung gemäß Nr. 6 ANBest-P-Kosten (Anlage 1 zum Verwendungsnachweis)"]
[]
["Der Original-Stundennachweis verbleibt beim Zuwendungsempfänger."]
[]
["Vorhabenthema"]
[{"$f":"IF($A$10=\"\",\"\",$A46)","v":""}]
[]
["Monat",null,"Jahr",{"$nulls":8},"Mitarbeiter(in) [Name, Vorname]"]
["März",null,{"$f":"C13","v":0},{"$nulls":8},{"$f":"IF($L$13=\"\",\"\",$L$13)","v":""}]
[]
["Die zu Lasten des Vorhabens abzurechnenden Personalstunden sind täglich eingenhändig von der betreffenden Person zu erfassen. Nur die produktiven, für das Vorhaben"]
["geleisteten Stundenn sind zuwendungsfähig."]
[]
["Tätigkeiten",null,null,"Arbeitszeiten in Stunden je Kalendertag",{"$nulls":30},"Summe der \nMonats- stunden"]
[{"$nulls":3},1,2,3,4,5,6,7,8,9,10,11,12,13,14,15,16,17,18,19,20,21,22,23,24,25,26,27,28,29,30,31]
["Vorhabenbezogen",{"$nulls":33},{"$f":"SUM(D92:AH92)","v":{"v":0,"d":"0.00"}}]
["Sonstige 1)",{"$nulls":33},{"$f":"SUM(D93:AH93)","v":{"v":0,"d":"0.00"}}]
["Produktive Gesamtstunden",null,null,{"$f":"SUM(D92:D93)","v":{"v":0,"d":"0.00"}},{"$f":"SUM(E92:E93)","v":{"v":0,"d":"0.00"}},{"v":0,"d":"0.00"},{"v":0,"d":"0.00"},{"v":0,"d":"0.00"},{"v":0,"d":"0.00"},{"v":0,"d":"0.00"},{"v":0,"d":"0.00"},{"v":0,"d":"0.00"},{"v":0,"d":"0.00"},{"v":0,"d":"0.00"},{"v":0,"d":"0.00"},{"v":0,"d":"0.00"},{"v":0,"d":"0.00"},{"v":0,"d":"0.00"},{"v":0,"d":"0.00"},{"v":0,"d":"0.00"},{"v":0,"d":"0.00"},{"v":0,"d":"0.00"},{"v":0,"d":"0.00"},{"v":0,"d":"0.00"},{"v":0,"d":"0.00"},{"v":0,"d":"0.00"},{"v":0,"d":"0.00"},{"v":0,"d":"0.00"},{"v":0,"d":"0.00"},{"v":0,"d":"0.00"},{"v":0,"d":"0.00"},{"v":0,"d":"0.00"},{"v":0,"d":"0.00"},{"v":0,"d":"0.00"},{"$f":"SUM(D94:AH94)","v":{"v":0,"d":"0.00"}}]
[]
[]
["nachrichtlich:"]
["Fehlzeiten (z.B. Urlaub, \nKrankheit, Fortbildung)",{"$nulls":33},{"$f":"SUM(D98:AH98)","v":{"v":0,"d":"0.00"}}]
[]
[]
["1)  ggf. Angabe des FKZ. anderer geförderter Projekte:"]
[]
[]
[]
[]
[]
[]
["Unterschrift des Vorgesetzten",{"$nulls":12},"Unterschrift des Mitarbeiters"]
[]
[{"$nulls":23},"Förderkennzeichen :",{"$nulls":5},{"$f":"IF($AD$2=\"\",\"\",$AD$2)","v":""}]
["   Zuwendungsempfänger (Firmenstempel)"]
["Stundennachweis"]
["für pauschalierte Abrechnung gemäß Nr. 6 ANBest-P-Kosten (Anlage 1 zum Verwendungsnachweis)"]
[]
["Der Original-Stundennachweis verbleibt beim Zuwendungsempfänger."]
[]
["Vorhabenthema"]
[{"$f":"IF($A$10=\"\",\"\",$A82)","v":""}]
[]
["Monat",null,"Jahr",{"$nulls":8},"Mitarbeiter(in) [Name, Vorname]"]
["April",null,{"$f":"C13","v":0},{"$nulls":8},{"$f":"IF($L$13=\"\",\"\",$L$13)","v":""}]
[]
["Die zu Lasten des Vorhabens abzurechnenden Personalstunden sind täglich eingenhändig von der betreffenden Person zu erfassen. Nur die produktiven, für das Vorhaben"]
["geleisteten Stundenn sind zuwendungsfähig."]
[]
["Tätigkeiten",null,null,"Arbeitszeiten in Stunden je Kalendertag",{"$nulls":30},"Summe der \nMonats- stunden"]
[{"$nulls":3},1,2,3,4,5,6,7,8,9,10,11,12,13,14,15,16,17,18,19,20,21,22,23,24,25,26,27,28,29,30,31]
["Vorhabenbezogen",{"$nulls":33},{"$f":"SUM(D128:AH128)","v":{"v":0,"d":"0.00"}}]
["Sonstige 1)",{"$nulls":33},{"$f":"SUM(D129:AH129)","v":{"v":0,"d":"0.00"}}]
["Produktive Gesamtstunden",null,null,{"$f":"SUM(D128:D129)","v":{"v":0,"d":"0.00"}},{"$f":"SUM(E128:E129)","v":{"v":0,"d":"0.00"}},{"v":0,"d":"0.00"},{"v":0,"d":"0.00"},{"v":0,"d":"0.00"},{"v":0,"d":"0.00"},{"v":0,"d":"0.00"},{"v":0,"d":"0.00"},{"v":0,"d":"0.00"},{"v":0,"d":"0.00"},{"v":0,"d":"0.00"},{"v":0,"d":"0.00"},{"v":0,"d":"0.00"},{"v":0,"d":"0.00"},{"v":0,"d":"0.00"},{"v":0,"d":"0.00"},{"v":0,"d":"0.00"},{"v":0,"d":"0.00"},{"v":0,"d":"0.00"},{"v":0,"d":"0.00"},{"v":0,"d":"0.00"},{"v":0,"d":"0.00"},{"v":0,"d":"0.00"},{"v":0,"d":"0.00"},{"v":0,"d":"0.00"},{"v":0,"d":"0.00"},{"v":0,"d":"0.00"},{"v":0,"d":"0.00"},{"v":0,"d":"0.00"},{"v":0,"d":"0.00"},{"v":0,"d":"0.00"},{"$f":"SUM(D130:AH130)","v":{"v":0,"d":"0.00"}}]
[]
[]
["nachrichtlich:"]
["Fehlzeiten (z.B. Urlaub, \nKrankheit, Fortbildung)",{"$nulls":33},{"$f":"SUM(D134:AH134)","v":{"v":0,"d":"0.00"}}]
[]
[]
["1)  ggf. Angabe des FKZ. anderer geförderter Projekte:"]
[]
[]
[]
[]
[]
[]
["Unterschrift des Vorgesetzten",{"$nulls":12},"Unterschrift des Mitarbeiters"]
[]
[{"$nulls":23},"Förderkennzeichen :",{"$nulls":5},{"$f":"IF($AD$2=\"\",\"\",$AD$2)","v":""}]
["   Zuwendungsempfänger (Firmenstempel)"]
["Stundennachweis"]
["für pauschalierte Abrechnung gemäß Nr. 6 ANBest-P-Kosten (Anlage 1 zum Verwendungsnachweis)"]
[]
["Der Original-Stundennachweis verbleibt beim Zuwendungsempfänger."]
[]
["Vorhabenthema"]
[{"$f":"IF($A$10=\"\",\"\",$A118)","v":""}]
[]
["Monat",null,"Jahr",{"$nulls":8},"Mitarbeiter(in) [Name, Vorname]"]
["Mai",null,{"$f":"C13","v":0},{"$nulls":8},{"$f":"IF($L$13=\"\",\"\",$L$13)","v":""}]
[]
["Die zu Lasten des Vorhabens abzurechnenden Personalstunden sind täglich eingenhändig von der betreffenden Person zu erfassen. Nur die produktiven, für das Vorhaben"]
["geleisteten Stundenn sind zuwendungsfähig."]
[]
["Tätigkeiten",null,null,"Arbeitszeiten in Stunden je Kalendertag",{"$nulls":30},"Summe der \nMonats- stunden"]
[{"$nulls":3},1,2,3,4,5,6,7,8,9,10,11,12,13,14,15,16,17,18,19,20,21,22,23,24,25,26,27,28,29,30,31]
["Vorhabenbezogen",{"$nulls":33},{"$f":"SUM(D164:AH164)","v":{"v":0,"d":"0.00"}}]
["Sonstige 1)",{"$nulls":33},{"$f":"SUM(D165:AH165)","v":{"v":0,"d":"0.00"}}]
["Produktive Gesamtstunden",null,null,{"$f":"SUM(D164:D165)","v":{"v":0,"d":"0.00"}},{"$f":"SUM(E164:E165)","v":{"v":0,"d":"0.00"}},{"v":0,"d":"0.00"},{"v":0,"d":"0.00"},{"v":0,"d":"0.00"},{"v":0,"d":"0.00"},{"v":0,"d":"0.00"},{"v":0,"d":"0.00"},{"v":0,"d":"0.00"},{"v":0,"d":"0.00"},{"v":0,"d":"0.00"},{"v":0,"d":"0.00"},{"v":0,"d":"0.00"},{"v":0,"d":"0.00"},{"v":0,"d":"0.00"},{"v":0,"d":"0.00"},{"v":0,"d":"0.00"},{"v":0,"d":"0.00"},{"v":0,"d":"0.00"},{"v":0,"d":"0.00"},{"v":0,"d":"0.00"},{"v":0,"d":"0.00"},{"v":0,"d":"0.00"},{"v":0,"d":"0.00"},{"v":0,"d":"0.00"},{"v":0,"d":"0.00"},{"v":0,"d":"0.00"},{"v":0,"d":"0.00"},{"v":0,"d":"0.00"},{"v":0,"d":"0.00"},{"v":0,"d":"0.00"},{"$f":"SUM(D166:AH166)","v":{"v":0,"d":"0.00"}}]
[]
[]
["nachrichtlich:"]
["Fehlzeiten (z.B. Urlaub, \nKrankheit, Fortbildung)",{"$nulls":33},{"$f":"SUM(D170:AH170)","v":{"v":0,"d":"0.00"}}]
[]
[]
["1)  ggf. Angabe des FKZ. anderer geförderter Projekte:"]
[]
[]
[]
[]
[]
[]
["Unterschrift des Vorgesetzten",{"$nulls":12},"Unterschrift des Mitarbeiters"]
[]
[{"$nulls":23},"Förderkennzeichen :",{"$nulls":5},{"$f":"IF($AD$2=\"\",\"\",$AD$2)","v":""}]
["   Zuwendungsempfänger (Firmenstempel)"]
["Stundennachweis"]
["für pauschalierte Abrechnung gemäß Nr. 6 ANBest-P-Kosten (Anlage 1 zum Verwendungsnachweis)"]
[]
["Der Original-Stundennachweis verbleibt beim Zuwendungsempfänger."]
[]
["Vorhabenthema"]
[{"$f":"IF($A$10=\"\",\"\",$A154)","v":""}]
[]
["Monat",null,"Jahr",{"$nulls":8},"Mitarbeiter(in) [Name, Vorname]"]
["Juni",null,{"$f":"C13","v":0},{"$nulls":8},{"$f":"IF($L$13=\"\",\"\",$L$13)","v":""}]
[]
["Die zu Lasten des Vorhabens abzurechnenden Personalstunden sind täglich eingenhändig von der betreffenden Person zu erfassen. Nur die produktiven, für das Vorhaben"]
["geleisteten Stundenn sind zuwendungsfähig."]
[]
["Tätigkeiten",null,null,"Arbeitszeiten in Stunden je Kalendertag",{"$nulls":30},"Summe der \nMonats- stunden"]
[{"$nulls":3},1,2,3,4,5,6,7,8,9,10,11,12,13,14,15,16,17,18,19,20,21,22,23,24,25,26,27,28,29,30,31]
["Vorhabenbezogen",{"$nulls":33},{"$f":"SUM(D200:AH200)","v":{"v":0,"d":"0.00"}}]
["Sonstige 1)",{"$nulls":33},{"$f":"SUM(D201:AH201)","v":{"v":0,"d":"0.00"}}]
["Produktive Gesamtstunden",null,null,{"$f":"SUM(D200:D201)","v":{"v":0,"d":"0.00"}},{"$f":"SUM(E200:E201)","v":{"v":0,"d":"0.00"}},{"v":0,"d":"0.00"},{"v":0,"d":"0.00"},{"v":0,"d":"0.00"},{"v":0,"d":"0.00"},{"v":0,"d":"0.00"},{"v":0,"d":"0.00"},{"v":0,"d":"0.00"},{"v":0,"d":"0.00"},{"v":0,"d":"0.00"},{"v":0,"d":"0.00"},{"v":0,"d":"0.00"},{"v":0,"d":"0.00"},{"v":0,"d":"0.00"},{"v":0,"d":"0.00"},{"v":0,"d":"0.00"},{"v":0,"d":"0.00"},{"v":0,"d":"0.00"},{"v":0,"d":"0.00"},{"v":0,"d":"0.00"},{"v":0,"d":"0.00"},{"v":0,"d":"0.00"},{"v":0,"d":"0.00"},{"v":0,"d":"0.00"},{"v":0,"d":"0.00"},{"v":0,"d":"0.00"},{"v":0,"d":"0.00"},{"v":0,"d":"0.00"},{"v":0,"d":"0.00"},{"v":0,"d":"0.00"},{"$f":"SUM(D202:AH202)","v":{"v":0,"d":"0.00"}}]
[]
[]
["nachrichtlich:"]
["Fehlzeiten (z.B. Urlaub, \nKrankheit, Fortbildung)",{"$nulls":33},{"$f":"SUM(D206:AH206)","v":{"v":0,"d":"0.00"}}]
[]
[]
["1)  ggf. Angabe des FKZ. anderer geförderter Projekte:"]
[]
[]
[]
[]
[]
[]
["Unterschrift des Vorgesetzten",{"$nulls":12},"Unterschrift des Mitarbeiters"]
[]
[{"$nulls":23},"Förderkennzeichen :",{"$nulls":5},{"$f":"IF($AD$2=\"\",\"\",$AD$2)","v":""}]
["   Zuwendungsempfänger (Firmenstempel)"]
["Stundennachweis"]
["für pauschalierte Abrechnung gemäß Nr. 6 ANBest-P-Kosten (Anlage 1 zum Verwendungsnachweis)"]
[]
["Der Original-Stundennachweis verbleibt beim Zuwendungsempfänger."]
[]
["Vorhabenthema"]
[{"$f":"IF($A$10=\"\",\"\",$A190)","v":""}]
[]
["Monat",null,"Jahr",{"$nulls":8},"Mitarbeiter(in) [Name, Vorname]"]
["Juli",null,{"$f":"C13","v":0},{"$nulls":8},{"$f":"IF($L$13=\"\",\"\",$L$13)","v":""}]
[]
["Die zu Lasten des Vorhabens abzurechnenden Personalstunden sind täglich eingenhändig von der betreffenden Person zu erfassen. Nur die produktiven, für das Vorhaben"]
["geleisteten Stundenn sind zuwendungsfähig."]
[]
["Tätigkeiten",null,null,"Arbeitszeiten in Stunden je Kalendertag",{"$nulls":30},"Summe der \nMonats- stunden"]
[{"$nulls":3},1,2,3,4,5,6,7,8,9,10,11,12,13,14,15,16,17,18,19,20,21,22,23,24,25,26,27,28,29,30,31]
["Vorhabenbezogen",{"$nulls":33},{"$f":"SUM(D236:AH236)","v":{"v":0,"d":"0.00"}}]
["Sonstige 1)",{"$nulls":33},{"$f":"SUM(D237:AH237)","v":{"v":0,"d":"0.00"}}]
["Produktive Gesamtstunden",null,null,{"$f":"SUM(D236:D237)","v":{"v":0,"d":"0.00"}},{"$f":"SUM(E236:E237)","v":{"v":0,"d":"0.00"}},{"v":0,"d":"0.00"},{"v":0,"d":"0.00"},{"v":0,"d":"0.00"},{"v":0,"d":"0.00"},{"v":0,"d":"0.00"},{"v":0,"d":"0.00"},{"v":0,"d":"0.00"},{"v":0,"d":"0.00"},{"v":0,"d":"0.00"},{"v":0,"d":"0.00"},{"v":0,"d":"0.00"},{"v":0,"d":"0.00"},{"v":0,"d":"0.00"},{"v":0,"d":"0.00"},{"v":0,"d":"0.00"},{"v":0,"d":"0.00"},{"v":0,"d":"0.00"},{"v":0,"d":"0.00"},{"v":0,"d":"0.00"},{"v":0,"d":"0.00"},{"v":0,"d":"0.00"},{"v":0,"d":"0.00"},{"v":0,"d":"0.00"},{"v":0,"d":"0.00"},{"v":0,"d":"0.00"},{"v":0,"d":"0.00"},{"v":0,"d":"0.00"},{"v":0,"d":"0.00"},{"v":0,"d":"0.00"},{"$f":"SUM(D238:AH238)","v":{"v":0,"d":"0.00"}}]
[]
[]
["nachrichtlich:"]
["Fehlzeiten (z.B. Urlaub, \nKrankheit, Fortbildung)",{"$nulls":33},{"$f":"SUM(D242:AH242)","v":{"v":0,"d":"0.00"}}]
[]
[]
["1)  ggf. Angabe des FKZ. anderer geförderter Projekte:"]
[]
[]
[]
[]
[]
[]
["Unterschrift des Vorgesetzten",{"$nulls":12},"Unterschrift des Mitarbeiters"]
[]
[{"$nulls":23},"Förderkennzeichen :",{"$nulls":5},{"$f":"IF($AD$2=\"\",\"\",$AD$2)","v":""}]
["   Zuwendungsempfänger (Firmenstempel)"]
["Stundennachweis"]
["für pauschalierte Abrechnung gemäß Nr. 6 ANBest-P-Kosten (Anlage 1 zum Verwendungsnachweis)"]
[]
["Der Original-Stundennachweis verbleibt beim Zuwendungsempfänger."]
[]
["Vorhabenthema"]
[{"$f":"IF($A$10=\"\",\"\",$A226)","v":""}]
[]
["Monat",null,"Jahr",{"$nulls":8},"Mitarbeiter(in) [Name, Vorname]"]
["August",null,{"$f":"C13","v":0},{"$nulls":8},{"$f":"IF($L$13=\"\",\"\",$L$13)","v":""}]
[]
["Die zu Lasten des Vorhabens abzurechnenden Personalstunden sind täglich eingenhändig von der betreffenden Person zu erfassen. Nur die produktiven, für das Vorhaben"]
["geleisteten Stundenn sind zuwendungsfähig."]
[]
["Tätigkeiten",null,null,"Arbeitszeiten in Stunden je Kalendertag",{"$nulls":30},"Summe der \nMonats- stunden"]
[{"$nulls":3},1,2,3,4,5,6,7,8,9,10,11,12,13,14,15,16,17,18,19,20,21,22,23,24,25,26,27,28,29,30,31]
["Vorhabenbezogen",{"$nulls":33},{"$f":"SUM(D272:AH272)","v":{"v":0,"d":"0.00"}}]
["Sonstige 1)",{"$nulls":33},{"$f":"SUM(D273:AH273)","v":{"v":0,"d":"0.00"}}]
["Produktive Gesamtstunden",null,null,{"$f":"SUM(D272:D273)","v":{"v":0,"d":"0.00"}},{"$f":"SUM(E272:E273)","v":{"v":0,"d":"0.00"}},{"v":0,"d":"0.00"},{"v":0,"d":"0.00"},{"v":0,"d":"0.00"},{"v":0,"d":"0.00"},{"v":0,"d":"0.00"},{"v":0,"d":"0.00"},{"v":0,"d":"0.00"},{"v":0,"d":"0.00"},{"v":0,"d":"0.00"},{"v":0,"d":"0.00"},{"v":0,"d":"0.00"},{"v":0,"d":"0.00"},{"v":0,"d":"0.00"},{"v":0,"d":"0.00"},{"v":0,"d":"0.00"},{"v":0,"d":"0.00"},{"v":0,"d":"0.00"},{"v":0,"d":"0.00"},{"v":0,"d":"0.00"},{"v":0,"d":"0.00"},{"v":0,"d":"0.00"},{"v":0,"d":"0.00"},{"v":0,"d":"0.00"},{"v":0,"d":"0.00"},{"v":0,"d":"0.00"},{"v":0,"d":"0.00"},{"v":0,"d":"0.00"},{"v":0,"d":"0.00"},{"v":0,"d":"0.00"},{"$f":"SUM(D274:AH274)","v":{"v":0,"d":"0.00"}}]
[]
[]
["nachrichtlich:"]
["Fehlzeiten (z.B. Urlaub, \nKrankheit, Fortbildung)",{"$nulls":33},{"$f":"SUM(D278:AH278)","v":{"v":0,"d":"0.00"}}]
[]
[]
["1)  ggf. Angabe des FKZ. anderer geförderter Projekte:"]
[]
[]
[]
[]
[]
[]
["Unterschrift des Vorgesetzten",{"$nulls":12},"Unterschrift des Mitarbeiters"]
[]
[{"$nulls":23},"Förderkennzeichen :",{"$nulls":5},{"$f":"IF($AD$2=\"\",\"\",$AD$2)","v":""}]
["   Zuwendungsempfänger (Firmenstempel)"]
["Stundennachweis"]
["für pauschalierte Abrechnung gemäß Nr. 6 ANBest-P-Kosten (Anlage 1 zum Verwendungsnachweis)"]
[]
["Der Original-Stundennachweis verbleibt beim Zuwendungsempfänger."]
[]
["Vorhabenthema"]
[{"$f":"IF($A$10=\"\",\"\",$A262)","v":""}]
[]
["Monat",null,"Jahr",{"$nulls":8},"Mitarbeiter(in) [Name, Vorname]"]
["September",null,{"$f":"C13","v":0},{"$nulls":8},{"$f":"IF($L$13=\"\",\"\",$L$13)","v":""}]
[]
["Die zu Lasten des Vorhabens abzurechnenden Personalstunden sind täglich eingenhändig von der betreffenden Person zu erfassen. Nur die produktiven, für das Vorhaben"]
["geleisteten Stundenn sind zuwendungsfähig."]
[]
["Tätigkeiten",null,null,"Arbeitszeiten in Stunden je Kalendertag",{"$nulls":30},"Summe der \nMonats- stunden"]
[{"$nulls":3},1,2,3,4,5,6,7,8,9,10,11,12,13,14,15,16,17,18,19,20,21,22,23,24,25,26,27,28,29,30,31]
["Vorhabenbezogen",{"$nulls":33},{"$f":"SUM(D308:AH308)","v":{"v":0,"d":"0.00"}}]
["Sonstige 1)",{"$nulls":33},{"$f":"SUM(D309:AH309)","v":{"v":0,"d":"0.00"}}]
["Produktive Gesamtstunden",null,null,{"$f":"SUM(D308:D309)","v":{"v":0,"d":"0.00"}},{"$f":"SUM(E308:E309)","v":{"v":0,"d":"0.00"}},{"v":0,"d":"0.00"},{"v":0,"d":"0.00"},{"v":0,"d":"0.00"},{"v":0,"d":"0.00"},{"v":0,"d":"0.00"},{"v":0,"d":"0.00"},{"v":0,"d":"0.00"},{"v":0,"d":"0.00"},{"v":0,"d":"0.00"},{"v":0,"d":"0.00"},{"v":0,"d":"0.00"},{"v":0,"d":"0.00"},{"v":0,"d":"0.00"},{"v":0,"d":"0.00"},{"v":0,"d":"0.00"},{"v":0,"d":"0.00"},{"v":0,"d":"0.00"},{"v":0,"d":"0.00"},{"v":0,"d":"0.00"},{"v":0,"d":"0.00"},{"v":0,"d":"0.00"},{"v":0,"d":"0.00"},{"v":0,"d":"0.00"},{"v":0,"d":"0.00"},{"v":0,"d":"0.00"},{"v":0,"d":"0.00"},{"v":0,"d":"0.00"},{"v":0,"d":"0.00"},{"v":0,"d":"0.00"},{"$f":"SUM(D310:AH310)","v":{"v":0,"d":"0.00"}}]
[]
[]
["nachrichtlich:"]
["Fehlzeiten (z.B. Urlaub, \nKrankheit, Fortbildung)",{"$nulls":33},{"$f":"SUM(D314:AH314)","v":{"v":0,"d":"0.00"}}]
[]
[]
["1)  ggf. Angabe des FKZ. anderer geförderter Projekte:"]
[]
[]
[]
[]
[]
[]
["Unterschrift des Vorgesetzten",{"$nulls":12},"Unterschrift des Mitarbeiters"]
[]
[{"$nulls":23},"Förderkennzeichen :",{"$nulls":5},{"$f":"IF($AD$2=\"\",\"\",$AD$2)","v":""}]
["   Zuwendungsempfänger (Firmenstempel)"]
["Stundennachweis"]
["für pauschalierte Abrechnung gemäß Nr. 6 ANBest-P-Kosten (Anlage 1 zum Verwendungsnachweis)"]
[]
["Der Original-Stundennachweis verbleibt beim Zuwendungsempfänger."]
[]
["Vorhabenthema"]
[{"$f":"IF($A$10=\"\",\"\",$A298)","v":""}]
[]
["Monat",null,"Jahr",{"$nulls":8},"Mitarbeiter(in) [Name, Vorname]"]
["Oktober",null,{"$f":"C13","v":0},{"$nulls":8},{"$f":"IF($L$13=\"\",\"\",$L$13)","v":""}]
[]
["Die zu Lasten des Vorhabens abzurechnenden Personalstunden sind täglich eingenhändig von der betreffenden Person zu erfassen. Nur die produktiven, für das Vorhaben"]
["geleisteten Stundenn sind zuwendungsfähig."]
[]
["Tätigkeiten",null,null,"Arbeitszeiten in Stunden je Kalendertag",{"$nulls":30},"Summe der \nMonats- stunden"]
[{"$nulls":3},1,2,3,4,5,6,7,8,9,10,11,12,13,14,15,16,17,18,19,20,21,22,23,24,25,26,27,28,29,30,31]
["Vorhabenbezogen",{"$nulls":33},{"$f":"SUM(D344:AH344)","v":{"v":0,"d":"0.00"}}]
["Sonstige 1)",{"$nulls":33},{"$f":"SUM(D345:AH345)","v":{"v":0,"d":"0.00"}}]
["Produktive Gesamtstunden",null,null,{"$f":"SUM(D344:D345)","v":{"v":0,"d":"0.00"}},{"$f":"SUM(E344:E345)","v":{"v":0,"d":"0.00"}},{"v":0,"d":"0.00"},{"v":0,"d":"0.00"},{"v":0,"d":"0.00"},{"v":0,"d":"0.00"},{"v":0,"d":"0.00"},{"v":0,"d":"0.00"},{"v":0,"d":"0.00"},{"v":0,"d":"0.00"},{"v":0,"d":"0.00"},{"v":0,"d":"0.00"},{"v":0,"d":"0.00"},{"v":0,"d":"0.00"},{"v":0,"d":"0.00"},{"v":0,"d":"0.00"},{"v":0,"d":"0.00"},{"v":0,"d":"0.00"},{"v":0,"d":"0.00"},{"v":0,"d":"0.00"},{"v":0,"d":"0.00"},{"v":0,"d":"0.00"},{"v":0,"d":"0.00"},{"v":0,"d":"0.00"},{"v":0,"d":"0.00"},{"v":0,"d":"0.00"},{"v":0,"d":"0.00"},{"v":0,"d":"0.00"},{"v":0,"d":"0.00"},{"v":0,"d":"0.00"},{"v":0,"d":"0.00"},{"$f":"SUM(D346:AH346)","v":{"v":0,"d":"0.00"}}]
[]
[]
["nachrichtlich:"]
["Fehlzeiten (z.B. Urlaub, \nKrankheit, Fortbildung)",{"$nulls":33},{"$f":"SUM(D350:AH350)","v":{"v":0,"d":"0.00"}}]
[]
[]
["1)  ggf. Angabe des FKZ. anderer geförderter Projekte:"]
[]
[]
[]
[]
[]
[]
["Unterschrift des Vorgesetzten",{"$nulls":12},"Unterschrift des Mitarbeiters"]
[]
[{"$nulls":23},"Förderkennzeichen :",{"$nulls":5},{"$f":"IF($AD$2=\"\",\"\",$AD$2)","v":""}]
["   Zuwendungsempfänger (Firmenstempel)"]
["Stundennachweis"]
["für pauschalierte Abrechnung gemäß Nr. 6 ANBest-P-Kosten (Anlage 1 zum Verwendungsnachweis)"]
[]
["Der Original-Stundennachweis verbleibt beim Zuwendungsempfänger."]
[]
["Vorhabenthema"]
[{"$f":"IF($A$10=\"\",\"\",$A334)","v":""}]
[]
["Monat",null,"Jahr",{"$nulls":8},"Mitarbeiter(in) [Name, Vorname]"]
["November",null,{"$f":"C13","v":0},{"$nulls":8},{"$f":"IF($L$13=\"\",\"\",$L$13)","v":""}]
[]
["Die zu Lasten des Vorhabens abzurechnenden Personalstunden sind täglich eingenhändig von der betreffenden Person zu erfassen. Nur die produktiven, für das Vorhaben"]
["geleisteten Stundenn sind zuwendungsfähig."]
[]
["Tätigkeiten",null,null,"Arbeitszeiten in Stunden je Kalendertag",{"$nulls":30},"Summe der \nMonats- stunden"]
[{"$nulls":3},1,2,3,4,5,6,7,8,9,10,11,12,13,14,15,16,17,18,19,20,21,22,23,24,25,26,27,28,29,30,31]
["Vorhabenbezogen",{"$nulls":33},{"$f":"SUM(D380:AH380)","v":{"v":0,"d":"0.00"}}]
["Sonstige 1)",{"$nulls":33},{"$f":"SUM(D381:AH381)","v":{"v":0,"d":"0.00"}}]
["Produktive Gesamtstunden",null,null,{"$f":"SUM(D380:D381)","v":{"v":0,"d":"0.00"}},{"$f":"SUM(E380:E381)","v":{"v":0,"d":"0.00"}},{"v":0,"d":"0.00"},{"v":0,"d":"0.00"},{"v":0,"d":"0.00"},{"v":0,"d":"0.00"},{"v":0,"d":"0.00"},{"v":0,"d":"0.00"},{"v":0,"d":"0.00"},{"v":0,"d":"0.00"},{"v":0,"d":"0.00"},{"v":0,"d":"0.00"},{"v":0,"d":"0.00"},{"v":0,"d":"0.00"},{"v":0,"d":"0.00"},{"v":0,"d":"0.00"},{"v":0,"d":"0.00"},{"v":0,"d":"0.00"},{"v":0,"d":"0.00"},{"v":0,"d":"0.00"},{"v":0,"d":"0.00"},{"v":0,"d":"0.00"},{"v":0,"d":"0.00"},{"v":0,"d":"0.00"},{"v":0,"d":"0.00"},{"v":0,"d":"0.00"},{"v":0,"d":"0.00"},{"v":0,"d":"0.00"},{"v":0,"d":"0.00"},{"v":0,"d":"0.00"},{"v":0,"d":"0.00"},{"$f":"SUM(D382:AH382)","v":{"v":0,"d":"0.00"}}]
[]
[]
["nachrichtlich:"]
["Fehlzeiten (z.B. Urlaub, \nKrankheit, Fortbildung)",{"$nulls":33},{"$f":"SUM(D386:AH386)","v":{"v":0,"d":"0.00"}}]
[]
[]
["1)  ggf. Angabe des FKZ. anderer geförderter Projekte:"]
[]
[]
[]
[]
[]
[]
["Unterschrift des Vorgesetzten",{"$nulls":12},"Unterschrift des Mitarbeiters"]
[]
[{"$nulls":23},"Förderkennzeichen :",{"$nulls":5},{"$f":"IF($AD$2=\"\",\"\",$AD$2)","v":""}]
["   Zuwendungsempfänger (Firmenstempel)"]
["Stundennachweis"]
["für pauschalierte Abrechnung gemäß Nr. 6 ANBest-P-Kosten (Anlage 1 zum Verwendungsnachweis)"]
[]
["Der Original-Stundennachweis verbleibt beim Zuwendungsempfänger."]
[]
["Vorhabenthema"]
[{"$f":"IF($A$10=\"\",\"\",$A370)","v":""}]
[]
["Monat",null,"Jahr",{"$nulls":8},"Mitarbeiter(in) [Name, Vorname]"]
["Dezember",null,{"$f":"C13","v":0},{"$nulls":8},{"$f":"IF($L$13=\"\",\"\",$L$13)","v":""}]
[]
["Die zu Lasten des Vorhabens abzurechnenden Personalstunden sind täglich eingenhändig von der betreffenden Person zu erfassen. Nur die produktiven, für das Vorhaben"]
["geleisteten Stundenn sind zuwendungsfähig."]
[]
["Tätigkeiten",null,null,"Arbeitszeiten in Stunden je Kalendertag",{"$nulls":30},"Summe der \nMonats- stunden"]
[{"$nulls":3},1,2,3,4,5,6,7,8,9,10,11,12,13,14,15,16,17,18,19,20,21,22,23,24,25,26,27,28,29,30,31]
["Vorhabenbezogen",{"$nulls":33},{"$f":"SUM(D416:AH416)","v":{"v":0,"d":"0.00"}}]
["Sonstige 1)",{"$nulls":33},{"$f":"SUM(D417:AH417)","v":{"v":0,"d":"0.00"}}]
["Produktive Gesamtstunden",null,null,{"$f":"SUM(D416:D417)","v":0},{"$f":"SUM(E416:E417)","v":{"v":0,"d":"0.00"}},{"v":0,"d":"0.00"},{"v":0,"d":"0.00"},{"v":0,"d":"0.00"},{"v":0,"d":"0.00"},{"v":0,"d":"0.00"},{"v":0,"d":"0.00"},{"v":0,"d":"0.00"},{"v":0,"d":"0.00"},{"v":0,"d":"0.00"},{"v":0,"d":"0.00"},{"v":0,"d":"0.00"},{"v":0,"d":"0.00"},{"v":0,"d":"0.00"},{"v":0,"d":"0.00"},{"v":0,"d":"0.00"},{"v":0,"d":"0.00"},{"v":0,"d":"0.00"},{"v":0,"d":"0.00"},{"v":0,"d":"0.00"},{"v":0,"d":"0.00"},{"v":0,"d":"0.00"},{"v":0,"d":"0.00"},{"v":0,"d":"0.00"},{"v":0,"d":"0.00"},{"v":0,"d":"0.00"},{"v":0,"d":"0.00"},{"v":0,"d":"0.00"},{"v":0,"d":"0.00"},{"v":0,"d":"0.00"},{"$f":"SUM(D418:AH418)","v":{"v":0,"d":"0.00"}}]
[]
[]
["nachrichtlich:"]
["Fehlzeiten (z.B. Urlaub, \nKrankheit, Fortbildung)",{"$nulls":33},{"$f":"SUM(D422:AH422)","v":{"v":0,"d":"0.00"}}]
[]
[]
["1)  ggf. Angabe des FKZ. anderer geförderter Projekte:"]
[]
[]
[]
[]
[]
[]
["Unterschrift des Vorgesetzten",{"$nulls":12},"Unterschrift des Mitarbeiters"]

{"sheet":"Jahresstd.satz Mitarbeiter J","index":20,"n_rows":38,"n_cols":15,"rows_kept":38,"merged":[[1,0,1,3],[1,8,1,10],[1,11,1,14],[5,0,5,14],[6,0,6,14],[10,0,10,14],[13,4,13,14],[16,0,17,1],[16,14,17,14],[18,0,18,1],[19,0,19,1],[20,0,20,1],[28,11,28,13],[29,6,29,8],[29,9,30,10],[29,11,30,13],[30,6,30,8]]}
[]
[{"$nulls":8},"Förderkennzeichen:       ",null,null,{"$f":"IF('Stundennachweise Mitarbeiter J'!AD2=0,\"\",'Stundennachweise Mitarbeiter J'!AD2)","v":""}]
["   Zuwendungsempfänger (Firmenstempel)"]
[]
[]
["Ermittlung des Jahresstundensatzes"]
["bei pauschalierter Abrechnung gemäß Nr. 6 ANBest-P-Kosten (Anlage 2 zum Verwendungsnachweis)"]
[]
[]
["Vorhabenthema"]
[{"$f":"IF('Stundennachweise Mitarbeiter J'!A10:AI10=\"\",\"\",'Stundennachweise Mitarbeiter J'!A10:AI10)","v":""}]
[]
["Jahr",{"$nulls":3},"Mitarbeiter(in) [Name, Vorname]"]
[{"$f":"IF('Stundennachweise Mitarbeiter J'!C13=\"\",\"\",'Stundennachweise Mitarbeiter J'!C13)","v":""},{"$nulls":3},{"$f":"IF('Stundennachweise Mitarbeiter J'!L13=\"\",\"\",'Stundennachweise Mitarbeiter J'!L13)","v":""}]
[]
["1. Jahresstunden lt. monatlichen Stundennachweisen"]
["Tätigkeiten",null,"Arbeitszeit in Stunden je Monat:",{"$nulls":11},"Summe der Jahresstunden"]
[null,null,"Januar","Februar","März","April","Mai","Juni","Juli","August","Sept.","Oktober","Nov.","Dez."]
["Vorhabenbezogen",null,{"$f":"'Stundennachweise Mitarbeiter J'!AI20","v":{"v":0,"d":"0.00"}},{"$f":"'Stundennachweise Mitarbeiter J'!AI56","v":{"v":0,"d":"0.00"}},{"$f":"'Stundennachweise Mitarbeiter J'!AI92","v":{"v":0,"d":"0.00"}},{"$f":"'Stundennachweise Mitarbeiter J'!AI128","v":{"v":0,"d":"0.00"}},{"$f":"'Stundennachweise Mitarbeiter J'!AI164","v":{"v":0,"d":"0.00"}},{"$f":"'Stundennachweise Mitarbeiter J'!AI200","v":{"v":0,"d":"0.00"}},{"$f":"'Stundennachweise Mitarbeiter J'!AI236","v":{"v":0,"d":"0.00"}},{"$f":"'Stundennachweise Mitarbeiter J'!AI272","v":{"v":0,"d":"0.00"}},{"$f":"'Stundennachweise Mitarbeiter J'!AI308","v":{"v":0,"d":"0.00"}},{"$f":"'Stundennachweise Mitarbeiter J'!AI344","v":{"v":0,"d":"0.00"}},{"$f":"'Stundennachweise Mitarbeiter J'!AI380","v":{"v":0,"d":"0.00"}},{"$f":"'Stundennachweise Mitarbeiter J'!AI416","v":{"v":0,"d":"0.00"}},{"$f":"SUM(C19:N19)","v":{"v":0,"d":"0.00"}}]
["Sonstige",null,{"$f":"'Stundennachweise Mitarbeiter J'!AI21","v":{"v":0,"d":"0.00"}},{"$f":"'Stundennachweise Mitarbeiter J'!AI57","v":{"v":0,"d":"0.00"}},{"$f":"'Stundennachweise Mitarbeiter J'!AI93","v":{"v":0,"d":"0.00"}},{"$f":"'Stundennachweise Mitarbeiter J'!AI129","v":{"v":0,"d":"0.00"}},{"$f":"'Stundennachweise Mitarbeiter J'!AI165","v":{"v":0,"d":"0.00"}},{"$f":"'Stundennachweise Mitarbeiter J'!AI201","v":{"v":0,"d":"0.00"}},{"$f":"'Stundennachweise Mitarbeiter J'!AI237","v":{"v":0,"d":"0.00"}},{"$f":"'Stundennachweise Mitarbeiter J'!AI273","v":{"v":0,"d":"0.00"}},{"$f":"'Stundennachweise Mitarbeiter J'!AI309","v":{"v":0,"d":"0.00"}},{"$f":"'Stundennachweise Mitarbeiter J'!AI345","v":{"v":0,"d":"0.00"}},{"$f":"'Stundennachweise Mitarbeiter J'!AI381","v":{"v":0,"d":"0.00"}},{"$f":"'Stundennachweise Mitarbeiter J'!AI417","v":{"v":0,"d":"0.00"}},{"$f":"SUM(C20:N20)","v":{"v":0,"d":"0.00"}}]
["Produktive Gesamtstunden",null,{"$f":"'Stundennachweise Mitarbeiter J'!AI22","v":{"v":0,"d":"0.00"}},{"$f":"'Stundennachweise Mitarbeiter J'!AI58","v":{"v":0,"d":"0.00"}},{"$f":"'Stundennachweise Mitarbeiter J'!AI94","v":{"v":0,"d":"0.00"}},{"$f":"'Stundennachweise Mitarbeiter J'!AI130","v":{"v":0,"d":"0.00"}},{"$f":"'Stundennachweise Mitarbeiter J'!AI166","v":{"v":0,"d":"0.00"}},{"$f":"'Stundennachweise Mitarbeiter J'!AI202","v":{"v":0,"d":"0.00"}},{"$f":"'Stundennachweise Mitarbeiter J'!AI238","v":{"v":0,"d":"0.00"}},{"$f":"'Stundennachweise Mitarbeiter J'!AI274","v":{"v":0,"d":"0.00"}},{"$f":"'Stundennachweise Mitarbeiter J'!AI310","v":{"v":0,"d":"0.00"}},{"$f":"'Stundennachweise Mitarbeiter J'!AI346","v":{"v":0,"d":"0.00"}},{"$f":"'Stundennachweise Mitarbeiter J'!AI382","v":{"v":0,"d":"0.00"}},{"$f":"'Stundennachweise Mitarbeiter J'!AI418","v":{"v":0,"d":"0.00"}},{"$f":"SUM(C21:N21)","v":{"v":0,"d":"0.00"}}]
[]
["nachrichtlich:"]
["Fehlzeiten (z.B. Urlaub, Krankheit, Fortbildung)",null,{"$f":"'Stundennachweise Mitarbeiter J'!AI26","v":{"v":0,"d":"0.00"}},{"$f":"'Stundennachweise Mitarbeiter J'!AI62","v":{"v":0,"d":"0.00"}},{"$f":"'Stundennachweise Mitarbeiter J'!AI98","v":{"v":0,"d":"0.00"}},{"$f":"'Stundennachweise Mitarbeiter J'!AI134","v":{"v":0,"d":"0.00"}},{"$f":"'Stundennachweise Mitarbeiter J'!AI170","v":{"v":0,"d":"0.00"}},{"$f":"'Stundennachweise Mitarbeiter J'!AI206","v":{"v":0,"d":"0.00"}},{"$f":"'Stundennachweise Mitarbeiter J'!AI242","v":{"v":0,"d":"0.00"}},{"$f":"'Stundennachweise Mitarbeiter J'!AI278","v":{"v":0,"d":"0.00"}},{"$f":"'Stundennachweise Mitarbeiter J'!AI314","v":{"v":0,"d":"0.00"}},{"$f":"'Stundennachweise Mitarbeiter J'!AI350","v":{"v":0,"d":"0.00"}},{"$f":"'Stundennachweise Mitarbeiter J'!AI386","v":{"v":0,"d":"0.00"}},{"$f":"'Stundennachweise Mitarbeiter J'!AI422","v":{"v":0,"d":"0.00"}},{"$f":"SUM(C24:N24)","v":{"v":0,"d":"0.00"}}]
[]
[]
["2. Berechnung des Jahresstundensatzes"]
[]
[{"$nulls":11},"Jahresstundensatz"]
["Bruttojahreslohn/ -gehalt 1)",{"$nulls":8},"=",null,{"$f":"IF(G30=\"\",\"\",G30/G31)","v":""}]
["Jahresarbeitsstunden lt. Tarifvertrag/Betriebsvereinbarung/Arbeitsvertrag 2)"]
[]
[]
[]
[]
["1)   Personalkosten i.S. der Nr. 6.1.3 ANBest-P-Kosten"]
[]
["2)   Bei tatsächlich mehr geleisteten produktiven Gesamtstunden (vorhabenbezogene und sonstige) gelten diese Gesamtsunden als Divisor"]